BEGIN:VCALENDAR
VERSION:2.0
PRODID:-//Del Ray Artisans - ECPv6.15.20//NONSGML v1.0//EN
CALSCALE:GREGORIAN
METHOD:PUBLISH
X-WR-CALNAME:Del Ray Artisans
X-ORIGINAL-URL:https://delrayartisans.org
X-WR-CALDESC:Events for Del Ray Artisans
REFRESH-INTERVAL;VALUE=DURATION:PT1H
X-Robots-Tag:noindex
X-PUBLISHED-TTL:PT1H
BEGIN:VTIMEZONE
TZID:America/New_York
BEGIN:DAYLIGHT
TZOFFSETFROM:-0500
TZOFFSETTO:-0400
TZNAME:EDT
DTSTART:20180311T070000
END:DAYLIGHT
BEGIN:STANDARD
TZOFFSETFROM:-0400
TZOFFSETTO:-0500
TZNAME:EST
DTSTART:20181104T060000
END:STANDARD
BEGIN:DAYLIGHT
TZOFFSETFROM:-0500
TZOFFSETTO:-0400
TZNAME:EDT
DTSTART:20190310T070000
END:DAYLIGHT
BEGIN:STANDARD
TZOFFSETFROM:-0400
TZOFFSETTO:-0500
TZNAME:EST
DTSTART:20191103T060000
END:STANDARD
BEGIN:DAYLIGHT
TZOFFSETFROM:-0500
TZOFFSETTO:-0400
TZNAME:EDT
DTSTART:20200308T070000
END:DAYLIGHT
BEGIN:STANDARD
TZOFFSETFROM:-0400
TZOFFSETTO:-0500
TZNAME:EST
DTSTART:20201101T060000
END:STANDARD
END:VTIMEZONE
BEGIN:VEVENT
DTSTART;VALUE=DATE:20191008
DTEND;VALUE=DATE:20191009
DTSTAMP:20260424T215657
CREATED:20230410T144109Z
LAST-MODIFIED:20230410T144109Z
UID:10000964-1570492800-1570579199@delrayartisans.org
SUMMARY:Pre-order Del Ray Artisans 2020 Wall Calendar Deadline
DESCRIPTION:Del Ray Artisans’ 2020 Wall Calendar featuring artwork by Del Ray Artisans members is available for pre-order now for just $16/calendar. (Regular price $19/calendar.) The pre-order discount price is only available until October 8. Pre-ordering the calendar helps our organization estimate how many calendars to order. If you pre-order\, you will be notified when the calendars arrive\, so you can come pick up your purchase. \nPLEASE NOTE: Calendars will NOT be shipped. You will be notified when your order is ready to be picked up\, and then come pick it up at your convenience! \nPre-populated events in the calendar include Del Ray Artisans events\, community events\, national holidays\, and major religious holidays. \nPre-order Now
URL:https://delrayartisans.org/event/pre-order-del-ray-artisans-2020-wall-calendar-deadline/
LOCATION:Online
ATTACH;FMTTYPE=image/jpeg:https://delrayartisans.org/wp-content/uploads/1992/12/event-archive-image.jpg
END:VEVENT
BEGIN:VEVENT
DTSTART;TZID=America/New_York:20190924T235000
DTEND;TZID=America/New_York:20190924T235900
DTSTAMP:20260424T215657
CREATED:20230410T144031Z
LAST-MODIFIED:20230410T163326Z
UID:10000952-1569369000-1569369540@delrayartisans.org
SUMMARY:"Creature Comforts" Call for Entry Deadline
DESCRIPTION:“Boxer Blues” by Monica Hokeilen\nMembers must submit their entries via the online entry form by midnight on Tuesday\, September 24\, 2019 to be considered for the exhibit.
URL:https://delrayartisans.org/event/creature-comforts-cfe-deadline/
LOCATION:Online
CATEGORIES:Entry Deadline
ATTACH;FMTTYPE=image/jpeg:https://delrayartisans.org/wp-content/uploads/1992/12/event-archive-image.jpg
END:VEVENT
BEGIN:VEVENT
DTSTART;TZID=America/New_York:20190922T235000
DTEND;TZID=America/New_York:20190922T235900
DTSTAMP:20260424T215657
CREATED:20230410T144027Z
LAST-MODIFIED:20230410T163318Z
UID:10000950-1569196200-1569196740@delrayartisans.org
SUMMARY:"Art Inspired by the Twilight Zone" Call for Entry Deadline
DESCRIPTION:“Wondrous Journey” by Gordon Thomas Frank\nAll area artists must submit their entries via the online entry form by midnight on Sunday\, September 22\, 2019 to be considered for the exhibit.
URL:https://delrayartisans.org/event/art-inspired-by-the-twilight-zone-cfe-deadline/
LOCATION:Online
CATEGORIES:Entry Deadline
ATTACH;FMTTYPE=image/jpeg:https://delrayartisans.org/wp-content/uploads/1992/12/event-archive-image.jpg
END:VEVENT
BEGIN:VEVENT
DTSTART;TZID=America/New_York:20190914T235000
DTEND;TZID=America/New_York:20190914T235900
DTSTAMP:20260424T215657
CREATED:20230410T144014Z
LAST-MODIFIED:20230410T144014Z
UID:10000946-1568505000-1568505540@delrayartisans.org
SUMMARY:Del Ray Artisans 2020 Wall Calendar Entry Deadline
DESCRIPTION:Members must submit their entries via the online entry form by 11:59pm on Saturday\, September 14\, 2019 to be considered for the 2020 wall calendar.
URL:https://delrayartisans.org/event/del-ray-artisans-2020-wall-calendar-entry-deadline/
LOCATION:Online
CATEGORIES:Entry Deadline
ATTACH;FMTTYPE=image/jpeg:https://delrayartisans.org/wp-content/uploads/1992/12/event-archive-image.jpg
END:VEVENT
BEGIN:VEVENT
DTSTART;TZID=America/New_York:20190903T235000
DTEND;TZID=America/New_York:20190903T235900
DTSTAMP:20260424T215657
CREATED:20230410T143944Z
LAST-MODIFIED:20230410T162827Z
UID:10000936-1567554600-1567555140@delrayartisans.org
SUMMARY:Holiday Market Application Deadline
DESCRIPTION:Artists must submit their applications via the online entry form by midnight on Tuesday\, September 3\, 2018 to be considered for the holiday market.
URL:https://delrayartisans.org/event/holiday-market-2019-deadline/
LOCATION:Online
CATEGORIES:Entry Deadline
ATTACH;FMTTYPE=image/jpeg:https://delrayartisans.org/wp-content/uploads/1992/12/event-archive-image.jpg
END:VEVENT
BEGIN:VEVENT
DTSTART;TZID=America/New_York:20190811T235000
DTEND;TZID=America/New_York:20190811T235900
DTSTAMP:20260424T215657
CREATED:20230410T143909Z
LAST-MODIFIED:20230410T162537Z
UID:10000924-1565567400-1565567940@delrayartisans.org
SUMMARY:"High Note" Call for Entry Deadline
DESCRIPTION:“Into the Blue” by Britt Conley\nAll area artists must submit their entries via the online entry form by midnight on Sunday\, August 11\, 2019 to be considered for the exhibit.
URL:https://delrayartisans.org/event/high-note-cfe-deadline/
LOCATION:Online
CATEGORIES:Entry Deadline
ATTACH;FMTTYPE=image/jpeg:https://delrayartisans.org/wp-content/uploads/1992/12/event-archive-image.jpg
END:VEVENT
BEGIN:VEVENT
DTSTART;TZID=America/New_York:20190701T235000
DTEND;TZID=America/New_York:20190701T235900
DTSTAMP:20260424T215657
CREATED:20230410T143756Z
LAST-MODIFIED:20230410T143756Z
UID:10000900-1562025000-1562025540@delrayartisans.org
SUMMARY:2020 Art Exhibit Proposal Deadline
DESCRIPTION:“Put a Bird on It!” exhibit at Del Ray Artisans\, Sept 2014\nCurators must submit their proposals via the online form by midnight on Monday\, July 1\, 2019 to be considered for the 2020 exhibit schedule.
URL:https://delrayartisans.org/event/2020-art-exhibit-proposal-deadline/
LOCATION:Online
CATEGORIES:Entry Deadline
ATTACH;FMTTYPE=image/jpeg:https://delrayartisans.org/wp-content/uploads/1992/12/event-archive-image.jpg
END:VEVENT
BEGIN:VEVENT
DTSTART;TZID=America/New_York:20190617T235000
DTEND;TZID=America/New_York:20190617T235900
DTSTAMP:20260424T215657
CREATED:20230410T143716Z
LAST-MODIFIED:20230410T161140Z
UID:10000888-1560815400-1560815940@delrayartisans.org
SUMMARY:"Fresh Meat" Call for Entry Deadline
DESCRIPTION:Detail of “Fresh Popped Cherry” by Kurt Peterson\nQualified Del Ray Artisans members must submit their entries via the online entry form by midnight on Monday\, June 17\, 2019 to be considered for the exhibit.
URL:https://delrayartisans.org/event/fresh-meat-cfe-deadline/
LOCATION:Online
CATEGORIES:Entry Deadline
ATTACH;FMTTYPE=image/jpeg:https://delrayartisans.org/wp-content/uploads/1992/12/event-archive-image.jpg
END:VEVENT
BEGIN:VEVENT
DTSTART;VALUE=DATE:20190531
DTEND;VALUE=DATE:20190601
DTSTAMP:20260424T215657
CREATED:20230410T143616Z
LAST-MODIFIED:20230410T170206Z
UID:10000868-1559260800-1559347199@delrayartisans.org
SUMMARY:2019 Membership Drive ends May 31
DESCRIPTION:The 2019 Membership Drive ends May 31 by midnight. View information on benefits and joining now! \nAs our way of giving appreciation to our newest members who joined between January 2018 and May 2019\, Del Ray Artisans is hosting a special\, invitational exhibit in August 2019 titled Fresh Meat. Each new member is invited to enter three pieces of artwork for FREE. \nDuring the Membership Drive from February-May 2019\, any current member who recruits a new member is also invited to enter one piece of artwork in this exhibit for FREE. \nFresh Meat does not have a theme and is the perfect opportunity to showcase any and all styles of art. For more information on the exhibit\, contact curators Kurt Peterson (kfpeterson@gmail.com) and Brittany Gabel (brittany@bgmixedmedia.com). For more information on membership\, view information on benefits and joining now.
URL:https://delrayartisans.org/event/membership-drive-2019/
LOCATION:Online
CATEGORIES:Entry Deadline
ATTACH;FMTTYPE=image/jpeg:https://delrayartisans.org/wp-content/uploads/2018/11/membership-drive-postcards.jpg
END:VEVENT
BEGIN:VEVENT
DTSTART;TZID=America/New_York:20190521T235000
DTEND;TZID=America/New_York:20190521T235900
DTSTAMP:20260424T215657
CREATED:20230410T143608Z
LAST-MODIFIED:20230410T160252Z
UID:10000864-1558482600-1558483140@delrayartisans.org
SUMMARY:"Uncommon Alexandria" Call for Entry Deadline
DESCRIPTION:“Potomac From Old Town in Winter” by Monica Hokeilen\nMembers must submit their entries via the online entry form by midnight on Tuesday\, May 21\, 2019 to be considered for the exhibit.
URL:https://delrayartisans.org/event/uncommon-alexandria-cfe-deadline/
LOCATION:Online
CATEGORIES:Entry Deadline
ATTACH;FMTTYPE=image/jpeg:https://delrayartisans.org/wp-content/uploads/1992/12/event-archive-image.jpg
END:VEVENT
BEGIN:VEVENT
DTSTART;TZID=America/New_York:20190512T235000
DTEND;TZID=America/New_York:20190512T235900
DTSTAMP:20260424T215657
CREATED:20230410T143547Z
LAST-MODIFIED:20230410T160203Z
UID:10000858-1557705000-1557705540@delrayartisans.org
SUMMARY:"Art in Meditation - The Chakras" Call for Entry Deadline
DESCRIPTION:Artists must submit their entries via the online entry form by midnight on Sunday\, May 12\, 2019 to be considered for the exhibit.
URL:https://delrayartisans.org/event/art-in-meditation-cfe-deadline/
LOCATION:Online
CATEGORIES:Entry Deadline
ATTACH;FMTTYPE=image/jpeg:https://delrayartisans.org/wp-content/uploads/1992/12/event-archive-image.jpg
END:VEVENT
BEGIN:VEVENT
DTSTART;TZID=America/New_York:20190430T235000
DTEND;TZID=America/New_York:20190430T235900
DTSTAMP:20260424T215657
CREATED:20230410T143524Z
LAST-MODIFIED:20230410T155652Z
UID:10000849-1556668200-1556668740@delrayartisans.org
SUMMARY:Creative Summer Programs Proposal Deadline
DESCRIPTION:Lynn Fernandez teaches Leatherworking at Del Ray Artisans\, Summer 2018\nArtists must submit their proposals via the online form by 11:59pm on Tuesday\, April 30\, 2019  to be included in the first round of program selection and marketing for Del Ray Artisans’ 2019 Creative Summer Programs.
URL:https://delrayartisans.org/event/creative-summer-programs-2019-deadline/
LOCATION:Online
CATEGORIES:Entry Deadline,Program
ATTACH;FMTTYPE=image/jpeg:https://delrayartisans.org/wp-content/uploads/1992/12/event-archive-image.jpg
END:VEVENT
BEGIN:VEVENT
DTSTART;TZID=America/New_York:20190414T235000
DTEND;TZID=America/New_York:20190414T235900
DTSTAMP:20260424T215657
CREATED:20230410T143409Z
LAST-MODIFIED:20230410T154910Z
UID:10000843-1555285800-1555286340@delrayartisans.org
SUMMARY:Spring Art Market Application Deadline
DESCRIPTION:Artists must submit their applications via the online form by 11:59pm on Sunday\, April 14\, 2019  to be considered for the market.
URL:https://delrayartisans.org/event/spring-art-market-2019-deadline/
LOCATION:Online
CATEGORIES:Entry Deadline,Market,Program
ATTACH;FMTTYPE=image/jpeg:https://delrayartisans.org/wp-content/uploads/1992/12/event-archive-image.jpg
END:VEVENT
BEGIN:VEVENT
DTSTART;TZID=America/New_York:20190414T235000
DTEND;TZID=America/New_York:20190414T235900
DTSTAMP:20260424T215657
CREATED:20230410T143407Z
LAST-MODIFIED:20230410T154855Z
UID:10000842-1555285800-1555286340@delrayartisans.org
SUMMARY:"Sacred Feminine" Call for Entry Deadline Extended
DESCRIPTION:All area artists must submit their entries via the online entry form by midnight on Sunday\, April 14\, 2019 to be considered for the exhibit.
URL:https://delrayartisans.org/event/sacred-feminine-cfe-deadline-extended/
LOCATION:Online
CATEGORIES:Entry Deadline
ATTACH;FMTTYPE=image/jpeg:https://delrayartisans.org/wp-content/uploads/1992/12/event-archive-image.jpg
END:VEVENT
BEGIN:VEVENT
DTSTART;VALUE=DATE:20190410
DTEND;VALUE=DATE:20190411
DTSTAMP:20260424T215657
CREATED:20230410T143403Z
LAST-MODIFIED:20230410T154726Z
UID:10000840-1554854400-1554940799@delrayartisans.org
SUMMARY:Spring2ACTion 2019
DESCRIPTION:From Wednesday\, March 27 through Wednesday\, April 10\, 2019 (Giving Day) our community comes together to support the amazing work of Alexandria nonprofits through Spring2ACTion\, hosted by ACT for Alexandria. Please remember Del Ray Artisans is one of those worthy causes! \nDonate March 27 – April 10 \nDuring Spring2ACTion 2019\, please give your support to these three important\, cherished outreach programs which help members of our community grow as individuals and as artists. Donations donated through the campaign links below will be used to directly support that specific program. Donations not designated in the campaigns will support Del Ray Artisans nonprofit directly. \n\nMs Kelli’s Inspiration Matterz brings art instruction to inmates in the Alexandria Detention Center and to women in transition from prison to a life in our community.\nThe Ted Eichers Memorial Art Scholarship helps support a T.C. Williams student study art in college.\nScholarships for our Youth Art Camp help youth ages 8-14 attend camp each July.\n\n.\nPlease make your tax-deductible donation between March 27 and April 10 — and spread the word to friends and family. Every donation is appreciated. Thank you for your support! \nDonate March 27 – April 10 \nAlso on Wednesday\, April 10 from 2-5pm\, Del Ray Artisans is offering a FREE\, clothed\, life drawing session. Bring your drawing supplies and come ready to sketch!
URL:https://delrayartisans.org/event/spring2action-2019/
LOCATION:Online
CATEGORIES:Fundraising,Program
ATTACH;FMTTYPE=image/jpeg:https://delrayartisans.org/wp-content/uploads/1992/12/event-archive-image.jpg
END:VEVENT
BEGIN:VEVENT
DTSTART;TZID=America/New_York:20190408T235000
DTEND;TZID=America/New_York:20190408T235900
DTSTAMP:20260424T215657
CREATED:20230410T143208Z
LAST-MODIFIED:20230410T154532Z
UID:10000837-1554767400-1554767940@delrayartisans.org
SUMMARY:"Sacred Feminine" Call for Entry Deadline
DESCRIPTION:All area artists must submit their entries via the online entry form by midnight on Monday\, April 8\, 2019 to be considered for the exhibit.
URL:https://delrayartisans.org/event/sacred-feminine-cfe-deadline/
LOCATION:Online
CATEGORIES:Entry Deadline
ATTACH;FMTTYPE=image/jpeg:https://delrayartisans.org/wp-content/uploads/1992/12/event-archive-image.jpg
END:VEVENT
BEGIN:VEVENT
DTSTART;TZID=America/New_York:20190317T235000
DTEND;TZID=America/New_York:20190317T235900
DTSTAMP:20260424T215657
CREATED:20230410T142805Z
LAST-MODIFIED:20230410T153925Z
UID:10000826-1552866600-1552867140@delrayartisans.org
SUMMARY:"(No) Comfort Zone" Call for Entry Deadline
DESCRIPTION:“Scribble Scrabble” by Kelli Sincock\nDel Ray Artisans members and high school students must submit their entries via the online entry form by midnight on Sunday\, March 17\, 2019 to be considered for the exhibit.
URL:https://delrayartisans.org/event/no-comfort-zone-cfe-deadline/
LOCATION:Online
CATEGORIES:Entry Deadline
ATTACH;FMTTYPE=image/jpeg:https://delrayartisans.org/wp-content/uploads/1992/12/event-archive-image.jpg
END:VEVENT
BEGIN:VEVENT
DTSTART;TZID=America/New_York:20190216T235000
DTEND;TZID=America/New_York:20190216T235900
DTSTAMP:20260424T215657
CREATED:20230410T142203Z
LAST-MODIFIED:20230410T153504Z
UID:10000811-1550361000-1550361540@delrayartisans.org
SUMMARY:"For the Artist" Call for Entry Deadline
DESCRIPTION:“Blue Green” by Jeff Lodge\nDel Ray Artisans members must submit their entries via the online entry form by midnight on Saturday\, February 16\, 2019 to be considered for the exhibit.
URL:https://delrayartisans.org/event/for-the-artist-cfe-deadline/
LOCATION:Online
CATEGORIES:Entry Deadline
ATTACH;FMTTYPE=image/jpeg:https://delrayartisans.org/wp-content/uploads/1992/12/event-archive-image.jpg
END:VEVENT
BEGIN:VEVENT
DTSTART;TZID=America/New_York:20190116T235000
DTEND;TZID=America/New_York:20190116T235900
DTSTAMP:20260424T215657
CREATED:20230409T161152Z
LAST-MODIFIED:20230409T165403Z
UID:10000778-1547682600-1547683140@delrayartisans.org
SUMMARY:"Re-Connecting Threads" Call for Entry Deadline
DESCRIPTION:Del Ray Artisans member artists must submit their entries via the online entry form by midnight on Wednesday\, January 16\, 2019 to be considered for the exhibit.
URL:https://delrayartisans.org/event/re-connecting-threads-cfe-deadline/
LOCATION:Online
CATEGORIES:Entry Deadline
ATTACH;FMTTYPE=image/jpeg:https://delrayartisans.org/wp-content/uploads/1992/12/event-archive-image.jpg
END:VEVENT
BEGIN:VEVENT
DTSTART;TZID=America/New_York:20190114T235000
DTEND;TZID=America/New_York:20190114T235900
DTSTAMP:20260424T215657
CREATED:20230409T161145Z
LAST-MODIFIED:20230409T165332Z
UID:10000777-1547509800-1547510340@delrayartisans.org
SUMMARY:"New Beginnings" Call for Entry Deadline
DESCRIPTION:Artists must submit their entries via the online entry form by midnight on Monday\, January 14\, 2019 to be considered for the exhibit.
URL:https://delrayartisans.org/event/new-beginnings-cfe-deadline/
LOCATION:Online
CATEGORIES:Entry Deadline
ATTACH;FMTTYPE=image/jpeg:https://delrayartisans.org/wp-content/uploads/1992/12/event-archive-image.jpg
END:VEVENT
END:VCALENDAR