BEGIN:VCALENDAR
VERSION:2.0
PRODID:-//Del Ray Artisans - ECPv6.15.20//NONSGML v1.0//EN
CALSCALE:GREGORIAN
METHOD:PUBLISH
X-ORIGINAL-URL:https://delrayartisans.org
X-WR-CALDESC:Events for Del Ray Artisans
REFRESH-INTERVAL;VALUE=DURATION:PT1H
X-Robots-Tag:noindex
X-PUBLISHED-TTL:PT1H
BEGIN:VTIMEZONE
TZID:America/New_York
BEGIN:DAYLIGHT
TZOFFSETFROM:-0500
TZOFFSETTO:-0400
TZNAME:EDT
DTSTART:20240310T070000
END:DAYLIGHT
BEGIN:STANDARD
TZOFFSETFROM:-0400
TZOFFSETTO:-0500
TZNAME:EST
DTSTART:20241103T060000
END:STANDARD
BEGIN:DAYLIGHT
TZOFFSETFROM:-0500
TZOFFSETTO:-0400
TZNAME:EDT
DTSTART:20250309T070000
END:DAYLIGHT
BEGIN:STANDARD
TZOFFSETFROM:-0400
TZOFFSETTO:-0500
TZNAME:EST
DTSTART:20251102T060000
END:STANDARD
BEGIN:DAYLIGHT
TZOFFSETFROM:-0500
TZOFFSETTO:-0400
TZNAME:EDT
DTSTART:20260308T070000
END:DAYLIGHT
BEGIN:STANDARD
TZOFFSETFROM:-0400
TZOFFSETTO:-0500
TZNAME:EST
DTSTART:20261101T060000
END:STANDARD
END:VTIMEZONE
BEGIN:VEVENT
DTSTART;VALUE=DATE:20251027
DTEND;VALUE=DATE:20251028
DTSTAMP:20260422T232309
CREATED:20250427T021918Z
LAST-MODIFIED:20250927T174254Z
UID:10001842-1761523200-1761609599@delrayartisans.org
SUMMARY:Experiencing Color at the Hilton Alexandria Mark Center (5/3/2025 – 10/27/2025)
DESCRIPTION:Experiencing Color: Perspectives from Del Ray Artisans Art Exhibit at the Hilton Alexandria Mark Center\nMay 3 – October 27\, 2025\nOnline Store | Photo Album \nDel Ray Artisans through the City of Alexandria’s Office of the Arts in partnership with the Hilton Alexandria Mark Center presents Experiencing Color: Perspectives from Del Ray Artisans. The exhibit features the work of seven (7) member artists in glass cases in the lobby of the Hilton Alexandria Mark Center (5000 Seminary Rd\, Alexandria\, VA 22311) from May 3\, 2025 through September 21\, 2025. UPDATE: This exhibit has been extended through Monday\, October 27\, 2025. \nCome see the work of Stephanie Darlene Greenwald (digital drawing)\, Lesley Hall-Runner (acrylic\, mixed media)\, Morgan Parr (mixed media)\, Karen Schmitz (collage\, mixed media)\, Anastasia Travieso-Diaz (abstract painting)\, Joyce Wagner (mosaics)\, and Rod Whyte (digital painting)\, as they explore and reveal how they are influenced by color. The hotel lobby is open 24/7 to view the art. If you wish to pair the viewing with refreshments\, the VINO Lobby bar is open 5-11pm daily. \nAll artwork is available for purchase\, but must remain on display through the exhibit. Purchased artwork may be picked up at Del Ray Artisans gallery (2704 Mt Vernon Ave\, Alexandria VA) by appointment. Contact Liz Martinez at GWW@DelRayArtisans.org to make arrangements. \nExperiencing Color: Perspectives from Del Ray Artisans is organized through Del Ray Artisans’ Gallery Without Walls program in partnership with the Hilton Alexandria Mark Center through the City of Alexandria’s Office of the Arts. Del Ray Artisans\, a 501(3)(c) nonprofit organization whose mission is to promote art for the benefit of artists and the community. \nThe exhibit is open to the public and accessible\, and an online photo album is available as well. For more information\, please contact Liz Martinez at GWW@DelRayArtisans.org. \nOnline Store | Photo Album \n\nArtwork credit: “Hubcap Hipster” by Joyce Wagner
URL:https://delrayartisans.org/event/experiencing-color/
LOCATION:Hilton Alexandria Mark Center\, 5000 Seminary Rd\, Alexandria\, VA\, 22311\, United States
CATEGORIES:Art Exhibit,Gallery Without Walls
ATTACH;FMTTYPE=image/jpeg:https://delrayartisans.org/wp-content/uploads/2025/04/HubcapHipster-by-JoyceWagner.jpg
ORGANIZER;CN="Liz Martinez%2C Gallery Without Walls Curator":MAILTO:GWW@DelRayArtisans.org
END:VEVENT
END:VCALENDAR