BEGIN:VCALENDAR
VERSION:2.0
PRODID:-//Del Ray Artisans - ECPv6.15.20//NONSGML v1.0//EN
CALSCALE:GREGORIAN
METHOD:PUBLISH
X-ORIGINAL-URL:https://delrayartisans.org
X-WR-CALDESC:Events for Del Ray Artisans
REFRESH-INTERVAL;VALUE=DURATION:PT1H
X-Robots-Tag:noindex
X-PUBLISHED-TTL:PT1H
BEGIN:VTIMEZONE
TZID:America/New_York
BEGIN:DAYLIGHT
TZOFFSETFROM:-0500
TZOFFSETTO:-0400
TZNAME:EDT
DTSTART:20210314T070000
END:DAYLIGHT
BEGIN:STANDARD
TZOFFSETFROM:-0400
TZOFFSETTO:-0500
TZNAME:EST
DTSTART:20211107T060000
END:STANDARD
BEGIN:DAYLIGHT
TZOFFSETFROM:-0500
TZOFFSETTO:-0400
TZNAME:EDT
DTSTART:20220313T070000
END:DAYLIGHT
BEGIN:STANDARD
TZOFFSETFROM:-0400
TZOFFSETTO:-0500
TZNAME:EST
DTSTART:20221106T060000
END:STANDARD
BEGIN:DAYLIGHT
TZOFFSETFROM:-0500
TZOFFSETTO:-0400
TZNAME:EDT
DTSTART:20230312T070000
END:DAYLIGHT
BEGIN:STANDARD
TZOFFSETFROM:-0400
TZOFFSETTO:-0500
TZNAME:EST
DTSTART:20231105T060000
END:STANDARD
BEGIN:DAYLIGHT
TZOFFSETFROM:-0500
TZOFFSETTO:-0400
TZNAME:EDT
DTSTART:20240310T070000
END:DAYLIGHT
BEGIN:STANDARD
TZOFFSETFROM:-0400
TZOFFSETTO:-0500
TZNAME:EST
DTSTART:20241103T060000
END:STANDARD
BEGIN:DAYLIGHT
TZOFFSETFROM:-0500
TZOFFSETTO:-0400
TZNAME:EDT
DTSTART:20250309T070000
END:DAYLIGHT
BEGIN:STANDARD
TZOFFSETFROM:-0400
TZOFFSETTO:-0500
TZNAME:EST
DTSTART:20251102T060000
END:STANDARD
END:VTIMEZONE
BEGIN:VEVENT
DTSTART;TZID=America/New_York:20241012T120000
DTEND;TZID=America/New_York:20241012T160000
DTSTAMP:20260423T124213
CREATED:20240617T152538Z
LAST-MODIFIED:20240930T204956Z
UID:10001431-1728734400-1728748800@delrayartisans.org
SUMMARY:Chirilagua Neighborhood Arts Day / Día de las Artes del Barrio de Chirilagua
DESCRIPTION:Photo collage credit: Photographs of MakersFEST 2022 courtesy of Karen Schmitz\n \nEnglish ↓ | Español ↓ \n\n\nCall for Volunteers\nSeeking volunteers to help manage the Del Ray Artisans information tent\, art-making tents\, engage the public\, and keep the event attendance tally. Volunteers are needed for both shifts: 11am-2pm (also assists with set-up) and 2pm-5pm (also assists with take down). If you are interested but unable to lift things like chairs\, that is OK! Engagement with the community is the biggest priority! To sign up\, email Morgan at volunteers@delrayartisans.org. \n\nChirilagua Neighborhood Arts Day\nCome enjoy Chirilagua Neighborhood Arts Day—a free\, outdoor\, community art-making event on Saturday\, October 12\, 12-4pm at the Four Mile Run Conservatory (4109 Mount Vernon Avenue\, Alexandria\, VA). The event is organized by Del Ray Artisans in partnership with Casa Chirilagua. \nMarimba Maya Awal\nArtist instructors will lead hands-on art activities for all ages\, including ColorWOW drawing\, brite kites\, paper flowers\, gelli prints\, and Guatemalan worry dolls. Live music will be performed by the band Marimba Maya Awal to get your toes tapping. Don’t miss this family-friendly event! \nNote: If it rains\, the art-making activities will be moved inside the Four Mile Run Conservatory building. \n \nIn 2024\, Alexandria is celebrating its 275th anniversary. The Arts 275th Commemorative Program Grant is funded through a grant from the National Endowment for the Arts and the City of Alexandria\, VA. The Arts 275th Commemorative Program Grant was established and was available to eligible nonprofit organizations to create art programs and events to honor the past through artistic historical reflections or commissions\, embrace the now with thought-provoking art projects mirroring neighborhoods’ culture\, and celebrate the city’s future with innovative art projects. \nThe Chirilagua Neighborhood Arts Day program is made possible through the Arts 275th Commemorative Program Grant from the City of Alexandria\, VA through the Office of the Arts. This project is supported in part by the National Endowment for the Arts. To find out more about how National Endowment for the Arts grants impact individuals and communities\, visit www.arts.gov. \n \n\n\nDía de las Artes del Barrio de Chirilagua\nVenga a disfrutar del Día de las Artes del Barrio de Chirilagua\, un evento gratuito de creación de arte comunitario al aire libre el sábado 12 de octubre\, de 12 a 4 p. m. en el Conservatorio Four Mile Run (4109 Mount Vernon Avenue\, Alexandria\, VA). El evento es organizado por Del Ray Artisans en asociación con Casa Chirilagua. \nMarimba Maya Awal\nLos instructores de artistas dirigirán actividades artísticas prácticas para todas las edades\, incluyendo el dibujo de ColorWOW\, cometas británicas\, flores de papel\, estampados de gelli y muñecas de preocupación guatemaltecas. La banda Marimba Maya Awal interpretará música en vivo para que se muevan tus pies. ¡No te pierdas este evento familiar! \nNota: Si llueve\, las actividades de creación de arte se trasladarán dentro del edificio del Conservatorio Four Mile Run. \n \nEn 2024\, Alexandria está celebrando su 275 aniversario. La Beca del Programa Conmemorativo Arts 275th está financiada a través de una subvención de la Fundación Nacional para las Artes y la Ciudad de Alexandria\, VA. La Beca del Programa Conmemorativo de las Artes 275 se estableció y estuvo disponible para organizaciones sin fines de lucro elegibles para crear programas y eventos de arte para honrar el pasado a través de reflexiones o encargos históricos artísticos\, abrazar el ahora con proyectos de arte que invitan a la reflexión que reflejan la cultura de los vecindarios y celebrar el futuro de la ciudad con proyectos de arte innovadores. \nEl programa del Día de las Artes del Barrio de Chirilagua es posible gracias a la Beca del Programa Conmemorativo de las Artes 275 de la Ciudad de Alexandria\, VA a través de la Oficina de las Artes. Este proyecto cuenta con el apoyo en parte de la Fundación Nacional para las Artes. Para obtener más información sobre cómo las subvenciones de la Fundación Nacional para las Artes afectan a las personas y comunidades\, visite www.arts.gov. \n \n\n\nPaper flower making / Flores de papel (Karen Schmitz)\nBrite Kite / Cometas británicas (Roxanne Bradley-Tate)\nGuatemalan worry dolls / Muñecas de preocupación guatemaltecas (Guy Jones)\nGelli Print / Estampados de gelli (Karen Schmitz)\n 
URL:https://delrayartisans.org/event/community-arts/
LOCATION:Casa Chirilagua / Four Mile Run Conservatory\, 4109 Mount Vernon Avenue\, Alexandria\, VA\, 22305\, United States
CATEGORIES:Community Event,Program,Volunteer,Youth
ATTACH;FMTTYPE=image/jpeg:https://delrayartisans.org/wp-content/uploads/2024/08/Chirilagua-Neighborhood-Arts-Day-2024.jpg
ORGANIZER;CN="Karen Schmitz%2C Grants & Sponsorship Director":MAILTO:grants@delrayartisans.org
END:VEVENT
BEGIN:VEVENT
DTSTART;TZID=America/New_York:20221022T140000
DTEND;TZID=America/New_York:20221022T180000
DTSTAMP:20260423T124213
CREATED:20230329T210621Z
LAST-MODIFIED:20230329T224046Z
UID:10000469-1666447200-1666461600@delrayartisans.org
SUMMARY:MakersFEST
DESCRIPTION:Join us for a free\, outdoor\, art-making day with local artists. MakersFEST is sponsored by Del Ray Artisans in collaboration with Casa Chirilagua Center and Alexandria Citizens Band. \nFREE ART MAKING: ● Paper Flowers ● Watercolor Cardmaking ● Worry Dolls ● Gelli Printmaking ● Artful Flags \nThank you to local artists: Joan Bickelhaupt (Del Ray Urban Sketchers)\, Charles Farmer\, Erin Ford\, Guy Jones\, Debbie Messetta\, Eileen M. O’Brien\, Julian Olivos\, Kitty Russell\, and Karen Schmitz. \nEspañol / English PDF \n \nDel Ray Artisans is a proud recipient of a Creative Neighborhood Grant Program grant award. The Creative Neighborhood Grant Program is made possible by City of Alexandria’s Office of the Arts and an Arts Project grant from the National Endowment for the Arts. The Creative Neighborhood grant program will help underwrite the cost associated with MakersFEST.  \nTo learn more about how National Endowment for the Arts grants impact individuals and communities\, visit www.arts.gov. To learn more about other programs and services of the Office of the Arts visit: alexandriava.gov/arts.
URL:https://delrayartisans.org/event/makersfest/
LOCATION:Casa Chirilagua / Four Mile Run Conservatory\, 4109 Mount Vernon Avenue\, Alexandria\, VA\, 22305\, United States
CATEGORIES:Community Event,Market,Program
ATTACH;FMTTYPE=image/jpeg:https://delrayartisans.org/wp-content/uploads/2022/09/makers-fest-english-square.jpg
ORGANIZER;CN="Karen Schmitz":MAILTO:kschmitzart@gmail.com
END:VEVENT
END:VCALENDAR