BEGIN:VCALENDAR
VERSION:2.0
PRODID:-//Del Ray Artisans - ECPv6.15.20//NONSGML v1.0//EN
CALSCALE:GREGORIAN
METHOD:PUBLISH
X-ORIGINAL-URL:https://delrayartisans.org
X-WR-CALDESC:Events for Del Ray Artisans
REFRESH-INTERVAL;VALUE=DURATION:PT1H
X-Robots-Tag:noindex
X-PUBLISHED-TTL:PT1H
BEGIN:VTIMEZONE
TZID:America/New_York
BEGIN:DAYLIGHT
TZOFFSETFROM:-0500
TZOFFSETTO:-0400
TZNAME:EDT
DTSTART:20200308T070000
END:DAYLIGHT
BEGIN:STANDARD
TZOFFSETFROM:-0400
TZOFFSETTO:-0500
TZNAME:EST
DTSTART:20201101T060000
END:STANDARD
BEGIN:DAYLIGHT
TZOFFSETFROM:-0500
TZOFFSETTO:-0400
TZNAME:EDT
DTSTART:20210314T070000
END:DAYLIGHT
BEGIN:STANDARD
TZOFFSETFROM:-0400
TZOFFSETTO:-0500
TZNAME:EST
DTSTART:20211107T060000
END:STANDARD
BEGIN:DAYLIGHT
TZOFFSETFROM:-0500
TZOFFSETTO:-0400
TZNAME:EDT
DTSTART:20220313T070000
END:DAYLIGHT
BEGIN:STANDARD
TZOFFSETFROM:-0400
TZOFFSETTO:-0500
TZNAME:EST
DTSTART:20221106T060000
END:STANDARD
BEGIN:DAYLIGHT
TZOFFSETFROM:-0500
TZOFFSETTO:-0400
TZNAME:EDT
DTSTART:20230312T070000
END:DAYLIGHT
BEGIN:STANDARD
TZOFFSETFROM:-0400
TZOFFSETTO:-0500
TZNAME:EST
DTSTART:20231105T060000
END:STANDARD
BEGIN:DAYLIGHT
TZOFFSETFROM:-0500
TZOFFSETTO:-0400
TZNAME:EDT
DTSTART:20240310T070000
END:DAYLIGHT
BEGIN:STANDARD
TZOFFSETFROM:-0400
TZOFFSETTO:-0500
TZNAME:EST
DTSTART:20241103T060000
END:STANDARD
BEGIN:DAYLIGHT
TZOFFSETFROM:-0500
TZOFFSETTO:-0400
TZNAME:EDT
DTSTART:20250309T070000
END:DAYLIGHT
BEGIN:STANDARD
TZOFFSETFROM:-0400
TZOFFSETTO:-0500
TZNAME:EST
DTSTART:20251102T060000
END:STANDARD
END:VTIMEZONE
BEGIN:VEVENT
DTSTART;TZID=America/New_York:20240921T100000
DTEND;TZID=America/New_York:20240921T160000
DTSTAMP:20260423T105953
CREATED:20231201T105219Z
LAST-MODIFIED:20240901T183421Z
UID:10001319-1726912800-1726934400@delrayartisans.org
SUMMARY:HalloWEIRD Art Market 2024 in Colasanto Park
DESCRIPTION:Come to the 3rd annual HalloWEIRD outdoor art market on Saturday\, September 21\, 2024 from 10am–4pm to browse Halloween-inspired creations that are spooky\, creepy\, crawly\, and goth. Maybe you like the upbeat\, fun side of the season\, like costumes\, hot cider\, hay rides\, autumn colors. You can see art celebrating that too! \nThe market offers diverse\, original handcrafted artwork from talented local artists in a wide range of media\, including ceramics\, fiber\, jewelry\, mixed media\, paper\, photography\, and more. In addition\, Lost Boy Cider brings their award-winning cider to Del Ray Artisans’ HalloWEIRD Art Market. Please enjoy responsibly. \nThis is an outdoor\, family-friendly\, rain-or-shine event in Colasanto Park adjoining Del Ray Artisans gallery at 2704 Mount Vernon Avenue\, Alexandria\, VA (corner of Commonwealth and Mount Vernon avenues). The market is FREE to browse and open to the public.  \nThe artists featured in the market are: \n\nJohn T Allen\, Permian Designs\nSteve Botts\, Steve’s Art and Cacti\nAmy Castine\nTimothy Duncan\, T.Duncan Ceramics\nPatty Moloney Figliola\, Aisling MagickArt\nAmanda Fletchersmith\, Custom Monster\nJosephine Froelich Fine Arts\nLesley Hall-Runner\, Ruthless Art\nErica Hughes and Suzan Ok Shumate\, Fox Arrow Artisans\nBWS Johnson\, Blooms of Paradise\nMary Katz\, Star and Moon Creations\nAnnemarie Kuhns\, Love + Lino\nStephen Lally Pottery\nSusan Lefler Studios\nMegan Levanduski\, Megan Elaine Designs\nArcha Malhotra\, Art by Archa\nLiz Martinez\nGracia Melendez\, Holy Cow Crochet\nMadeleine Meredith\, Miles & Bear\nSusan Pawlukiewicz\, Lucite Carving Creations\nCourtney Pippin-Mathur\nMadeline Ramsey\, Unique Stained Glass\nChristina Rojas\, et cetera\nKelly Snyder Arts\nTekla Taylor – Artist\nRaven Troupe\, Crafty Colanah\nDina Wise\, Dina’s Doodles\n\nPlus step inside Del Ray Artisans gallery to see the Fascinating Fiber\, Alluring Fabric art exhibit (September 6–28\, 2024). Del Ray Artisans\, founded in 1992\, is a nonprofit organization whose mission is to promote art for the benefit of artists and the community. \nFor more information on HalloWEIRD\, contact Lesley Hall at VP@DelRayArtisans.org.
URL:https://delrayartisans.org/event/halloweird-2024/
LOCATION:Colasanto Park (outside Del Ray Artisans Gallery)\, 2704 Mount Vernon Avenue\, Alexandria\, VA\, 22301\, United States
CATEGORIES:Art Exhibit,Market
ATTACH;FMTTYPE=image/jpeg:https://delrayartisans.org/wp-content/uploads/2022/05/halloweird-square.jpg
ORGANIZER;CN="Lesley Hall%2C Vice President":MAILTO:vp@delrayartisans.org
END:VEVENT
BEGIN:VEVENT
DTSTART;TZID=America/New_York:20240810T235900
DTEND;TZID=America/New_York:20240810T235900
DTSTAMP:20260423T105953
CREATED:20240701T114639Z
LAST-MODIFIED:20240718T164945Z
UID:10001437-1723334340-1723334340@delrayartisans.org
SUMMARY:HalloWEIRD Art Market Applications Due
DESCRIPTION:Call for Artists\nDel Ray Artisans’ HalloWEIRD Art Market\nApplication deadline: Saturday\, August 10\, 2024 by midnight\nApply now for the 3rd annual HalloWEIRD outdoor art market centered around the theme: Halloween. Showcase your spooky\, creepy\, crawly\, disturbing\, goth pieces or focus on the upbeat\, fun side of the season (costumes\, hot cider\, hay rides\, autumn colors\, etc). This is an outdoor\, family-friendly\, rain-or-shine event in Colasanto Park\, adjoining Del Ray Artisans gallery\, on Saturday\, September 21\, 2024 from 10am to 4pm. \nDetails and Application
URL:https://delrayartisans.org/event/halloweird-2024-applications-due/
LOCATION:Colasanto Park (outside Del Ray Artisans Gallery)\, 2704 Mount Vernon Avenue\, Alexandria\, VA\, 22301\, United States
CATEGORIES:Entry Deadline
ORGANIZER;CN="Lesley Hall%2C Vice President":MAILTO:vp@delrayartisans.org
END:VEVENT
BEGIN:VEVENT
DTSTART;TZID=America/New_York:20240511T100000
DTEND;TZID=America/New_York:20240511T160000
DTSTAMP:20260423T105953
CREATED:20231129T165748Z
LAST-MODIFIED:20240516T164426Z
UID:10001317-1715421600-1715443200@delrayartisans.org
SUMMARY:Spring Art Market 2024 in Colasanto Park
DESCRIPTION:Del Ray Artisans’ Spring Art Market is on Saturday\, May 11\, 2024 from 10am-4pm in Colasanto Park\, adjoining Del Ray Artisans gallery at 2704 Mount Vernon Avenue\, Alexandria\, VA (at the corner of Commonwealth Avenue and Mount Vernon Avenue). \nThank you to MCD Mateos for your support!\nThis market that gives you the chance to purchase original handcrafted artwork from talented local artists in a wide range of media including ceramics\, fiber\, jewelry\, mixed media\, paper\, photography\, and more. Plus community partner MCD Mateos\, McDonald’s joins the fun with face painting and balloons for children! \nThe event is held rain or shine\, FREE to browse\, and open to the public. Drop in anytime during the event to meet the artists and enjoy the outdoor market. \nThe 2024 featured artists are: \n\nJohn T. Allen\, Permian Designs\nKristen Anderson\, Boot Sole Pottery\nB A Hlioui Art\nBhavani Arabandi\, Samhara Ceramics\nVictoria Barnes Photography\nKat Cook\, Nistavac Studios\nAna Driscoll\, Fahrenheit99 & Co.\nT.Duncan Ceramics\nEileen Egan Pottery\nPatty Moloney Figliola\nAmanda Fletchersmith\, Custom Monster\nkazuko fuller\, chesapeake\nNicole Gauvin\, made by Knerq\nArt by Julia Glatfelter\nLesley Hall\, Ruthless Art\nEllen Hamilton\, Yellow Dot Shop\nClaudia Heath\nRobin Hunter-Reid\, Moxie & Magic\nMonica Jain\, monicazcollection\nBWS Johnson + Tom Johnson\nMary Katz\, Star and Moon Creations\nAudrey Kremer\, AudreyK-Designs\nChristine Lederman\, Bead Therapy\nDanielle Mackin\, Dani’s Bazaar\nDiana Manchak\nLiz Martinez\nMaria Matas\, M’s Jewelry\nSusan Pawlukiewicz\, Carvings in Lucite\nMayre Perez\, Handmade Goods by Mayre\nMadeline Ramsey\, Unique Stained Glass\nTiara Safic-Martin\nEdith Sanabria\, Edith Graciela Art\nAshley Smith\, Gryffin River Shack\nAshley Vietri\, Fire in Hand Jewelry\nJoyce Wagner\, Reinvented Elegance\nTamara Wilkerson\, WiRealm by Tamara\nTracy Wilkerson\n\n  \n \nPhoto Album \n\nIf you have questions about the market\, contact Lesley Hall at VP@DelRayArtisans.org.
URL:https://delrayartisans.org/event/spring-art-market-2024/
LOCATION:Colasanto Park (outside Del Ray Artisans Gallery)\, 2704 Mount Vernon Avenue\, Alexandria\, VA\, 22301\, United States
CATEGORIES:Art Exhibit,Market
ATTACH;FMTTYPE=image/jpeg:https://delrayartisans.org/wp-content/uploads/2024/01/Spring-Art-Market-2024.jpg
ORGANIZER;CN="Lesley Hall%2C Vice President":MAILTO:vp@delrayartisans.org
END:VEVENT
BEGIN:VEVENT
DTSTART;TZID=America/New_York:20231015T100000
DTEND;TZID=America/New_York:20231015T160000
DTSTAMP:20260423T105953
CREATED:20230324T195108Z
LAST-MODIFIED:20231009T182038Z
UID:10000150-1697364000-1697385600@delrayartisans.org
SUMMARY:HalloWEIRD Art Market 2023 in Colasanto Park
DESCRIPTION:Come to the 2nd annual HalloWEIRD outdoor art market on Sunday\, October 15\, 2023 from 10am–4pm to browse Halloween-inspired creations that are spooky\, creepy\, crawly\, and goth. Maybe you like the upbeat\, fun side of the season\, like costumes\, hot cider\, hay rides\, autumn colors. You can see art celebrating that too! The market offers diverse\, original handcrafted artwork from talented local artists in a wide range of media\, including ceramics\, fiber\, jewelry\, mixed media\, paper\, photography\, and more. There is something for everyone! \nThis is an outdoor\, family-friendly\, rain-or-shine event in Colasanto Park adjoining Del Ray Artisans gallery at 2704 Mount Vernon Avenue\, Alexandria\, VA (corner of Commonwealth and Mount Vernon avenues). The market is FREE to browse and open to the public. Mark your calendar or set a reminder through Eventbrite. \nThe artists featured in the market are: \n\nJohn T Allen\, Permian Designs\nAmy Bruce Studios\nAmy Castine\, Castine Beadwork\nChelsaline\, Chelsaline.Studio\nMaxine Cholmondeley\, Max’s Mixtures Candles & Soaps\nMeredith D’Amore\, Rare Bird Press\nAmanda Fletchersmith\, Custom Monster\nLesley Hall-Runner\, Ruthless Art\nErica Hughes and Suzan Ok Shumate\, Fox Arrow Artisans\nBetsy Jones\nArchna Kanodia\, Heena Art – Hand Decorations\nMary Katz\, Star and Moon Creations\nAnnemarie Kuhns\, Love + Lino\nStephen Lally Pottery\nMegan Levanduski\, Megan Elaine Designs\nLiz Martinez\, Spirit of the Mandala\nMadeleine Meredith\, Miles & Bear\nNami Oshiro\nSusan Pawlukiewicz\, Lucite Creations\nChristina Rojas\, et cetera\nSophia Kelly Shultz\nTekla Taylor\nTracy Wilkerson\, Recycled Works\n\n  \nPlus step inside Del Ray Artisans gallery to see the Curses! Foiled Again! The Art of Swords and Sorcery art exhibit (October 6–28\, 2023) featuring art that evokes the fantastic and swashbuckling. Del Ray Artisans\, founded in 1992\, is a nonprofit organization whose mission is to promote art for the benefit of artists and the community. \nFor more information on HalloWEIRD\, contact Erica Hughes (Programs Director) at Programs@DelRayArtisans.org.
URL:https://delrayartisans.org/event/halloweird-2023/
LOCATION:Colasanto Park (outside Del Ray Artisans Gallery)\, 2704 Mount Vernon Avenue\, Alexandria\, VA\, 22301\, United States
CATEGORIES:Art Exhibit,Market
ATTACH;FMTTYPE=image/jpeg:https://delrayartisans.org/wp-content/uploads/2022/05/halloweird-square.jpg
ORGANIZER;CN="Erica Hughes%2C Programs Director":MAILTO:programs@delrayartisans.org
END:VEVENT
BEGIN:VEVENT
DTSTART;TZID=America/New_York:20230923T100000
DTEND;TZID=America/New_York:20230923T160000
DTSTAMP:20260423T105953
CREATED:20230923T042939Z
LAST-MODIFIED:20230923T042939Z
UID:10001122-1695463200-1695484800@delrayartisans.org
SUMMARY:RESCHEDULED: HalloWEIRD Art Market 2023 in Colasanto Park is now on Sunday\, October 15
DESCRIPTION:Due to the weather\, the 2nd annual HalloWEIRD outdoor art market has been rescheduled to Sunday\, October 15\, 2023. \nCome browse Halloween-inspired creations that are spooky\, creepy\, crawly\, and goth. Maybe you like the upbeat\, fun side of the season\, like costumes\, hot cider\, hay rides\, autumn colors. You can see art celebrating that too! The market offers diverse\, original handcrafted artwork from talented local artists in a wide range of media\, including ceramics\, fiber\, jewelry\, mixed media\, paper\, photography\, and more. There is something for everyone! \nThis is an outdoor\, family-friendly\, rain-or-shine event in Colasanto Park adjoining Del Ray Artisans gallery at 2704 Mount Vernon Avenue\, Alexandria\, VA (corner of Commonwealth and Mount Vernon avenues). The market is FREE to browse and open to the public. Mark your calendar or set a reminder through Eventbrite. \nThe artists featured in the market are: \n\nJohn T Allen\, Permian Designs\nAmy Bruce Studios\nAmy Castine\, Castine Beadwork\nMaxine Cholmondeley\, Max’s Mixtures Candles & Soaps\nMeredith D’Amore\, Rare Bird Press\nAriane D’Souza\nAmanda Fletchersmith\, Custom Monster\nLesley Hall-Runner\, Ruthless Art\nErica Hughes and Suzan Ok Shumate\, Fox Arrow Artisans\nBWS Johnson\, Blooms of Paradise\nBetsy Jones\nArchna Kanodia\, Heena Art – Hand Decorations\nMary Katz\, Star and Moon Creations\nAnnemarie Kuhns\, Love + Lino\nMegan Levanduski\, Megan Elaine Designs\nSamantha Ludwitzke\, Samantha’s Doodles\nLiz Martinez\, Spirit of the Mandala\nMadeleine Meredith\, Miles & Bear\nSusan Pawlukiewicz\, Lucite Creations\nChristina Rojas\, et cetera\nTekla Taylor\nTracy Wilkerson\, Recycled Works\n\n \n \n\nSpecial Performances: Del Ray Artisans and Monarca in Flight present “Human Spiders” during HalloWEIRD! Monarca in Flight is Northern Virginia’s first studio devoted primarily to aerials and aerials education. \nStep inside Del Ray Artisans gallery to see the Farther Afield art exhibit (September 1–30\, 2023) featuring artwork that takes us outside of our day-to-day lives to locations far and wide. Del Ray Artisans\, founded in 1992\, is a nonprofit organization whose mission is to promote art for the benefit of artists and the community. \n\nFor more information on HalloWEIRD\, contact Erica Hughes (Programs Director) at Programs@DelRayArtisans.org.
URL:https://delrayartisans.org/event/halloweird-2023-rescheduled/
LOCATION:Colasanto Park (outside Del Ray Artisans Gallery)\, 2704 Mount Vernon Avenue\, Alexandria\, VA\, 22301\, United States
CATEGORIES:Art Exhibit,Market
ATTACH;FMTTYPE=image/jpeg:https://delrayartisans.org/wp-content/uploads/2022/05/halloweird-square.jpg
ORGANIZER;CN="Erica Hughes%2C Programs Director":MAILTO:programs@delrayartisans.org
END:VEVENT
BEGIN:VEVENT
DTSTART;TZID=America/New_York:20230513T100000
DTEND;TZID=America/New_York:20230513T160000
DTSTAMP:20260423T105953
CREATED:20230324T194347Z
LAST-MODIFIED:20230424T142741Z
UID:10000116-1683972000-1683993600@delrayartisans.org
SUMMARY:Spring Art Market 2023 in Colasanto Park (RAIN or SHINE)
DESCRIPTION:Our Spring Art Market is an annual outdoor market\, the day before Mother’s Day\, that gives you the chance to purchase original handcrafted artwork from talented local artists. This market showcases artwork in a wide range of media including ceramics\, fiber\, jewelry\, mixed media\, paper\, photography\, and more. Shop original work from local artists—perfect for gifts or treat yourself! \nThe Spring Art Market will be on Saturday\, May 13\, 2023 from 10am-4pm in Colasanto Park\, adjoining Del Ray Artisans gallery at 2704 Mount Vernon Avenue\, Alexandria\, VA (at the corner of Commonwealth Avenue and Mount Vernon Avenue). Mark your calendar or set a reminder in Eventbrite. \nThe event is held RAIN or SHINE\, FREE to browse\, and open to the public. Drop in anytime during the event to meet the artists and enjoy the outdoor market. \nThe featured artists are: \n\nVeronika Amaya\, Handmade by LMAC\nMaxine Cholmondeley\, Max’s Mixtures Candles & Soaps\nGretchen D’Amore\nMeredith D’Amore | Rare Bird\nShelley Degges\nEileen Egan Pottery\nPatty Moloney Figliola\, Aisling PhotoArt\nBrandon Gould\, Brando\nB A Hlioui Art\nBWS Johnson\nMary Katz\, Star and Moon Craft Shop\nCamille Kouyoumdjian\nAudrey Kremer\, AudreyK Designs\nChristine Lederman\, Bead Therapy\nSusan Livingston Studio\nDiana Manchak\, designsinclay\nLiz Martinez\nDiana Papazian – Papazian Design\, LLC\nMayre Perez\, Handmade Goods by Mayre\nRobin Robinson\, Vintage Glam’s Funky Junk!\nAnn Cameron Siegal Photography\nMeg Talley\, Meg by Hand\nJoyce Wagner\, Reinvented Elegance\nTamara Wilkerson\, WiRealm by Tamara\nTracy Wilkerson\, Recycled Works\n\nCheck out the photos from past years: \nPhoto Album \n\nIf you have questions about the market or how to apply for a market artspace\, contact Erica Hughes (Programs Director) at Programs@DelRayArtisans.org. \n 
URL:https://delrayartisans.org/event/spring-art-market-2023/
LOCATION:Colasanto Park (outside Del Ray Artisans Gallery)\, 2704 Mount Vernon Avenue\, Alexandria\, VA\, 22301\, United States
CATEGORIES:Art Exhibit,Market
ATTACH;FMTTYPE=image/jpeg:https://delrayartisans.org/wp-content/uploads/2023/03/spring-art-market-IG-2023.jpg
END:VEVENT
BEGIN:VEVENT
DTSTART;TZID=America/New_York:20220924T100000
DTEND;TZID=America/New_York:20220924T160000
DTSTAMP:20260423T105953
CREATED:20230329T210536Z
LAST-MODIFIED:20230823T135446Z
UID:10000455-1664013600-1664035200@delrayartisans.org
SUMMARY:HalloWEIRD Art Market 2022 (Outdoor on 9/24\, RAIN or SHINE)
DESCRIPTION:Join us for HalloWEIRD (our new outdoor art market) on Saturday\, September 24\, 2022 from 10am–4pm to browse Halloween-inspired creations that are spooky\, creepy\, crawly\, and goth-like. Or\, maybe you like art that focuses on the upbeat\, fun side of the season (e.g.\, costumes\, hot cider\, hay rides\, autumn colors). You can see that too! The market offers diverse\, original handcrafted artwork from talented local artists in a wide range of media including ceramics\, fiber\, jewelry\, mixed media\, paper\, photography\, and more. There is something for everyone! \nThis is an outdoor\, family-friendly\, rain-or-shine event in Colasanto Park adjoining Del Ray Artisans gallery at 2704 Mount Vernon Avenue\, Alexandria\, VA (corner of Commonwealth and Mount Vernon avenues). The market is FREE to browse and open to the public. Mark your calendar or set a reminder through Eventbrite. \nThe artists featured in HalloWEIRD are: \n\nRaquel Brueggemann\, Just Because Resin\nAmy Castine\nMeredith D’Amore\, Rare Bird Press\nDanielle Deemer\, Gothee\nAmanda Fletchersmith\, Custom Monster\nErica Hughes & Suzan T. Ok\, Fox Arrow Artisans\nBWS Johnson\, Blooms of Paradise\nBetsy Jones\, Betsysmallpeople\nMary Katz\, Star and Moon Craft Shop\nAnnemarie Kuhns\, Love + Lino\nMegan Levanduski\, Megan Elaine Designs\nSamantha Ludwitzke\, Samantha’s Doodles\nLiz Martinez\nNami Oshiro\nJoyce Wagner\, Reinvented Elegance\n\nPlus\, special performances! Del Ray Artisans and Monarca in Flight present Human Spiders during HalloWEIRD! Monarca in Flight is Northern Virginia’s first studio devoted primarily to aerials and aerials education. (UPDATE: The aerials have been cancelled.) \nVisit inside Del Ray Artisans gallery to see The Big 3-0 art exhibit (Sept 2 – Oct 1\, 2022) featuring members’ artwork and celebrating the 30th Anniversary of our nonprofit arts organization. \nFor more information on HalloWEIRD\, contact Erica Hughes (Programs Director) at Programs@DelRayArtisans.org. \n\n  \n\nArtwork by Meredith D’Amore (Rare Bird Press)
URL:https://delrayartisans.org/event/halloweird-2022/
LOCATION:Colasanto Park (outside Del Ray Artisans Gallery)\, 2704 Mount Vernon Avenue\, Alexandria\, VA\, 22301\, United States
CATEGORIES:Art Exhibit,Market,Program
ATTACH;FMTTYPE=image/jpeg:https://delrayartisans.org/wp-content/uploads/2022/05/halloweird-square.jpg
ORGANIZER;CN="Erica Hughes":MAILTO:zarathustraspeaks@msn.com
END:VEVENT
BEGIN:VEVENT
DTSTART;TZID=America/New_York:20220507T100000
DTEND;TZID=America/New_York:20220507T140000
DTSTAMP:20260423T105953
CREATED:20230329T210219Z
LAST-MODIFIED:20230329T214729Z
UID:10000389-1651917600-1651932000@delrayartisans.org
SUMMARY:Spring Art Market 2022 (Outdoor on 5/7\, RAIN or SHINE!)
DESCRIPTION:UPDATE: Due to the weather the market will be ending early (approx 2pm). \nOur Spring Art Market is an annual outdoor market\, the day before Mother’s Day\, that gives you the chance to purchase original handcrafted artwork from talented local artists. This market showcases artwork in a wide range of media including ceramics\, fiber\, jewelry\, mixed media\, paper\, photography\, and more. Shop original work from local artists—perfect for gifts or treat yourself! \nThe Spring Art Market will be on Saturday\, May 7\, 2022 from 10am-4pm in Colasanto Park\, adjoining Del Ray Artisans gallery at 2704 Mount Vernon Avenue\, Alexandria\, VA (at the corner of Commonwealth Avenue and Mount Vernon Avenue). The event is held RAIN or SHINE\, FREE to browse\, and open to the public. Tickets are not required\, but you may register for a reminder through Eventbrite. Drop in anytime during the event to meet the artists and enjoy the outdoor market. \nSet A Reminder \n\nThe featured artists are: \n\nVictoria Barnes Photography\nMichael Bostick\, SporeCrafts\nAmy Castine\, Castine Beadwork\nStephanie Darlene\nDavid DeJulio\, Personal Inspirations\nEileen Egan Pottery\nSyd Evans\nPatricia Moloney Figliola\, Aisling PhotoArt\nHolly Fries\, Holly’s Art Imaginarium\nErica Hughes & Suzan T. Ok\, Fox Arrow\nBWS Johnson\nStephen Lally Pottery\nChristine Lederman\, Bead Therapy\nDiana Manchak\, designsinclay\nLiz Martinez\nLaurel Prucha Moran\, Blue Room Studio / DMV Matchbooks\nEdith Sanabria\, Grace Jewel & Art\nAlexandra Schmeling Fine Art\nMartina Sestakova\, RADOST\nMeg Talley\, Meg by Hand\nAna Tkabladze\, GalleriaGeorgiAna\nJoyce Wagner\, Reinvented Elegance\nTamara Wilkerson\, WiRealm by Tamara\nTracy Wilkerson\, Recycled Works\n\nPhoto Album \n.\n \nIf you have questions about the market or how to apply for a market artspace\, contact Erica Hughes (Programs Director) at Programs@DelRayArtisans.org.
URL:https://delrayartisans.org/event/spring-art-market-2022/
LOCATION:Colasanto Park (outside Del Ray Artisans Gallery)\, 2704 Mount Vernon Avenue\, Alexandria\, VA\, 22301\, United States
CATEGORIES:Art Exhibit,Market,Program
ATTACH;FMTTYPE=image/jpeg:https://delrayartisans.org/wp-content/uploads/2022/04/spring-art-market-2022-square.jpg
END:VEVENT
BEGIN:VEVENT
DTSTART;TZID=America/New_York:20210508T100000
DTEND;TZID=America/New_York:20210508T160000
DTSTAMP:20260423T105953
CREATED:20230329T205534Z
LAST-MODIFIED:20230329T214740Z
UID:10000254-1620468000-1620489600@delrayartisans.org
SUMMARY:Spring Art Market 2021 (Outdoor\, RAIN or SHINE!)
DESCRIPTION:Our Spring Art Market is a one-day\, outdoor event that gives you the chance to purchase original handcrafted artwork from talented local artists. This market showcases artwork in a wide range of media including ceramics\, fiber\, jewelry\, mixed media\, paper\, photography\, and more. Shop original work from local artists—perfect for gifts or treat yourself! \nThe Spring Art Market will be on Saturday\, May 8 from 10am-4pm in Colasanto Park\, adjoining Del Ray Artisans gallery at 2704 Mount Vernon Avenue\, Alexandria\, VA (at the corner of Commonwealth Avenue and Mount Vernon Avenue). The artists’ tents are socially distanced; please wear a face mask and respect personal space. The event is held RAIN or SHINE\, and is FREE to browse and open to the public. \nFeatured Artists: \n\nVeronica Barker-Barzel\, Chesapeake Graphics\nJacquelyn Denaali\, Denaali Art\nEileen Egan Pottery\nPatricia Moloney Figliola\, Aisling PhotoArt\nHolly Fries\nMary Elizabeth Gosselink\nEllen Hamilton\, Yellow Dot Shop\nErica Hughes & Suzan T. Ok\, Fox Arrow\nBWS Johnson\nErik Kamenski Art\nLiz Martinez\nLaurel Moran\, Blue Room Studio / DMV Matchbooks\nAlexandra Schmeling Fine Art\nDebi Steinbacher\, YourFriendFromCollege\nAna Tkabladze\, GalleriaGeorgiAna\nTamara Wilkerson\, WiRealm by Tamara\nTracy Wilkerson\, Recycled Works\n\nPhoto Album \n.\n \n.\nIf you have questions about the market or how to apply for a market artspace\, contact Erica Hughes (Programs Director) at Programs@DelRayArtisans.org.
URL:https://delrayartisans.org/event/spring-art-market-2021/
LOCATION:Colasanto Park (outside Del Ray Artisans Gallery)\, 2704 Mount Vernon Avenue\, Alexandria\, VA\, 22301\, United States
CATEGORIES:Art Exhibit,Market,Program
ATTACH;FMTTYPE=image/jpeg:https://delrayartisans.org/wp-content/uploads/2021/04/SpringArtMarket2021-postcard-front.jpg
END:VEVENT
END:VCALENDAR