BEGIN:VCALENDAR
VERSION:2.0
PRODID:-//Del Ray Artisans - ECPv6.15.20//NONSGML v1.0//EN
CALSCALE:GREGORIAN
METHOD:PUBLISH
X-WR-CALNAME:Del Ray Artisans
X-ORIGINAL-URL:https://delrayartisans.org
X-WR-CALDESC:Events for Del Ray Artisans
REFRESH-INTERVAL;VALUE=DURATION:PT1H
X-Robots-Tag:noindex
X-PUBLISHED-TTL:PT1H
BEGIN:VTIMEZONE
TZID:America/New_York
BEGIN:DAYLIGHT
TZOFFSETFROM:-0500
TZOFFSETTO:-0400
TZNAME:EDT
DTSTART:20240310T070000
END:DAYLIGHT
BEGIN:STANDARD
TZOFFSETFROM:-0400
TZOFFSETTO:-0500
TZNAME:EST
DTSTART:20241103T060000
END:STANDARD
BEGIN:DAYLIGHT
TZOFFSETFROM:-0500
TZOFFSETTO:-0400
TZNAME:EDT
DTSTART:20250309T070000
END:DAYLIGHT
BEGIN:STANDARD
TZOFFSETFROM:-0400
TZOFFSETTO:-0500
TZNAME:EST
DTSTART:20251102T060000
END:STANDARD
BEGIN:DAYLIGHT
TZOFFSETFROM:-0500
TZOFFSETTO:-0400
TZNAME:EDT
DTSTART:20260308T070000
END:DAYLIGHT
BEGIN:STANDARD
TZOFFSETFROM:-0400
TZOFFSETTO:-0500
TZNAME:EST
DTSTART:20261101T060000
END:STANDARD
END:VTIMEZONE
BEGIN:VEVENT
DTSTART;TZID=America/New_York:20250913T180000
DTEND;TZID=America/New_York:20250913T203000
DTSTAMP:20260423T003136
CREATED:20250612T230228Z
LAST-MODIFIED:20250910T120330Z
UID:10001891-1757786400-1757795400@delrayartisans.org
SUMMARY:Dime Store Alchemy: Make a Found Object Poetry Box (Register ASAP)
DESCRIPTION:Instructor: Viki Walchak\, vwalchak@yahoo.com\nDate/Time: Saturday\, September 13\, 6-8:30pm\nCost: $55 Del Ray Artisans member / $65 Non-member; plus a $10 Supply Fee\nClass size: 6-12 participants\n(Register in advance) \nIn the spirit of Joseph Cornell\, a 20th century artist inspired by the poetry of found objects rearranged into evocative tableaus\, participants will craft small inventive shadow boxes. A variety of mixed media and assemblage techniques will be introduced. This will be an opportunity to creatively explore memories\, dreams and personal visions or give tribute to a friend or family member. It is a great way to practice intuitive art making skills and mine your personal and collective unconscious for insights and wisdom. \nParticipants will look at examples of Joseph Cornell’s assemblages and learn a bit about his motivations and techniques before crafting a shadowbox of their own design. Various mixed-media\, collage and assemblage techniques will be discussed and demonstrated. Materials\, wooden boxes and small hand tools will be provided\, but participants are invited to bring in small bits of ephemera from their personal spaces too. Old cards\, stamps\, small objects\, prints\, broken electronics and such can all be intriguingly arranged using this art-making approach. \nAll materials and tools will be provided\, but participants are encouraged to bring their own collection of small objects and ephemera too. \nRegister Now \n\nView other upcoming workshops\, information about the facility and policies on the Upcoming Workshops page.
URL:https://delrayartisans.org/event/poetry-box-september-2025/
LOCATION:Del Ray Artisans Gallery\, 2704 Mount Vernon Avenue\, Alexandria\, VA\, 22301\, United States
CATEGORIES:Program,Workshop
ATTACH;FMTTYPE=image/jpeg:https://delrayartisans.org/wp-content/uploads/2025/06/Poetry-box-by-Viki-Walchak.jpg
ORGANIZER;CN="Tracy Wilkerson%2C Programs Director":MAILTO:programs@delrayartisans.org
END:VEVENT
BEGIN:VEVENT
DTSTART;TZID=America/New_York:20250909T080000
DTEND;TZID=America/New_York:20250909T230000
DTSTAMP:20260423T003136
CREATED:20250621T230126Z
LAST-MODIFIED:20250621T230232Z
UID:10001904-1757404800-1757458800@delrayartisans.org
SUMMARY:Reserved for Programs
DESCRIPTION:This time is reserved for the Intro to Acrylic Paint Pour Workshop materials to dry. No other events can be scheduled in the gallery today.
URL:https://delrayartisans.org/event/reserved-2025-09-09/
LOCATION:Del Ray Artisans Gallery\, 2704 Mount Vernon Avenue\, Alexandria\, VA\, 22301\, United States
CATEGORIES:Administrative
ORGANIZER;CN="Tracy Wilkerson%2C Programs Director":MAILTO:programs@delrayartisans.org
END:VEVENT
BEGIN:VEVENT
DTSTART;TZID=America/New_York:20250828T180000
DTEND;TZID=America/New_York:20250828T193000
DTSTAMP:20260423T003136
CREATED:20250619T215259Z
LAST-MODIFIED:20250827T183621Z
UID:10001901-1756404000-1756409400@delrayartisans.org
SUMMARY:CANCELED - Mindful Nature Journaling: Discovering Yourself Through Nature’s Wisdom (Register by 8/24)
DESCRIPTION:Instructor: Ashleigh Diserio\, Diserio Consulting\nDate/Time: Thursday\, August 28\, 6-7:30pm\nCost: $40 Del Ray Artisans member / $50 Non-member\nClass size: 5-15 participants\n(Register by August 24) \nThis event has been canceled. \nJoin this guided outdoor journaling session to learn how to slow down\, tune into your emotions\, and gain clarity through nature-inspired reflection. We will go through a grounding and sensory awareness exercise\, then do a journaling prompt with a reflection exercise. \nBy the end of this workshop\, you will be able to: \n\nDescribe the purpose and benefits of nature journaling as a tool for mindfulness\, emotional awareness\, and personal insight.\nEngage in a grounding and sensory awareness practice to become more present in their bodies and connected to the natural environment.\nIdentify and articulate your emotions through metaphors and imagery inspired by nature.\nExpress inner thoughts and feelings creatively using guided journaling prompts\, free-writing\, drawing\, or doodling.\nReflect on their journaling experience to gain personal clarity and deepen self-understanding.\nExplore ways to integrate nature journaling into daily or weekly routines as a sustainable practice for emotional well-being and self-care.\n\nPlease bring your own journal\, or you are welcome to purchase one from the instructor for $10 at the beginning of the workshop. \nRegister Now \n  \n\nView other upcoming workshops\, information about the facility\, and policies on the Upcoming Workshops page.
URL:https://delrayartisans.org/event/mindful-nature-journaling/
LOCATION:Del Ray Artisans Gallery\, 2704 Mount Vernon Avenue\, Alexandria\, VA\, 22301\, United States
CATEGORIES:Creative Summer Programs,Program,Workshop
ATTACH;FMTTYPE=image/jpeg:https://delrayartisans.org/wp-content/uploads/2025/06/Nature-Journaling-by-Ashleigh-Diserio.jpg
ORGANIZER;CN="Tracy Wilkerson%2C Programs Director":MAILTO:programs@delrayartisans.org
END:VEVENT
BEGIN:VEVENT
DTSTART;TZID=America/New_York:20250823T180000
DTEND;TZID=America/New_York:20250823T203000
DTSTAMP:20260423T003136
CREATED:20250612T225606Z
LAST-MODIFIED:20250814T145142Z
UID:10001890-1755972000-1755981000@delrayartisans.org
SUMMARY:Dime Store Alchemy: Make a Found Object Poetry Box (Register ASAP)
DESCRIPTION:Instructor: Viki Walchak\, vwalchak@yahoo.com\nDate/Time: Saturday\, August 23\, 6-8:30pm\nCost: $55 Del Ray Artisans member / $65 Non-member; plus a $10 Supply Fee\nClass size: 6-12 participants\n(Register in advance; Walk-ins welcome\, space permitting) \nIn the spirit of Joseph Cornell\, a 20th century artist inspired by the poetry of found objects rearranged into evocative tableaus\, participants will craft small inventive shadow boxes. A variety of mixed media and assemblage techniques will be introduced. This will be an opportunity to creatively explore memories\, dreams and personal visions or give tribute to a friend or family member. It is a great way to practice intuitive art making skills and mine your personal and collective unconscious for insights and wisdom. \nParticipants will look at examples of Joseph Cornell’s assemblages and learn a bit about his motivations and techniques before crafting a shadowbox of their own design. Various mixed-media\, collage and assemblage techniques will be discussed and demonstrated. Materials\, wooden boxes and small hand tools will be provided\, but participants are invited to bring in small bits of ephemera from their personal spaces too. Old cards\, stamps\, small objects\, prints\, broken electronics and such can all be intriguingly arranged using this art-making approach. \nAll materials and tools will be provided\, but participants are encouraged to bring their own collection of small objects and ephemera too. \nRegister Now \n\nView other upcoming workshops\, information about the facility and policies on the Upcoming Workshops page.
URL:https://delrayartisans.org/event/poetry-box-august-2025/
LOCATION:Del Ray Artisans Gallery\, 2704 Mount Vernon Avenue\, Alexandria\, VA\, 22301\, United States
CATEGORIES:Creative Summer Programs,Program,Workshop
ATTACH;FMTTYPE=image/jpeg:https://delrayartisans.org/wp-content/uploads/2025/06/Poetry-box-by-Viki-Walchak.jpg
ORGANIZER;CN="Tracy Wilkerson%2C Programs Director":MAILTO:programs@delrayartisans.org
END:VEVENT
BEGIN:VEVENT
DTSTART;TZID=America/New_York:20250823T130000
DTEND;TZID=America/New_York:20250823T143000
DTSTAMP:20260423T003136
CREATED:20250709T210929Z
LAST-MODIFIED:20250731T125523Z
UID:10001909-1755954000-1755959400@delrayartisans.org
SUMMARY:Tea & Herbs with Area 2 Farms (RSVP)
DESCRIPTION:Meet Area 2 Farms\, the neighborhood organic farm based in Shirlington (less than 3 miles away)\, at Del Ray Artisans gallery for an afternoon of sensory exploration. Area 2 Farms does more than just grow food for you\, they build community around it. \nJoin us for an immersive journey into the world of herbs–where you’ll explore their origins\, benefits\, aromas\, and flavors. You’ll harvest fresh herbs and blend your own tea to sip and enjoy a relaxed conversation with your farmers. \nWhether you’re herb-curious or already tending a garden full\, this is your invitation to slow down\, connect\, and bring a little bit of the farm into your daily rituals. \nSpace is limited—reserve your spot and experience what it means to sip slowly with your farmers. Note: Registration is through Area 2 Farms. \nRSVP Now
URL:https://delrayartisans.org/event/area-2-farms-aug-23-2025/
LOCATION:Del Ray Artisans Gallery\, 2704 Mount Vernon Avenue\, Alexandria\, VA\, 22301\, United States
CATEGORIES:Creative Summer Programs,Program
ATTACH;FMTTYPE=image/jpeg:https://delrayartisans.org/wp-content/uploads/2025/06/Area2Farms-event-square.jpg
ORGANIZER;CN="Tracy Wilkerson%2C Programs Director":MAILTO:programs@delrayartisans.org
END:VEVENT
BEGIN:VEVENT
DTSTART;TZID=America/New_York:20250809T150000
DTEND;TZID=America/New_York:20250809T160000
DTSTAMP:20260423T003136
CREATED:20250709T210808Z
LAST-MODIFIED:20250731T125340Z
UID:10001908-1754751600-1754755200@delrayartisans.org
SUMMARY:Tea & Herbs with Area 2 Farms (RSVP)
DESCRIPTION:Meet Area 2 Farms\, the neighborhood organic farm based in Shirlington (less than 3 miles away)\, at Del Ray Artisans gallery for an afternoon of sensory exploration. Area 2 Farms does more than just grow food for you\, they build community around it. \nJoin us for an immersive journey into the world of herbs–where you’ll explore their origins\, benefits\, aromas\, and flavors. You’ll harvest fresh herbs and blend your own tea to sip and enjoy a relaxed conversation with your farmers. \nWhether you’re herb-curious or already tending a garden full\, this is your invitation to slow down\, connect\, and bring a little bit of the farm into your daily rituals. \nSpace is limited—reserve your spot and experience what it means to sip slowly with your farmers. Note: Registration is through Area 2 Farms. \nRSVP Now
URL:https://delrayartisans.org/event/area-2-farms-aug-9-2025/
LOCATION:Del Ray Artisans Gallery\, 2704 Mount Vernon Avenue\, Alexandria\, VA\, 22301\, United States
CATEGORIES:Creative Summer Programs,Program
ATTACH;FMTTYPE=image/jpeg:https://delrayartisans.org/wp-content/uploads/2025/06/Area2Farms-event-square.jpg
ORGANIZER;CN="Tracy Wilkerson%2C Programs Director":MAILTO:programs@delrayartisans.org
END:VEVENT
BEGIN:VEVENT
DTSTART;TZID=America/New_York:20250809T100000
DTEND;TZID=America/New_York:20250809T120000
DTSTAMP:20260423T003136
CREATED:20250319T200241Z
LAST-MODIFIED:20250807T212851Z
UID:10001802-1754733600-1754740800@delrayartisans.org
SUMMARY:CANCELED: Introduction to Intuitive Collage Workshop (Register by 8/5)
DESCRIPTION:Instructor: Sharon Burton\, sjbcreativeventures@gmail.com\nDate/Time: Saturday\, August 9\, 10am-12pm\nCost: $45 Del Ray Artisans member / $55 Non-member; plus a $10 Supply Fee\nClass size: 4-10 participants\n(Register by August 5) \nIntuitive collage is a practice of using magazine images and collage to connect with your inner wisdom or intuition. Participants will be guided through a simple meditation\, then given time to create a collage card\, followed by journal prompts to reflect on the meaning of their piece. \nNo artistic experience is necessary. All supplies are provided\, but feel free to bring personal embellishments for your piece(s). This is a great and fun way to slow down\, connect with yourself creatively\, and tap into your inner wisdom. \nThe topic is focusing on using art to guide intention and intuition. Skills include collage\, mixed media and journal writing. Participants will learn how to use an art medium as a means of jump starting creativity as well as self-care. \nThis workshops has been canceled. \n \n  \n\nView other upcoming workshops\, information about the facility\, and policies on the Upcoming Workshops page.
URL:https://delrayartisans.org/event/intuitive-collage/
LOCATION:Del Ray Artisans Gallery\, 2704 Mount Vernon Avenue\, Alexandria\, VA\, 22301\, United States
CATEGORIES:Creative Summer Programs,Program,Workshop
ATTACH;FMTTYPE=image/jpeg:https://delrayartisans.org/wp-content/uploads/2023/05/collage-workshop-SJB-Creates.jpg
ORGANIZER;CN="Tracy Wilkerson%2C Programs Director":MAILTO:programs@delrayartisans.org
END:VEVENT
BEGIN:VEVENT
DTSTART;TZID=America/New_York:20250628T130000
DTEND;TZID=America/New_York:20250628T143000
DTSTAMP:20260423T003136
CREATED:20250529T195656Z
LAST-MODIFIED:20250614T000621Z
UID:10001877-1751115600-1751121000@delrayartisans.org
SUMMARY:Tea & Herbs with Area 2 Farms (RSVP)
DESCRIPTION:Meet Area 2 Farms\, the neighborhood organic farm based in Shirlington (less than 3 miles away)\, at Del Ray Artisans gallery for an afternoon of sensory exploration. Area 2 Farms does more than just grow food for you\, they build community around it. \nJoin us for an immersive journey into the world of herbs—where you’ll explore their origins\, benefits\, aromas\, and flavors. You’ll harvest fresh herbs and blend your own tea to sip and enjoy a relaxed conversation with your farmers. \nWhether you’re herb-curious or already tending a garden full\, this is your invitation to slow down\, connect\, and bring a little bit of the farm into your daily rituals. \nSpace is limited—reserve your spot and experience what it means to sip slowly with your farmers. Note: Registration is through Area 2 Farms. \nRSVP Now
URL:https://delrayartisans.org/event/area-2-farms-june-2025/
LOCATION:Del Ray Artisans Gallery\, 2704 Mount Vernon Avenue\, Alexandria\, VA\, 22301\, United States
CATEGORIES:Creative Summer Programs,Program
ATTACH;FMTTYPE=image/jpeg:https://delrayartisans.org/wp-content/uploads/2025/06/Area2Farms-event-square.jpg
ORGANIZER;CN="Tracy Wilkerson%2C Programs Director":MAILTO:programs@delrayartisans.org
END:VEVENT
BEGIN:VEVENT
DTSTART;TZID=America/New_York:20250424T183000
DTEND;TZID=America/New_York:20250424T203000
DTSTAMP:20260423T003136
CREATED:20250319T202625Z
LAST-MODIFIED:20250423T000846Z
UID:10001804-1745519400-1745526600@delrayartisans.org
SUMMARY:Everlasting Paper Blooms Workshop (Register ASAP)
DESCRIPTION:Instructor: Jill Welch\, contact@fairydusted.com\nDate/Time: Thursday\, April 24\, 6:30-8:30pm\nCost: $75 Del Ray Artisans member / $85 Non-member; plus a $10 Supply Fee\nClass size: 6-18 participants\n(Register by April 23) \nMake your own everlasting paper blooms! Take a deep breath\, tap into your creativity\, and rejuvenate your spirit in this hands-on workshop\, where you’ll learn how to craft stunning\, long-lasting paper flowers using simple materials. Starting with a flat sheet of high-quality European crepe paper\, you’ll sculpt beautiful artistic blooms that will last. \nNo prior crafting experience is necessary—if you can cut\, color\, and follow instructions\, you’ll leave with a gorgeous creation and the skills to continue your paper flower-making journey. By the end\, you’ll have at least one beautiful bloom to take home\, along with the skills and supplies to create a small bouquet. \nSkills you’ll leave with: 1) How to cut\, shape and color crepe paper into petals; 2) How to cut and wire leaves for added details; and 3) Tips on adding artistic details and dimension to your blooms. \nWhether you’re a DIY enthusiast or just wanting to unwind and refresh\, this workshop is perfect for everyone. \nRegister Now \n\nView other upcoming workshops\, information about the facility and policies on the Upcoming Workshops page.
URL:https://delrayartisans.org/event/paper-blooms/
LOCATION:Del Ray Artisans Gallery\, 2704 Mount Vernon Avenue\, Alexandria\, VA\, 22301\, United States
CATEGORIES:Program,Workshop
ATTACH;FMTTYPE=image/jpeg:https://delrayartisans.org/wp-content/uploads/2025/03/PaperFlowers-byJillWelch.jpg
ORGANIZER;CN="Tracy Wilkerson%2C Programs Director":MAILTO:programs@delrayartisans.org
END:VEVENT
BEGIN:VEVENT
DTSTART;TZID=America/New_York:20250409T180000
DTEND;TZID=America/New_York:20250409T200000
DTSTAMP:20260423T003136
CREATED:20250319T202753Z
LAST-MODIFIED:20250406T200457Z
UID:10001805-1744221600-1744228800@delrayartisans.org
SUMMARY:Unleash Your Creativity: Acrylic Painting Class (Register ASAP)
DESCRIPTION:Instructor: Edom Alagaw\, E21edomgeta@gmail.com\nDate/Time: Wednesday\, April 9\, 6-8pm\nCost: $32 Del Ray Artisans member / $42 Non-member; participants bring own supplies\nClass size: 6-12 participants\n(Register in advance; walk-ins welcome only if space permits) \nJoin our acrylic painting class and unleash your creativity! This class is perfect for beginners and experienced artists alike. You’ll learn essential techniques\, such as color mixing\, brushwork\, and layering\, while creating your own vibrant masterpiece. Our step-by-step instruction ensures a fun and supportive environment where you can explore your artistic potential. Bring your own acrylic paints and brushes and enjoy a relaxing\, inspiring experience. \nMaterials you must bring to class: \n\nAcrylic Paints: A basic set of primary colors (red\, blue\, yellow)\, plus black and white. You may expand with secondary colors (green\, orange\, purple) and some earth tones (brown\, sienna).\nBrushes: A variety of brush sizes and shapes\, including flat\, round\, and detail brushes. Synthetic brushes are suitable for acrylics.\nPalette: A palette for mixing your paints. A plastic or glass palette is ideal\, but a disposable paper palette also works.\nCanvas or Painting Surface: Stretched canvas\, canvas boards\, or canvas paper. For beginners\, canvas boards or paper are usually more economical.\nPalette Knife: For mixing paints and creating texture on your painting.\nWater Container: A container for rinsing your brushes.\nCloths/Paper Towels: For cleaning brushes and wiping up spills.\nApron/Old Clothes: Acrylic paint can be hard to remove from fabric once dry\, so wear something you don’t mind getting messy.\nSpray Bottle: To keep your paints moist on the palette.\nPencil and Eraser: For sketching your initial design on the canvas.\nStorage Box/Bag: To keep all your supplies organized and easy to transport.\n\nOptional materials: \n\nEasel: A tabletop easel if you prefer to paint at an angle\, though this is optional and depends on your comfort.\nMixing Mediums: Optional\, but you might want to have some acrylic mediums like gloss medium\, matte medium\, or modeling paste to experiment with different textures and finishes.\n\nRegister Now \n\nView other upcoming workshops\, information about the facility and policies on the Upcoming Workshops page.
URL:https://delrayartisans.org/event/unleash-your-creativity-acrylic-painting-class/
LOCATION:Del Ray Artisans Gallery\, 2704 Mount Vernon Avenue\, Alexandria\, VA\, 22301\, United States
CATEGORIES:Program,Workshop
ATTACH;FMTTYPE=image/jpeg:https://delrayartisans.org/wp-content/uploads/2024/06/edom.jpg
ORGANIZER;CN="Tracy Wilkerson%2C Programs Director":MAILTO:programs@delrayartisans.org
END:VEVENT
BEGIN:VEVENT
DTSTART;TZID=America/New_York:20250313T180000
DTEND;TZID=America/New_York:20250313T200000
DTSTAMP:20260423T003136
CREATED:20250130T223357Z
LAST-MODIFIED:20250312T210358Z
UID:10001767-1741888800-1741896000@delrayartisans.org
SUMMARY:RESCHEDULED: Unleash Your Creativity: Acrylic Painting Class
DESCRIPTION:This workshop is being rescheduled. Please contact the Programs Director at programs@delrayartisans.org with any questions. \nInstructor: Edom Alagaw\, E21edomgeta@gmail.com\nDate/Time: Thursday\, March 13\, 6-8pm\nCost: $32 Del Ray Artisans member / $42 Non-member; participants bring own supplies\nClass size: 6-12 participants\n(Register by midnight on March 11) \nJoin our acrylic painting class and unleash your creativity! This class is perfect for beginners and experienced artists alike. You’ll learn essential techniques\, such as color mixing\, brushwork\, and layering\, while creating your own vibrant masterpiece. Our step-by-step instruction ensures a fun and supportive environment where you can explore your artistic potential. Bring your own acrylic paints and brushes and enjoy a relaxing\, inspiring experience. \nMaterials you must bring to class: \n\nAcrylic Paints: A basic set of primary colors (red\, blue\, yellow)\, plus black and white. You may expand with secondary colors (green\, orange\, purple) and some earth tones (brown\, sienna).\nBrushes: A variety of brush sizes and shapes\, including flat\, round\, and detail brushes. Synthetic brushes are suitable for acrylics.\nPalette: A palette for mixing your paints. A plastic or glass palette is ideal\, but a disposable paper palette also works.\nCanvas or Painting Surface: Stretched canvas\, canvas boards\, or canvas paper. For beginners\, canvas boards or paper are usually more economical.\nPalette Knife: For mixing paints and creating texture on your painting.\nWater Container: A container for rinsing your brushes.\nCloths/Paper Towels: For cleaning brushes and wiping up spills.\nApron/Old Clothes: Acrylic paint can be hard to remove from fabric once dry\, so wear something you don’t mind getting messy.\nSpray Bottle: To keep your paints moist on the palette.\nPencil and Eraser: For sketching your initial design on the canvas.\nStorage Box/Bag: To keep all your supplies organized and easy to transport.\n\nOptional materials: \n\nEasel: A tabletop easel if you prefer to paint at an angle\, though this is optional and depends on your comfort.\nMixing Mediums: Optional\, but you might want to have some acrylic mediums like gloss medium\, matte medium\, or modeling paste to experiment with different textures and finishes.\n\n\nView other upcoming workshops\, information about the facility and policies on the Upcoming Workshops page.
URL:https://delrayartisans.org/event/unleash-acrylic-painting/
LOCATION:Del Ray Artisans Gallery\, 2704 Mount Vernon Avenue\, Alexandria\, VA\, 22301\, United States
CATEGORIES:Program,Workshop
ATTACH;FMTTYPE=image/jpeg:https://delrayartisans.org/wp-content/uploads/2024/06/edom.jpg
ORGANIZER;CN="Tracy Wilkerson%2C Programs Director":MAILTO:programs@delrayartisans.org
END:VEVENT
END:VCALENDAR