BEGIN:VCALENDAR
VERSION:2.0
PRODID:-//Del Ray Artisans - ECPv6.15.20//NONSGML v1.0//EN
CALSCALE:GREGORIAN
METHOD:PUBLISH
X-ORIGINAL-URL:https://delrayartisans.org
X-WR-CALDESC:Events for Del Ray Artisans
REFRESH-INTERVAL;VALUE=DURATION:PT1H
X-Robots-Tag:noindex
X-PUBLISHED-TTL:PT1H
BEGIN:VTIMEZONE
TZID:America/New_York
BEGIN:DAYLIGHT
TZOFFSETFROM:-0500
TZOFFSETTO:-0400
TZNAME:EDT
DTSTART:20250309T070000
END:DAYLIGHT
BEGIN:STANDARD
TZOFFSETFROM:-0400
TZOFFSETTO:-0500
TZNAME:EST
DTSTART:20251102T060000
END:STANDARD
BEGIN:DAYLIGHT
TZOFFSETFROM:-0500
TZOFFSETTO:-0400
TZNAME:EDT
DTSTART:20260308T070000
END:DAYLIGHT
BEGIN:STANDARD
TZOFFSETFROM:-0400
TZOFFSETTO:-0500
TZNAME:EST
DTSTART:20261101T060000
END:STANDARD
BEGIN:DAYLIGHT
TZOFFSETFROM:-0500
TZOFFSETTO:-0400
TZNAME:EDT
DTSTART:20270314T070000
END:DAYLIGHT
BEGIN:STANDARD
TZOFFSETFROM:-0400
TZOFFSETTO:-0500
TZNAME:EST
DTSTART:20271107T060000
END:STANDARD
END:VTIMEZONE
BEGIN:VEVENT
DTSTART;TZID=America/New_York:20260910T235900
DTEND;TZID=America/New_York:20260910T235900
DTSTAMP:20260423T012602
CREATED:20260123T231650Z
LAST-MODIFIED:20260123T231650Z
UID:10002175-1789084740-1789084740@delrayartisans.org
SUMMARY:"Carnival of Curiosities" Call for Entry Deadline
DESCRIPTION:Call for Entry ~ Open to area artists\nCarnival of Curiosities\nExhibit Dates: October 2–31\, 2026\nDigital entry deadline: Thursday\, September 10\, 2026 by midnight\nStep right up and enter a carnival of curiosities where all manner of carnival-themed art—silly or dark\, from food and lights to games\, rides\, music\, costumes\, and more—is welcome to dazzle\, delight\, and maybe even bite! \nThe exhibit is open to all area artists. Del Ray Artisans members pay a discounted entry fee. \nEntry form coming soon.
URL:https://delrayartisans.org/event/carnival-of-curiosities-cfe-deadline/
LOCATION:Online
CATEGORIES:Entry Deadline
ORGANIZER;CN="Tiara Safic-Martin":MAILTO:tsmartin27@outlook.com
END:VEVENT
END:VCALENDAR