BEGIN:VCALENDAR
VERSION:2.0
PRODID:-//Del Ray Artisans - ECPv6.15.20//NONSGML v1.0//EN
CALSCALE:GREGORIAN
METHOD:PUBLISH
X-WR-CALNAME:Del Ray Artisans
X-ORIGINAL-URL:https://delrayartisans.org
X-WR-CALDESC:Events for Del Ray Artisans
REFRESH-INTERVAL;VALUE=DURATION:PT1H
X-Robots-Tag:noindex
X-PUBLISHED-TTL:PT1H
BEGIN:VTIMEZONE
TZID:America/New_York
BEGIN:DAYLIGHT
TZOFFSETFROM:-0500
TZOFFSETTO:-0400
TZNAME:EDT
DTSTART:20200308T070000
END:DAYLIGHT
BEGIN:STANDARD
TZOFFSETFROM:-0400
TZOFFSETTO:-0500
TZNAME:EST
DTSTART:20201101T060000
END:STANDARD
BEGIN:DAYLIGHT
TZOFFSETFROM:-0500
TZOFFSETTO:-0400
TZNAME:EDT
DTSTART:20210314T070000
END:DAYLIGHT
BEGIN:STANDARD
TZOFFSETFROM:-0400
TZOFFSETTO:-0500
TZNAME:EST
DTSTART:20211107T060000
END:STANDARD
BEGIN:DAYLIGHT
TZOFFSETFROM:-0500
TZOFFSETTO:-0400
TZNAME:EDT
DTSTART:20220313T070000
END:DAYLIGHT
BEGIN:STANDARD
TZOFFSETFROM:-0400
TZOFFSETTO:-0500
TZNAME:EST
DTSTART:20221106T060000
END:STANDARD
END:VTIMEZONE
BEGIN:VEVENT
DTSTART;TZID=America/New_York:20210607T140000
DTEND;TZID=America/New_York:20210607T160000
DTSTAMP:20260423T023613
CREATED:20230330T155534Z
LAST-MODIFIED:20230330T161752Z
UID:10000601-1623074400-1623081600@delrayartisans.org
SUMMARY:ONLINE: Partners in Art (FULL)
DESCRIPTION:The ONLINE afternoon program is FULL.  \nIf you would like to join the evening program that is currently sharing feedback via email (resuming in person meeting beginning in September 2021)\, contact Michele Reday Cook (mredaycook@gmail.com) for information and registration. \nNeed support reaching your art related goals? Join this collegial group of artists to share your goals and get feedback on artwork. Monthly meetings include discussions on exhibit opportunities\, the creative process and the local art scene. Artist can bring 1-3 works – complete or in progress – for feedback. All skill levels and media welcome. \nThis program is free\, but donations ($1-3) are greatly appreciated. Contact Mila Mateu (milaenartes@gmail.com) or Suzanne Tillman (zannet@verizon.net) with questions about the afternoon program. \nThis event will be an online meeting through the Zoom platform. Current afternoon program participants will receive a reminder of the meeting with the Zoom information in advance of the meeting. \nView Upcoming Meetings
URL:https://delrayartisans.org/event/partners-in-art-2021/2021-06-07/
LOCATION:Online
CATEGORIES:Partners in Art,Program
ATTACH;FMTTYPE=image/jpeg:https://delrayartisans.org/wp-content/uploads/2016/05/8631736049_f02bbfa92e_z.jpg
ORGANIZER;CN="Suzanne Tillman":MAILTO:zannet@verizon.net
END:VEVENT
BEGIN:VEVENT
DTSTART;TZID=America/New_York:20210510T140000
DTEND;TZID=America/New_York:20210510T160000
DTSTAMP:20260423T023613
CREATED:20230330T155534Z
LAST-MODIFIED:20230330T161752Z
UID:10000600-1620655200-1620662400@delrayartisans.org
SUMMARY:ONLINE: Partners in Art (FULL)
DESCRIPTION:The ONLINE afternoon program is FULL.  \nIf you would like to join the evening program that is currently sharing feedback via email (resuming in person meeting beginning in September 2021)\, contact Michele Reday Cook (mredaycook@gmail.com) for information and registration. \nNeed support reaching your art related goals? Join this collegial group of artists to share your goals and get feedback on artwork. Monthly meetings include discussions on exhibit opportunities\, the creative process and the local art scene. Artist can bring 1-3 works – complete or in progress – for feedback. All skill levels and media welcome. \nThis program is free\, but donations ($1-3) are greatly appreciated. Contact Mila Mateu (milaenartes@gmail.com) or Suzanne Tillman (zannet@verizon.net) with questions about the afternoon program. \nThis event will be an online meeting through the Zoom platform. Current afternoon program participants will receive a reminder of the meeting with the Zoom information in advance of the meeting. \nView Upcoming Meetings
URL:https://delrayartisans.org/event/partners-in-art-2021/2021-05-10/
LOCATION:Online
CATEGORIES:Partners in Art,Program
ATTACH;FMTTYPE=image/jpeg:https://delrayartisans.org/wp-content/uploads/2016/05/8631736049_f02bbfa92e_z.jpg
ORGANIZER;CN="Suzanne Tillman":MAILTO:zannet@verizon.net
END:VEVENT
BEGIN:VEVENT
DTSTART;TZID=America/New_York:20210405T140000
DTEND;TZID=America/New_York:20210405T160000
DTSTAMP:20260423T023613
CREATED:20230330T155534Z
LAST-MODIFIED:20230330T161752Z
UID:10000599-1617631200-1617638400@delrayartisans.org
SUMMARY:ONLINE: Partners in Art (FULL)
DESCRIPTION:The ONLINE afternoon program is FULL.  \nIf you would like to join the evening program that is currently sharing feedback via email (resuming in person meeting beginning in September 2021)\, contact Michele Reday Cook (mredaycook@gmail.com) for information and registration. \nNeed support reaching your art related goals? Join this collegial group of artists to share your goals and get feedback on artwork. Monthly meetings include discussions on exhibit opportunities\, the creative process and the local art scene. Artist can bring 1-3 works – complete or in progress – for feedback. All skill levels and media welcome. \nThis program is free\, but donations ($1-3) are greatly appreciated. Contact Mila Mateu (milaenartes@gmail.com) or Suzanne Tillman (zannet@verizon.net) with questions about the afternoon program. \nThis event will be an online meeting through the Zoom platform. Current afternoon program participants will receive a reminder of the meeting with the Zoom information in advance of the meeting. \nView Upcoming Meetings
URL:https://delrayartisans.org/event/partners-in-art-2021/2021-04-05/
LOCATION:Online
CATEGORIES:Partners in Art,Program
ATTACH;FMTTYPE=image/jpeg:https://delrayartisans.org/wp-content/uploads/2016/05/8631736049_f02bbfa92e_z.jpg
ORGANIZER;CN="Suzanne Tillman":MAILTO:zannet@verizon.net
END:VEVENT
BEGIN:VEVENT
DTSTART;TZID=America/New_York:20210308T140000
DTEND;TZID=America/New_York:20210308T160000
DTSTAMP:20260423T023613
CREATED:20230330T155534Z
LAST-MODIFIED:20230330T161752Z
UID:10000598-1615212000-1615219200@delrayartisans.org
SUMMARY:ONLINE: Partners in Art (FULL)
DESCRIPTION:The ONLINE afternoon program is FULL.  \nIf you would like to join the evening program that is currently sharing feedback via email (resuming in person meeting beginning in September 2021)\, contact Michele Reday Cook (mredaycook@gmail.com) for information and registration. \nNeed support reaching your art related goals? Join this collegial group of artists to share your goals and get feedback on artwork. Monthly meetings include discussions on exhibit opportunities\, the creative process and the local art scene. Artist can bring 1-3 works – complete or in progress – for feedback. All skill levels and media welcome. \nThis program is free\, but donations ($1-3) are greatly appreciated. Contact Mila Mateu (milaenartes@gmail.com) or Suzanne Tillman (zannet@verizon.net) with questions about the afternoon program. \nThis event will be an online meeting through the Zoom platform. Current afternoon program participants will receive a reminder of the meeting with the Zoom information in advance of the meeting. \nView Upcoming Meetings
URL:https://delrayartisans.org/event/partners-in-art-2021/2021-03-08/
LOCATION:Online
CATEGORIES:Partners in Art,Program
ATTACH;FMTTYPE=image/jpeg:https://delrayartisans.org/wp-content/uploads/2016/05/8631736049_f02bbfa92e_z.jpg
ORGANIZER;CN="Suzanne Tillman":MAILTO:zannet@verizon.net
END:VEVENT
BEGIN:VEVENT
DTSTART;TZID=America/New_York:20210208T140000
DTEND;TZID=America/New_York:20210208T160000
DTSTAMP:20260423T023613
CREATED:20230330T155534Z
LAST-MODIFIED:20230330T161752Z
UID:10000597-1612792800-1612800000@delrayartisans.org
SUMMARY:ONLINE: Partners in Art (FULL)
DESCRIPTION:The ONLINE afternoon program is FULL.  \nIf you would like to join the evening program that is currently sharing feedback via email (resuming in person meeting beginning in September 2021)\, contact Michele Reday Cook (mredaycook@gmail.com) for information and registration. \nNeed support reaching your art related goals? Join this collegial group of artists to share your goals and get feedback on artwork. Monthly meetings include discussions on exhibit opportunities\, the creative process and the local art scene. Artist can bring 1-3 works – complete or in progress – for feedback. All skill levels and media welcome. \nThis program is free\, but donations ($1-3) are greatly appreciated. Contact Mila Mateu (milaenartes@gmail.com) or Suzanne Tillman (zannet@verizon.net) with questions about the afternoon program. \nThis event will be an online meeting through the Zoom platform. Current afternoon program participants will receive a reminder of the meeting with the Zoom information in advance of the meeting. \nView Upcoming Meetings
URL:https://delrayartisans.org/event/partners-in-art-2021/2021-02-08/
LOCATION:Online
CATEGORIES:Partners in Art,Program
ATTACH;FMTTYPE=image/jpeg:https://delrayartisans.org/wp-content/uploads/2016/05/8631736049_f02bbfa92e_z.jpg
ORGANIZER;CN="Suzanne Tillman":MAILTO:zannet@verizon.net
END:VEVENT
BEGIN:VEVENT
DTSTART;TZID=America/New_York:20210111T140000
DTEND;TZID=America/New_York:20210111T160000
DTSTAMP:20260423T023613
CREATED:20230330T155534Z
LAST-MODIFIED:20230330T161752Z
UID:10000582-1610373600-1610380800@delrayartisans.org
SUMMARY:ONLINE: Partners in Art (FULL)
DESCRIPTION:The ONLINE afternoon program is FULL.  \nIf you would like to join the evening program that is currently sharing feedback via email (resuming in person meeting beginning in September 2021)\, contact Michele Reday Cook (mredaycook@gmail.com) for information and registration. \nNeed support reaching your art related goals? Join this collegial group of artists to share your goals and get feedback on artwork. Monthly meetings include discussions on exhibit opportunities\, the creative process and the local art scene. Artist can bring 1-3 works – complete or in progress – for feedback. All skill levels and media welcome. \nThis program is free\, but donations ($1-3) are greatly appreciated. Contact Mila Mateu (milaenartes@gmail.com) or Suzanne Tillman (zannet@verizon.net) with questions about the afternoon program. \nThis event will be an online meeting through the Zoom platform. Current afternoon program participants will receive a reminder of the meeting with the Zoom information in advance of the meeting. \nView Upcoming Meetings
URL:https://delrayartisans.org/event/partners-in-art-2021/2021-01-11/
LOCATION:Online
CATEGORIES:Partners in Art,Program
ATTACH;FMTTYPE=image/jpeg:https://delrayartisans.org/wp-content/uploads/2016/05/8631736049_f02bbfa92e_z.jpg
ORGANIZER;CN="Suzanne Tillman":MAILTO:zannet@verizon.net
END:VEVENT
END:VCALENDAR