BEGIN:VCALENDAR
VERSION:2.0
PRODID:-//Del Ray Artisans - ECPv6.15.20//NONSGML v1.0//EN
CALSCALE:GREGORIAN
METHOD:PUBLISH
X-WR-CALNAME:Del Ray Artisans
X-ORIGINAL-URL:https://delrayartisans.org
X-WR-CALDESC:Events for Del Ray Artisans
REFRESH-INTERVAL;VALUE=DURATION:PT1H
X-Robots-Tag:noindex
X-PUBLISHED-TTL:PT1H
BEGIN:VTIMEZONE
TZID:America/New_York
BEGIN:DAYLIGHT
TZOFFSETFROM:-0500
TZOFFSETTO:-0400
TZNAME:EDT
DTSTART:20230312T070000
END:DAYLIGHT
BEGIN:STANDARD
TZOFFSETFROM:-0400
TZOFFSETTO:-0500
TZNAME:EST
DTSTART:20231105T060000
END:STANDARD
BEGIN:DAYLIGHT
TZOFFSETFROM:-0500
TZOFFSETTO:-0400
TZNAME:EDT
DTSTART:20240310T070000
END:DAYLIGHT
BEGIN:STANDARD
TZOFFSETFROM:-0400
TZOFFSETTO:-0500
TZNAME:EST
DTSTART:20241103T060000
END:STANDARD
BEGIN:DAYLIGHT
TZOFFSETFROM:-0500
TZOFFSETTO:-0400
TZNAME:EDT
DTSTART:20250309T070000
END:DAYLIGHT
BEGIN:STANDARD
TZOFFSETFROM:-0400
TZOFFSETTO:-0500
TZNAME:EST
DTSTART:20251102T060000
END:STANDARD
BEGIN:DAYLIGHT
TZOFFSETFROM:-0500
TZOFFSETTO:-0400
TZNAME:EDT
DTSTART:20260308T070000
END:DAYLIGHT
BEGIN:STANDARD
TZOFFSETFROM:-0400
TZOFFSETTO:-0500
TZNAME:EST
DTSTART:20261101T060000
END:STANDARD
END:VTIMEZONE
BEGIN:VEVENT
DTSTART;TZID=America/New_York:20250223T103000
DTEND;TZID=America/New_York:20250223T120000
DTSTAMP:20260423T042319
CREATED:20250123T211115Z
LAST-MODIFIED:20250216T221145Z
UID:10001763-1740306600-1740312000@delrayartisans.org
SUMMARY:STEAM-tastic: Mandalas and Meows (Ages 10-15)
DESCRIPTION:Instructor: Suzan Ok Shumate\nDate/Time: Sunday\, February 23\, 10:30am-noon\nCost: $10/child\nClass size: 1-15 participants\n(Register in advance; drop-ins allowed\, space permitting.) \nStudents will learn about the science and culture of mindfulness\, as well as how creating mandalas can help support being mindful. In addition\, they will explore how our pets keep us grounded in the present moment. For the hands-on portion\, students also practice drawing geometric shapes to create their own cat-themed mandala. \nThe hands-on activity is for participants’ ages 10-15. Family members are welcome to attend\, listen\, and learn. Please contact the Youth Programs Director at youth@delrayartisans.org with any questions. \nRegister Now \n\nSTEAM-tastic @ DRA – Come join us at Del Ray Artisans for interactive classes about Science\, Technology\, Engineering\, Arts and Math (STEAM)\, taught by professionals from each field! Geared toward kids and teens\, each lesson has a short talk or demonstration and a hands-on craft project. Del Ray Artisans’ STEAM-tastic workshops are made possible with support from the City of Alexandria through the FY2025 Annual Arts Program Grant.\n \n\nView all upcoming workshops\, information about the facility\, and policies on the Upcoming Workshops page.
URL:https://delrayartisans.org/event/steam-mandalas-ages-10-15/
LOCATION:Del Ray Artisans Gallery\, 2704 Mount Vernon Avenue\, Alexandria\, VA\, 22301\, United States
CATEGORIES:Program,Workshop,Youth
ATTACH;FMTTYPE=image/jpeg:https://delrayartisans.org/wp-content/uploads/2025/01/STEAM-CatMandala-Suzan-Shumate.jpg
ORGANIZER;CN="Suzan Ok Shumate":MAILTO:suzan.ok@gmail.com
END:VEVENT
BEGIN:VEVENT
DTSTART;TZID=America/New_York:20250223T090000
DTEND;TZID=America/New_York:20250223T103000
DTSTAMP:20260423T042319
CREATED:20250123T210438Z
LAST-MODIFIED:20250216T220911Z
UID:10001762-1740301200-1740306600@delrayartisans.org
SUMMARY:STEAM-tastic: Mandalas and Meows (Ages 6-10)
DESCRIPTION:Instructor: Suzan Ok Shumate\nDate/Time: Sunday\, February 23\, 9-10:30am\nCost: $10/child\nClass size: 1-15 participants\n(Register in advance; drop-ins allowed\, space permitting.) \nStudents will learn about the science and culture of mindfulness\, as well as how creating mandalas can help support being mindful. In addition\, they will explore how our pets keep us grounded in the present moment. For the hands-on portion\, students also practice drawing geometric shapes to create their own cat-themed mandala. \nThe hands-on activity is for participants’ ages 6-10. Family members are welcome to attend\, listen\, and learn. Please contact the Youth Programs Director at youth@delrayartisans.org with any questions. \nRegister Now \n\nSTEAM-tastic @ DRA – Come join us at Del Ray Artisans for interactive classes about Science\, Technology\, Engineering\, Arts and Math (STEAM)\, taught by professionals from each field! Geared toward kids and teens\, each lesson has a short talk or demonstration and a hands-on craft project. Del Ray Artisans’ STEAM-tastic workshops are made possible with support from the City of Alexandria through the FY2025 Annual Arts Program Grant.\n \n\nView all upcoming workshops\, information about the facility\, and policies on the Upcoming Workshops page.
URL:https://delrayartisans.org/event/steam-mandalas-ages-6-10/
LOCATION:Del Ray Artisans Gallery\, 2704 Mount Vernon Avenue\, Alexandria\, VA\, 22301\, United States
CATEGORIES:Program,Workshop,Youth
ATTACH;FMTTYPE=image/jpeg:https://delrayartisans.org/wp-content/uploads/2025/01/STEAM-CatMandala-Suzan-Shumate.jpg
ORGANIZER;CN="Suzan Ok Shumate":MAILTO:suzan.ok@gmail.com
END:VEVENT
BEGIN:VEVENT
DTSTART;TZID=America/New_York:20250216T103000
DTEND;TZID=America/New_York:20250216T120000
DTSTAMP:20260423T042319
CREATED:20250216T221215Z
LAST-MODIFIED:20250216T221215Z
UID:10001783-1739701800-1739707200@delrayartisans.org
SUMMARY:RESCHEDULED - STEAM-tastic: Mandalas and Meows (Ages 10-15)
DESCRIPTION:UPDATE: This workshop has been rescheduled to Sunday\, February 23\, 10:30am-noon. \nInstructor: Suzan Ok Shumate\nDate/Time: Sunday\, February 16\, 10:30am-noon\nCost: $10/child\nClass size: 1-15 participants\n(Register in advance; drop-ins allowed\, space permitting.) \nStudents will learn about the science and culture of mindfulness\, as well as how creating mandalas can help support being mindful. In addition\, they will explore how our pets keep us grounded in the present moment. For the hands-on portion\, students also practice drawing geometric shapes to create their own cat-themed mandala. \nThe hands-on activity is for participants’ ages 10-15. Family members are welcome to attend\, listen\, and learn. Please contact the Youth Programs Director at youth@delrayartisans.org with any questions. \nRegister Now \n\nSTEAM-tastic @ DRA – Come join us at Del Ray Artisans for interactive classes about Science\, Technology\, Engineering\, Arts and Math (STEAM)\, taught by professionals from each field! Geared toward kids and teens\, each lesson has a short talk or demonstration and a hands-on craft project. Del Ray Artisans’ STEAM-tastic workshops are made possible with support from the City of Alexandria through the FY2025 Annual Arts Program Grant.\n \n\nView all upcoming workshops\, information about the facility\, and policies on the Upcoming Workshops page.
URL:https://delrayartisans.org/event/rescheduled-steam-mandalas-ages-10-15/
LOCATION:Del Ray Artisans Gallery\, 2704 Mount Vernon Avenue\, Alexandria\, VA\, 22301\, United States
CATEGORIES:Program,Workshop,Youth
ATTACH;FMTTYPE=image/jpeg:https://delrayartisans.org/wp-content/uploads/2025/01/STEAM-CatMandala-Suzan-Shumate.jpg
ORGANIZER;CN="Suzan Ok Shumate":MAILTO:suzan.ok@gmail.com
END:VEVENT
BEGIN:VEVENT
DTSTART;TZID=America/New_York:20250216T090000
DTEND;TZID=America/New_York:20250216T103000
DTSTAMP:20260423T042319
CREATED:20250216T220845Z
LAST-MODIFIED:20250216T221001Z
UID:10001782-1739696400-1739701800@delrayartisans.org
SUMMARY:RESCHEDULED - STEAM-tastic: Mandalas and Meows (Ages 6-10)
DESCRIPTION:UPDATE: This workshop has been rescheduled to Sunday\, February 23\, 9-10:30am. \nInstructor: Suzan Ok Shumate\nDate/Time: Sunday\, February 16\, 9-10:30am\nCost: $10/child\nClass size: 1-15 participants\n(Register in advance; drop-ins allowed\, space permitting.) \nStudents will learn about the science and culture of mindfulness\, as well as how creating mandalas can help support being mindful. In addition\, they will explore how our pets keep us grounded in the present moment. For the hands-on portion\, students also practice drawing geometric shapes to create their own cat-themed mandala. \nThe hands-on activity is for participants’ ages 6-10. Family members are welcome to attend\, listen\, and learn. Please contact the Youth Programs Director at youth@delrayartisans.org with any questions. \nRegister Now \n\nSTEAM-tastic @ DRA – Come join us at Del Ray Artisans for interactive classes about Science\, Technology\, Engineering\, Arts and Math (STEAM)\, taught by professionals from each field! Geared toward kids and teens\, each lesson has a short talk or demonstration and a hands-on craft project. Del Ray Artisans’ STEAM-tastic workshops are made possible with support from the City of Alexandria through the FY2025 Annual Arts Program Grant.\n \n\nView all upcoming workshops\, information about the facility\, and policies on the Upcoming Workshops page.
URL:https://delrayartisans.org/event/rescheduled-steam-mandalas-ages-6-10/
LOCATION:Del Ray Artisans Gallery\, 2704 Mount Vernon Avenue\, Alexandria\, VA\, 22301\, United States
CATEGORIES:Program,Workshop,Youth
ATTACH;FMTTYPE=image/jpeg:https://delrayartisans.org/wp-content/uploads/2025/01/STEAM-CatMandala-Suzan-Shumate.jpg
ORGANIZER;CN="Suzan Ok Shumate":MAILTO:suzan.ok@gmail.com
END:VEVENT
BEGIN:VEVENT
DTSTART;TZID=America/New_York:20250118T090000
DTEND;TZID=America/New_York:20250118T120000
DTSTAMP:20260423T042319
CREATED:20241030T221751Z
LAST-MODIFIED:20250115T145230Z
UID:10001699-1737190800-1737201600@delrayartisans.org
SUMMARY:Silly Suds: Humorous Soapmaking Workshop (Register ASAP)
DESCRIPTION:Instructor: Suzan Ok Shumate\nDate/Time: Saturday\, January 18\, 9am-12pm\nCost: $35 Del Ray Artisans member / $45 Non-member; plus a $10 Supply Fee\nClass size: 4-10 participants\n(Register in advance; walk-ins welcome if space permits) \nGet ready to laugh and lather as you create your own humorous soaps (winking owls\, poop emojis\, wacky animals\, and more). Learn about melt-and-pour techniques using a moisturizing shea butter base\, premium fragrance oils\, and fun\, skin-safe colorants. Bright colors\, fun scents\, and a dash of whimsy will bring your designs to life. While soaps harden\, decorate a gift box to take your creations home with you at the end of this workshop. \nThis workshop is held in conjunction with the Visual Humor art exhibit. \nRegister Now \n\nView other upcoming workshops\, information about the facility\, and policies on the Upcoming Workshops page.
URL:https://delrayartisans.org/event/silly-suds/
LOCATION:Del Ray Artisans Gallery\, 2704 Mount Vernon Avenue\, Alexandria\, VA\, 22301\, United States
CATEGORIES:Program,Workshop
ATTACH;FMTTYPE=image/jpeg:https://delrayartisans.org/wp-content/uploads/2024/10/SillySoaps-bySuzanOkShumate.jpg
ORGANIZER;CN="Suzan Ok Shumate":MAILTO:suzan.ok@gmail.com
END:VEVENT
BEGIN:VEVENT
DTSTART;TZID=America/New_York:20240525T100000
DTEND;TZID=America/New_York:20240525T120000
DTSTAMP:20260423T042319
CREATED:20240220T154951Z
LAST-MODIFIED:20240514T141733Z
UID:10001362-1716631200-1716638400@delrayartisans.org
SUMMARY:Morning Tea (SOLD OUT)
DESCRIPTION:UPDATE: Thank you for your interest in our morning tea. The event is now full and we are unable to accommodate walk-ins. We still encourage you to visit the gallery this month to see the work of our incredible artists featured in The Art of Tea exhibit. \nEvent Organizers: Suzan Ok Shumate and Sue Shumate\nDate/Time: Saturday\, May 25\, 10am-noon\nCost: $35 Del Ray Artisans member / $45 Non-member\nEvent size: 12-16 participants\n(Register by midnight on May 17 – SOLD OUT) \nAttendees will enjoy the experience of high tea\, learn about different teas\, and take in the atmosphere of tables decorated to represent different artists (Vincent van Gogh\, Georgia O’Keefe\, Claude Monet). \nJoin fellow tea and art lovers for a relaxing morning of conversation over loose leaf infusions\, scones\, savories\, and sweets. This artist-themed high tea event is perfect for individuals\, couples\, or small groups. You can dress up in your favorite hats and gloves\, or feel free to dress casually\, too. \nMorning tea will include sweets\, savories\, and hot tea/water. However\, we are unable to accommodate special dietary restrictions. We will try to offer a variety of vegetarian options. \nThis event is being held in conjunction with The Art of Tea art exhibit. \nRegister Now \n\nArtwork credit: High tea place setting and photograph by Sue Shumate \n\nView upcoming workshops\, information about the facility\, and refund policies on the Upcoming Workshops page.
URL:https://delrayartisans.org/event/morning-tea/
LOCATION:Del Ray Artisans Gallery\, 2704 Mount Vernon Avenue\, Alexandria\, VA\, 22301\, United States
CATEGORIES:Program,Workshop
ATTACH;FMTTYPE=image/jpeg:https://delrayartisans.org/wp-content/uploads/2024/03/August-2023-Tea-by-Sue-Shumate.jpg
ORGANIZER;CN="Suzan Ok Shumate":MAILTO:suzan.ok@gmail.com
END:VEVENT
BEGIN:VEVENT
DTSTART;TZID=America/New_York:20240503T190000
DTEND;TZID=America/New_York:20240503T210000
DTSTAMP:20260423T042319
CREATED:20231127T212055Z
LAST-MODIFIED:20240429T172736Z
UID:10001300-1714762800-1714770000@delrayartisans.org
SUMMARY:"The Art of Tea" Exhibit Opening Reception
DESCRIPTION:The Art of Tea Art Exhibit\nMay 3 – June 2\, 2024\nOpening Reception: Friday\, May 3 from 7–9pm\n“Floral Infusion” by Suzan Ok Shumate and Sue Shumate\nStep into a world where art intersects with tea. Through The Art of Tea exhibit at Del Ray Artisans gallery\, artists explore the culture of tea\, a drink that dates back thousands of years to China’s Shang Dynasty. Channeling their inner Zhou Fang\, Matisse\, Cassatt\, and van Rijsselberghe\, artists depict themes and stories surrounding this aromatic beverage. From tea cups and tea pots to the Mad Hatter or Boston Tea Party\, this exhibit intrigues and delights\, like an herbal infusion on a sunny morning. \nJoin us for the opening reception on Friday\, May 3 between 7-9pm to meet curators Suzan Ok Shumate and Sue Shumate and the artists. Mark your calendar now or set a reminder through Eventbrite. \nGet your tickets now for Morning Tea on Saturday\, May 25 from 10am-noon ($35 per Del Ray Artisans member\, $45 per non-member). Wear your favorite hats and gloves\, or dress casually; this is a time to relax and enjoy a few hours of conversation with friends or family over a delicious cup of tea with petite savories and sweets. \nThe Art of Tea exhibit runs May 3 – June 2\, 2024 at Del Ray Artisans gallery in the Colasanto Center\, 2704 Mount Vernon Avenue\, Alexandria\, Virginia 22301. Gallery hours are First Thursday (Apr-Sept) 12-9pm\, Thursday 12-6pm\, Friday 12-9pm\, Saturday 12-6pm\, and Sunday 12-6pm. On the last day of the exhibit (Sunday\, June 2) the gallery is open 12-4pm. \nThe gallery is free\, open to the public\, and accessible. Del Ray Artisans\, a 501(3)(c) nonprofit organization whose mission is to promote art for the benefit of artists and the community. \nFor more information\, contact curators Suzan Ok Shumate at suzan.ok@gmail.com and Sue Shumate at susan.shumate1@gmail.com or Director of Curating Amy Kitchin Hower at curating@delrayartisans.org.
URL:https://delrayartisans.org/event/the-art-of-tea-reception/
LOCATION:Del Ray Artisans Gallery\, 2704 Mount Vernon Avenue\, Alexandria\, VA\, 22301\, United States
ATTACH;FMTTYPE=image/jpeg:https://delrayartisans.org/wp-content/uploads/2023/09/Floral-Infusion-by-Suzan-Ok-Shumate-and-Sue-Shumate-square.jpg
ORGANIZER;CN="Suzan Ok Shumate":MAILTO:suzan.ok@gmail.com
END:VEVENT
BEGIN:VEVENT
DTSTART;VALUE=DATE:20240503
DTEND;VALUE=DATE:20240603
DTSTAMP:20260423T042319
CREATED:20230923T190500Z
LAST-MODIFIED:20240528T153122Z
UID:10001134-1714694400-1717372799@delrayartisans.org
SUMMARY:The Art of Tea at Del Ray Artisans Gallery
DESCRIPTION:The Art of Tea Art Exhibit\nMay 3 – June 2\, 2024\nOpening Reception: Friday\, May 3 from 7–9pm\n“Floral Infusion” by Suzan Ok Shumate and Sue Shumate\nPhoto Album \nStep into a world where art intersects with tea. Through The Art of Tea exhibit at Del Ray Artisans gallery\, artists explore the culture of tea\, a drink that dates back thousands of years to China’s Shang Dynasty. Channeling their inner Zhou Fang\, Matisse\, Cassatt\, and van Rijsselberghe\, artists depict themes and stories surrounding this aromatic beverage. From tea cups and tea pots to the Mad Hatter or Boston Tea Party\, this exhibit intrigues and delights\, like an herbal infusion on a sunny morning. \nJoin us for the opening reception on Friday\, May 3 between 7-9pm to meet curators Suzan Ok Shumate and Sue Shumate and the artists. Mark your calendar now or set a reminder through Eventbrite. \nGet your tickets now for Morning Tea on Saturday\, May 25 from 10am-noon ($35 per Del Ray Artisans member\, $45 per non-member). Wear your favorite hats and gloves\, or dress casually; this is a time to relax and enjoy a few hours of conversation with friends or family over a delicious cup of tea with petite savories and sweets. \nThe Art of Tea exhibit runs May 3 – June 2\, 2024 at Del Ray Artisans gallery in the Colasanto Center\, 2704 Mount Vernon Avenue\, Alexandria\, Virginia 22301. Gallery hours are First Thursday (Apr-Sept) 12-9pm\, Thursday 12-6pm\, Friday 12-9pm\, Saturday 12-6pm\, and Sunday 12-6pm. On the last day of the exhibit (Sunday\, June 2) the gallery is open 12-4pm. \nThe gallery is free\, open to the public\, and accessible. Del Ray Artisans\, a 501(3)(c) nonprofit organization whose mission is to promote art for the benefit of artists and the community. \nFor more information\, contact curators Suzan Ok Shumate at suzan.ok@gmail.com and Sue Shumate at susan.shumate1@gmail.com or Director of Curating Amy Kitchin Hower at curating@delrayartisans.org.
URL:https://delrayartisans.org/event/the-art-of-tea/
LOCATION:Del Ray Artisans Gallery\, 2704 Mount Vernon Avenue\, Alexandria\, VA\, 22301\, United States
CATEGORIES:Art Exhibit,Del Ray Artisans Gallery
ATTACH;FMTTYPE=image/jpeg:https://delrayartisans.org/wp-content/uploads/2023/09/Floral-Infusion-by-Suzan-Ok-Shumate-and-Sue-Shumate-square.jpg
ORGANIZER;CN="Suzan Ok Shumate":MAILTO:suzan.ok@gmail.com
END:VEVENT
BEGIN:VEVENT
DTSTART;TZID=America/New_York:20240417T235900
DTEND;TZID=America/New_York:20240417T235900
DTSTAMP:20260423T042319
CREATED:20230923T183903Z
LAST-MODIFIED:20240318T140834Z
UID:10001128-1713398340-1713398340@delrayartisans.org
SUMMARY:“The Art of Tea” Call for Entry Deadline
DESCRIPTION:Call for Entry ~ Open to area artists\nThe Art of Tea\nExhibit Dates: May 3–June 2\, 2024\nDigital entry deadline: Wednesday\, April 17\, 2024 by midnight\n“Floral Infusion” by Suzan Ok Shumate\nExplore the culture of tea\, a drink that dates back thousands of years to China’s Shang Dynasty. Channeling your inner Zhou Fang\, Matisse\, Cassatt\, or van Rijsselberghe\, depict themes and stories surrounding this aromatic beverage. All media are welcome including art that weaves tea into the creations. \nThe exhibit is open to all area artists. Del Ray Artisans members pay a discounted entry fee. \nEntry Details & Form
URL:https://delrayartisans.org/event/tea-deadline/
CATEGORIES:Entry Deadline
ORGANIZER;CN="Suzan Ok Shumate":MAILTO:suzan.ok@gmail.com
END:VEVENT
END:VCALENDAR