BEGIN:VCALENDAR
VERSION:2.0
PRODID:-//Del Ray Artisans - ECPv6.15.20//NONSGML v1.0//EN
CALSCALE:GREGORIAN
METHOD:PUBLISH
X-ORIGINAL-URL:https://delrayartisans.org
X-WR-CALDESC:Events for Del Ray Artisans
REFRESH-INTERVAL;VALUE=DURATION:PT1H
X-Robots-Tag:noindex
X-PUBLISHED-TTL:PT1H
BEGIN:VTIMEZONE
TZID:America/New_York
BEGIN:DAYLIGHT
TZOFFSETFROM:-0500
TZOFFSETTO:-0400
TZNAME:EDT
DTSTART:20200308T070000
END:DAYLIGHT
BEGIN:STANDARD
TZOFFSETFROM:-0400
TZOFFSETTO:-0500
TZNAME:EST
DTSTART:20201101T060000
END:STANDARD
BEGIN:DAYLIGHT
TZOFFSETFROM:-0500
TZOFFSETTO:-0400
TZNAME:EDT
DTSTART:20210314T070000
END:DAYLIGHT
BEGIN:STANDARD
TZOFFSETFROM:-0400
TZOFFSETTO:-0500
TZNAME:EST
DTSTART:20211107T060000
END:STANDARD
BEGIN:DAYLIGHT
TZOFFSETFROM:-0500
TZOFFSETTO:-0400
TZNAME:EDT
DTSTART:20220313T070000
END:DAYLIGHT
BEGIN:STANDARD
TZOFFSETFROM:-0400
TZOFFSETTO:-0500
TZNAME:EST
DTSTART:20221106T060000
END:STANDARD
BEGIN:DAYLIGHT
TZOFFSETFROM:-0500
TZOFFSETTO:-0400
TZNAME:EDT
DTSTART:20230312T070000
END:DAYLIGHT
BEGIN:STANDARD
TZOFFSETFROM:-0400
TZOFFSETTO:-0500
TZNAME:EST
DTSTART:20231105T060000
END:STANDARD
END:VTIMEZONE
BEGIN:VEVENT
DTSTART;TZID=America/New_York:20220911T235000
DTEND;TZID=America/New_York:20220911T235900
DTSTAMP:20260424T054003
CREATED:20230329T210504Z
LAST-MODIFIED:20230329T210504Z
UID:10000443-1662940200-1662940740@delrayartisans.org
SUMMARY:“Return to Eating\, Drinking\, and Merriment” Non-ceramic Call for Entry Deadline
DESCRIPTION:Call for Entry for Non-Ceramic Art Open to Regional Artists Return to Eating\, Drinking\, and Merriment October 7–29\, 2022\nDigital entries due: Sunday\, September 11\, 2022 by midnight\nEntry Details & Form \nIn Ecclesiastes it is written that “there is nothing good for a man under the sun except to eat and to drink and to be merry.” This exhibit celebrates the way that food and drink brings people together and joy to our lives. Artwork should be inspired by food\, real or metaphorical\, that nourishes the viewer. Artists may also highlight the rituals and places that celebrate the social gathering around sustenance. \nReturn to Eating\, Drinking\, and Merriment is a hybrid show that combines a national ceramic show focused on drinking vessels with a regional non-ceramic two- and three-dimensional show that echoes these themes. This call for entry is for the regional non-ceramic exhibit portion of the exhibit. \nEntry Details & Form \nArtwork credit: “Eat\, Drink\, and Be Merry” (Photograph by Sam Lally\, featuring pottery by Stephen Lally)
URL:https://delrayartisans.org/event/return-to-eating-drinking-and-merriment-non-ceramic-call-for-entry-deadline/
LOCATION:Online
CATEGORIES:Entry Deadline
ATTACH;FMTTYPE=image/jpeg:https://delrayartisans.org/wp-content/uploads/1992/12/Eat-Drink-and-Be-Merry-by-Sam-and-Stephen-Lally-k2UgmG.tmp.jpg
ORGANIZER;CN="Stephen Lally":MAILTO:slallypottery@gmail.com
END:VEVENT
BEGIN:VEVENT
DTSTART;TZID=America/New_York:20220905T235000
DTEND;TZID=America/New_York:20220905T235900
DTSTAMP:20260424T054003
CREATED:20230329T210451Z
LAST-MODIFIED:20230329T210451Z
UID:10000440-1662421800-1662422340@delrayartisans.org
SUMMARY:“Return to Eating\, Drinking\, and Merriment” Ceramic Call for Entry Deadline
DESCRIPTION:National Ceramic Call for EntryOpen to All Artists within the United StatesReturn to Eating\, Drinking\, and MerrimentOctober 7–29\, 2022\nDigital entries due: Monday\, September 5\, 2022 by midnight\nEntry Details & Form \nIn Ecclesiastes it is written that “there is nothing good for a man under the sun except to eat and to drink and to be merry.” This exhibit celebrates the way that food and drink brings people together and joy to our lives. Artwork should be inspired by food\, real or metaphorical\, that nourishes the viewer. Artists may also highlight the rituals and places that celebrate the social gathering around sustenance. \nReturn to Eating\, Drinking\, and Merriment is a hybrid show that combines a national ceramic show focused on drinking vessels with a regional non-ceramic two- and three-dimensional show that echoes these themes. This call for entry is for the National Ceramic Show portion of the exhibit. \nEntry Details & Form \nArtwork credit: Pottery by juror Jeremy Wallace
URL:https://delrayartisans.org/event/return-to-eating-drinking-and-merriment-ceramic-call-for-entry-deadline/
LOCATION:Online
CATEGORIES:Entry Deadline
ATTACH;FMTTYPE=image/jpeg:https://delrayartisans.org/wp-content/uploads/2022/07/Pottery-by-Jeremy-Wallace.jpg
ORGANIZER;CN="Stephen Lally":MAILTO:slallypottery@gmail.com
END:VEVENT
BEGIN:VEVENT
DTSTART;TZID=America/New_York:20220717T235000
DTEND;TZID=America/New_York:20220717T235900
DTSTAMP:20260424T054003
CREATED:20230329T210346Z
LAST-MODIFIED:20230329T210346Z
UID:10000416-1658101800-1658102340@delrayartisans.org
SUMMARY:Alcove Gift Shop Call for Artists Deadline
DESCRIPTION:Call for Artists ~ Open to Del Ray Artisans Members\nAlcove Gift Shop August 5 – October 1\, 2022\nApplication deadline: Sunday\, July 17\, 2022 by midnight \nApplication Details & Form \nDel Ray Artisans has established the Alcove as a gift shop within the gallery\, where members may display and sell their work. Unframed 2-D work will be available in bins alongside jewelry\, fiber art\, wood craft\, ceramics\, and other smaller 3-D items. \nThe work will be displayed for two months\, and as pieces are sold they can be replaced with similar work for no additional fee. This opportunity is independent of the monthly exhibits and is only open to Del Ray Artisans members. If you are not a member\, you may join Del Ray Artisans now to enter. \nApplication Details & Form
URL:https://delrayartisans.org/event/alcove-gift-shop-call-for-artists-deadline-4/
LOCATION:Online
CATEGORIES:Entry Deadline
ATTACH;FMTTYPE=image/jpeg:https://delrayartisans.org/wp-content/uploads/2021/11/alcove-giftshop-square.jpg
ORGANIZER;CN="Stephen Lally":MAILTO:slallypottery@gmail.com
END:VEVENT
BEGIN:VEVENT
DTSTART;VALUE=DATE:20220626
DTEND;VALUE=DATE:20220627
DTSTAMP:20260424T054003
CREATED:20230323T195924Z
LAST-MODIFIED:20230416T180949Z
UID:10000050-1656201600-1656287999@delrayartisans.org
SUMMARY:Alcove Gift Shop (5/6 - 6/26/2022)
DESCRIPTION:Photo Album \nThe Alcove Gift Shop is open for 10 months of the year (closed in July and December for special events). New items will appear in the gift shop each week\, and all the artwork is fully refreshed every two months. The current display runs May 6 – June 26\, 2022. \nAll work featured in the gift shop is by Del Ray Artisans members. Unframed 2-D work is available in bins alongside jewelry\, fiber art\, wood craft\, ceramics\, and other smaller 3-D items. The gift shop is located in the alcove inside Del Ray Artisans gallery in the Colasanto Center\, 2704 Mount Vernon Avenue\, Alexandria\, Virginia 22301. \nThe gallery is free\, open to the public\, and accessible. Face masks are recommended inside the gallery. \nGallery hours are Thursdays 12-6pm\, Fridays 12-9pm\, Saturdays 12-6pm\, and Sundays 12-6pm. The gallery is closed on Sunday\, May 1 and Sunday\, May 29. \nFor more information\, contact the curators Stephen Lally (slallypottery@gmail.com) and Rita Schooley (rlschooley@gmail.com).
URL:https://delrayartisans.org/event/alcove-may-june-2022/
LOCATION:Del Ray Artisans Gallery\, 2704 Mount Vernon Avenue\, Alexandria\, VA\, 22301\, United States
CATEGORIES:Art Exhibit,Del Ray Artisans Gallery
ATTACH;FMTTYPE=image/jpeg:https://delrayartisans.org/wp-content/uploads/2022/05/Alcove-Gift-Shop-May-2022.jpg
ORGANIZER;CN="Stephen Lally":MAILTO:slallypottery@gmail.com
END:VEVENT
BEGIN:VEVENT
DTSTART;VALUE=DATE:20220430
DTEND;VALUE=DATE:20220501
DTSTAMP:20260424T054003
CREATED:20230323T195908Z
LAST-MODIFIED:20230416T181034Z
UID:10000045-1651276800-1651363199@delrayartisans.org
SUMMARY:Alcove Gift Shop (3/4 - 4/30/2022)
DESCRIPTION:Photo Album \nThe Alcove Gift Shop is open for 10 months of the year (closed in July and December for special events). New items will appear in the gift shop each week\, and all the artwork is fully refreshed every two months. The current display runs March 4 – April 30\, 2022. \nAll work featured in the gift shop is by Del Ray Artisans members. Unframed 2-D work is available in bins alongside jewelry\, fiber art\, wood craft\, ceramics\, and other smaller 3-D items. The gift shop is located in the alcove inside Del Ray Artisans gallery in the Colasanto Center\, 2704 Mount Vernon Avenue\, Alexandria\, Virginia 22301. \nThe gallery is free\, open to the public\, and accessible. The gallery capacity is limited to 15 people at any one time in order to facilitate social distancing. Del Ray Artisans has taken the ALX Promise pledge and is committed to the health and safety of our visitors. Face masks must be worn by all while visiting the gallery. \nGallery hours are Thursdays 12-6pm\, Fridays 12-9pm\, Saturdays 12-6pm\, and Sundays 12-6pm. The gallery is closed on Sunday\, March 27 and Sunday\, May 1. \nFor more information\, contact the curators Stephen Lally (slallypottery@gmail.com) and Rita Schooley (rlschooley@gmail.com).
URL:https://delrayartisans.org/event/alcove-mar-apr-2022/
LOCATION:Del Ray Artisans Gallery\, 2704 Mount Vernon Avenue\, Alexandria\, VA\, 22301\, United States
CATEGORIES:Art Exhibit,Del Ray Artisans Gallery
ATTACH;FMTTYPE=image/jpeg:https://delrayartisans.org/wp-content/uploads/2022/04/alcove-by-Suzan-Ok.jpg
ORGANIZER;CN="Stephen Lally":MAILTO:slallypottery@gmail.com
END:VEVENT
BEGIN:VEVENT
DTSTART;TZID=America/New_York:20220424T235000
DTEND;TZID=America/New_York:20220424T235900
DTSTAMP:20260424T054003
CREATED:20230329T210202Z
LAST-MODIFIED:20230329T210202Z
UID:10000382-1650844200-1650844740@delrayartisans.org
SUMMARY:Alcove Gift Shop Call for Artists Deadline
DESCRIPTION:Call for Artists ~ Open to Del Ray Artisans Members\nAlcove Gift Shop May 6 – June 26\, 2022\nApplication deadline: Sunday\, April 24\, 2022 by midnight \nApplication Details & Form \nDel Ray Artisans has established the Alcove as a gift shop within the gallery\, where members may display and sell their work. Unframed 2-D work will be available in bins alongside jewelry\, fiber art\, wood craft\, ceramics\, and other smaller 3-D items. \nThe work will be displayed for two months\, and as pieces are sold they can be replaced with similar work for no additional fee. This opportunity is independent of the monthly exhibits and is only open to Del Ray Artisans members. If you are not a member\, you may join Del Ray Artisans now to enter. \nApplication Details & Form
URL:https://delrayartisans.org/event/alcove-gift-shop-call-for-artists-deadline-3/
LOCATION:Online
CATEGORIES:Entry Deadline
ATTACH;FMTTYPE=image/jpeg:https://delrayartisans.org/wp-content/uploads/2021/11/alcove-giftshop-square.jpg
ORGANIZER;CN="Stephen Lally":MAILTO:slallypottery@gmail.com
END:VEVENT
BEGIN:VEVENT
DTSTART;VALUE=DATE:20220226
DTEND;VALUE=DATE:20220227
DTSTAMP:20260424T054003
CREATED:20230323T195821Z
LAST-MODIFIED:20230416T181041Z
UID:10000029-1645833600-1645919999@delrayartisans.org
SUMMARY:Alcove Gift Shop (1/7 - 2/26/2022)
DESCRIPTION:Alcove Gift Shop runs January 7 – February 26\, 2022\nPhoto Album \nThe Alcove Gift Shop runs January 7 – February 26\, 2022 at Del Ray Artisans gallery in the Colasanto Center\, 2704 Mount Vernon Avenue\, Alexandria\, Virginia 22301. The gallery is free\, open to the public\, and accessible. The gallery capacity is limited to 15 people at any one time in order to facilitate social distancing. Del Ray Artisans has taken the ALX Promise pledge and is committed to the health and safety of our visitors. Face masks must be worn by all while visiting the gallery. \nGallery hours are Thursdays 12-6pm\, Fridays 12-9pm\, Saturdays 12-6pm\, and Sundays 12-6pm. The gallery is closed the last Sunday of the month (January 30 and February 27). \nFor more information\, contact the curators Stephen Lally (slallypottery@gmail.com) and Rita Schooley (rlschooley@gmail.com) or Director of Curating Kelly Postula (Curating@DelRayArtisans.org).
URL:https://delrayartisans.org/event/alcove-jan-feb-2022/
LOCATION:Del Ray Artisans Gallery\, 2704 Mount Vernon Avenue\, Alexandria\, VA\, 22301\, United States
CATEGORIES:Art Exhibit,Del Ray Artisans Gallery
ATTACH;FMTTYPE=image/jpeg:https://delrayartisans.org/wp-content/uploads/2022/01/Alcove-Gift-Shop-Jan-2022.jpg
ORGANIZER;CN="Stephen Lally":MAILTO:slallypottery@gmail.com
END:VEVENT
BEGIN:VEVENT
DTSTART;TZID=America/New_York:20220216T235000
DTEND;TZID=America/New_York:20220216T235900
DTSTAMP:20260424T054003
CREATED:20230329T210031Z
LAST-MODIFIED:20230329T210031Z
UID:10000351-1645055400-1645055940@delrayartisans.org
SUMMARY:Alcove Gift Shop Call for Artists Deadline
DESCRIPTION:Call for Artists ~ Open to Del Ray Artisans Members\nAlcove Gift Shop March 4 – April 30\, 2022\nApplication deadline: Wednesday\, February 16\, 2022 by midnight  \nApplication Details & Form \nDel Ray Artisans has established the Alcove as a gift shop within the gallery\, where members may display and sell their work. Unframed 2-D work will be available in bins alongside jewelry\, fiber art\, wood craft\, ceramics\, and other smaller 3-D items. \nThe work will be displayed for two months\, and as pieces are sold they can be replaced with similar work for no additional fee. This opportunity is independent of the monthly exhibits and is only open to Del Ray Artisans members. If you are not a member\, you may join Del Ray Artisans now to enter. \nApplication Details & Form
URL:https://delrayartisans.org/event/alcove-gift-shop-call-for-artists-deadline-2/
LOCATION:Online
CATEGORIES:Entry Deadline
ATTACH;FMTTYPE=image/jpeg:https://delrayartisans.org/wp-content/uploads/2021/11/alcove-giftshop-square.jpg
ORGANIZER;CN="Stephen Lally":MAILTO:slallypottery@gmail.com
END:VEVENT
BEGIN:VEVENT
DTSTART;TZID=America/New_York:20211217T130000
DTEND;TZID=America/New_York:20211217T173000
DTSTAMP:20260424T054003
CREATED:20230330T155544Z
LAST-MODIFIED:20230330T171744Z
UID:10000620-1639746000-1639762200@delrayartisans.org
SUMMARY:Holiday Market Setup
DESCRIPTION:Holiday Market setup – open for administrative business only.
URL:https://delrayartisans.org/event/holiday-market-setup-2021/2021-12-17/
LOCATION:Del Ray Artisans Gallery\, 2704 Mount Vernon Avenue\, Alexandria\, VA\, 22301\, United States
CATEGORIES:Administrative
ATTACH;FMTTYPE=image/jpeg:https://delrayartisans.org/wp-content/uploads/1992/12/gallery-exterior-autumn-look-EBLFAl.tmp.jpg
ORGANIZER;CN="Stephen Lally":MAILTO:slallypottery@gmail.com
END:VEVENT
BEGIN:VEVENT
DTSTART;TZID=America/New_York:20211216T130000
DTEND;TZID=America/New_York:20211216T203000
DTSTAMP:20260424T054003
CREATED:20230330T155544Z
LAST-MODIFIED:20230330T171744Z
UID:10000619-1639659600-1639686600@delrayartisans.org
SUMMARY:Holiday Market Setup
DESCRIPTION:Holiday Market setup – open for administrative business only.
URL:https://delrayartisans.org/event/holiday-market-setup-2021/2021-12-16/
LOCATION:Del Ray Artisans Gallery\, 2704 Mount Vernon Avenue\, Alexandria\, VA\, 22301\, United States
CATEGORIES:Administrative
ATTACH;FMTTYPE=image/jpeg:https://delrayartisans.org/wp-content/uploads/1992/12/gallery-exterior-autumn-look-EBLFAl.tmp.jpg
ORGANIZER;CN="Stephen Lally":MAILTO:slallypottery@gmail.com
END:VEVENT
BEGIN:VEVENT
DTSTART;TZID=America/New_York:20211215T235000
DTEND;TZID=America/New_York:20211215T235900
DTSTAMP:20260424T054003
CREATED:20230329T205933Z
LAST-MODIFIED:20230329T205933Z
UID:10000333-1639612200-1639612740@delrayartisans.org
SUMMARY:Alcove Gift Shop Call for Artists Deadline
DESCRIPTION:Call for Artists ~ Open to Del Ray Artisans MembersAlcove Gift Shop\nJanuary 7 – February 26\, 2022\nApplication deadline: Wednesday\, December 15\, 2021 by midnight\n \nApplication Details & Form \nDel Ray Artisans has established the Alcove as a gift shop within the gallery\, where members may display and sell their work. Unframed 2-D work will be available in bins alongside jewelry\, fiber art\, wood craft\, ceramics\, and other smaller 3-D items. \nThe work will be displayed for two months\, and as pieces are sold they can be replaced with similar work for no additional fee. This opportunity is independent of the monthly exhibits and is only open to Del Ray Artisans members. If you are not a member\, you may join Del Ray Artisans now to enter. \nApplication Details & Form
URL:https://delrayartisans.org/event/alcove-gift-shop-call-for-artists-deadline/
LOCATION:Online
CATEGORIES:Entry Deadline
ATTACH;FMTTYPE=image/jpeg:https://delrayartisans.org/wp-content/uploads/2021/11/alcove-giftshop-square.jpg
ORGANIZER;CN="Stephen Lally":MAILTO:slallypottery@gmail.com
END:VEVENT
BEGIN:VEVENT
DTSTART;TZID=America/New_York:20211210T130000
DTEND;TZID=America/New_York:20211210T173000
DTSTAMP:20260424T054003
CREATED:20230330T155544Z
LAST-MODIFIED:20230330T171744Z
UID:10000618-1639141200-1639157400@delrayartisans.org
SUMMARY:Holiday Market Setup
DESCRIPTION:Holiday Market setup – open for administrative business only.
URL:https://delrayartisans.org/event/holiday-market-setup-2021/2021-12-10/
LOCATION:Del Ray Artisans Gallery\, 2704 Mount Vernon Avenue\, Alexandria\, VA\, 22301\, United States
CATEGORIES:Administrative
ATTACH;FMTTYPE=image/jpeg:https://delrayartisans.org/wp-content/uploads/1992/12/gallery-exterior-autumn-look-EBLFAl.tmp.jpg
ORGANIZER;CN="Stephen Lally":MAILTO:slallypottery@gmail.com
END:VEVENT
BEGIN:VEVENT
DTSTART;TZID=America/New_York:20211209T130000
DTEND;TZID=America/New_York:20211209T203000
DTSTAMP:20260424T054003
CREATED:20230330T155544Z
LAST-MODIFIED:20230330T171744Z
UID:10000617-1639054800-1639081800@delrayartisans.org
SUMMARY:Holiday Market Setup
DESCRIPTION:Holiday Market setup – open for administrative business only.
URL:https://delrayartisans.org/event/holiday-market-setup-2021/2021-12-09/
LOCATION:Del Ray Artisans Gallery\, 2704 Mount Vernon Avenue\, Alexandria\, VA\, 22301\, United States
CATEGORIES:Administrative
ATTACH;FMTTYPE=image/jpeg:https://delrayartisans.org/wp-content/uploads/1992/12/gallery-exterior-autumn-look-EBLFAl.tmp.jpg
ORGANIZER;CN="Stephen Lally":MAILTO:slallypottery@gmail.com
END:VEVENT
BEGIN:VEVENT
DTSTART;TZID=America/New_York:20211203T130000
DTEND;TZID=America/New_York:20211203T173000
DTSTAMP:20260424T054003
CREATED:20230330T155544Z
LAST-MODIFIED:20230330T171744Z
UID:10000616-1638536400-1638552600@delrayartisans.org
SUMMARY:Holiday Market Setup
DESCRIPTION:Holiday Market setup – open for administrative business only.
URL:https://delrayartisans.org/event/holiday-market-setup-2021/2021-12-03/
LOCATION:Del Ray Artisans Gallery\, 2704 Mount Vernon Avenue\, Alexandria\, VA\, 22301\, United States
CATEGORIES:Administrative
ATTACH;FMTTYPE=image/jpeg:https://delrayartisans.org/wp-content/uploads/1992/12/gallery-exterior-autumn-look-EBLFAl.tmp.jpg
ORGANIZER;CN="Stephen Lally":MAILTO:slallypottery@gmail.com
END:VEVENT
BEGIN:VEVENT
DTSTART;VALUE=DATE:20211203
DTEND;VALUE=DATE:20211220
DTSTAMP:20260424T054003
CREATED:20230323T195807Z
LAST-MODIFIED:20230324T160907Z
UID:10000025-1638489600-1639958399@delrayartisans.org
SUMMARY:Holiday Market 2021 (First 3 Weekends in December)
DESCRIPTION:Del Ray Artisans’ 26th Annual Fine Art & Fine Craft Holiday Market\n\nFirst 3 Weekends in December:\nFridays 6-9pm\,\nSaturdays & Sundays 11am-6pm\n\nJoin us for the 26th annual Holiday Market! The Holiday Market is open for the first 3 weekends in December: December 3-5\, December 10-12\, and December 17-19. Different artists are featured each weekend! \nThank you to the 2022 Calendar Sponsors: Homes of Alexandria Team of Compass (Ellen\, Bobi and Daniela)\, Cooley LLP\, Community Partner McD Mateos\, and Cosmopolitan Boat Club!\nThe Market offers unique handmade fine arts and fine crafts from local artists presenting a variety of media\, including fiber/textiles\, glass\, jewelry\, mixed media\, mosaics\, painting\, paper crafting\, photography\, pottery/ceramics\, sculpture\, watercolor\, wood turning\, and more! In addition\, 2022 wall calendars featuring artworks by Del Ray Artisans members will be available for purchase. Artists are donating a percentage of their sales to help support Del Ray Artisans’ mission to promote art for the benefit of artists and the community. \nHours are Fridays 6-9pm\, and Saturdays & Sundays 11am-6pm. The Holiday Market will be at Del Ray Artisans gallery in the Nicholas A. Colasanto Center\, 2704 Mount Vernon Avenue\, Alexandria\, Virginia 22301. \nDel Ray Artisans has taken the ALX Promise pledge and is committed to the health and safety of our visitors. Face masks must be worn by all while visiting the gallery. Gallery capacity is limited to 15 people at a time to assist in social distancing. Please be patient if there is a line. \nThe gallery is free\, open to the public and accessible. For more information\, contact the Holiday Market Coordinators: Steve Lally (slallypottery@gmail.com)\, Amy Kitchin Hower (alkitchin.dc@gmail.com)\, and Rita Schooley (rlschooley@gmail.com).\n. \nWeekend 1 (Dec 3-5)\nArtists include: \n\nTracey Coleman\, The Turquoise Easel\nPatty Moloney Figliola\, Aisling PhotoArt\nHolly Fries\, Holly’s Art Imaginarium\nMegan Levanduski\, Megan Elaine Designs\nLiz Martinez\nLaurel Prucha Moran\, Blue Room Studio / DMV Matchbooks\nPatti North\, All Fired Up!\nStacy Rausch\nKen and Sue Reed\, Green and Burning Tree\nKellie Sansone Creates\nKathy Stoner\nChristine Vinh\, Stitchesnquilts\nNancy Yonehiro\, Angst and Attitude LLC\n\n. \nWeekend 2 (Dec 10-12)\nArtists include: \n\nSandra Alami\, There’s Something About Purl\nLynn Chadwick Design\nRita Cohen\nmarcel artes deolazo\nLynn Fernandez\, Now Brace Yourself\nMaria Frescas\, Maria’s Windows\nANNETTE KRAMER designs\ndiana manchak\, designs in clay\nRuss Mardon\nMadeline Ramsey & Renee Rutkowski\, Unique Stained Glass\nEllen Frances Rosenthal\, ER Printmaker\nMarcia Toepfer\n\n. \nWeekend 3 (Dec 17-19)\nArtists include: \n\nCole\, Beauty And The Moon\nStephanie Darlene\nJulie Jakopic\nNancy Kline Art\nStephen Lally Pottery\nDiana Papazian\, Papazian Design\, LLC\nAlexandra Schmeling Fine Art\nBeth Schwartz Studio\nKevin Sherlock\nJoyce Wagner\, Reinvented Elegance\nTamara Wilkerson\, WiRealm by Tamara\n\n.
URL:https://delrayartisans.org/event/holiday-market-2021/
LOCATION:Del Ray Artisans Gallery\, 2704 Mount Vernon Avenue\, Alexandria\, VA\, 22301\, United States
CATEGORIES:Art Exhibit,Del Ray Artisans Gallery,Market
ATTACH;FMTTYPE=image/jpeg:https://delrayartisans.org/wp-content/uploads/1992/12/DRA_Holiday-Market_Square-lARzDy.tmp.jpg
ORGANIZER;CN="Stephen Lally":MAILTO:slallypottery@gmail.com
END:VEVENT
BEGIN:VEVENT
DTSTART;TZID=America/New_York:20211202T130000
DTEND;TZID=America/New_York:20211202T203000
DTSTAMP:20260424T054003
CREATED:20230330T155544Z
LAST-MODIFIED:20230330T171744Z
UID:10000615-1638450000-1638477000@delrayartisans.org
SUMMARY:Holiday Market Setup
DESCRIPTION:Holiday Market setup – open for administrative business only.
URL:https://delrayartisans.org/event/holiday-market-setup-2021/2021-12-02/
LOCATION:Del Ray Artisans Gallery\, 2704 Mount Vernon Avenue\, Alexandria\, VA\, 22301\, United States
CATEGORIES:Administrative
ATTACH;FMTTYPE=image/jpeg:https://delrayartisans.org/wp-content/uploads/1992/12/gallery-exterior-autumn-look-EBLFAl.tmp.jpg
ORGANIZER;CN="Stephen Lally":MAILTO:slallypottery@gmail.com
END:VEVENT
BEGIN:VEVENT
DTSTART;VALUE=DATE:20211128
DTEND;VALUE=DATE:20211129
DTSTAMP:20260424T054003
CREATED:20230323T195806Z
LAST-MODIFIED:20230416T181141Z
UID:10000024-1638057600-1638143999@delrayartisans.org
SUMMARY:Alcove Gift Shop (10/1 - 11/28/2021)
DESCRIPTION:Alcove Gift Shop runs October 1 – November 28\, 2021\nPhoto Album \nThe Alcove Gift Shop runs October 1 – November 28\, 2021 at Del Ray Artisans gallery in the Colasanto Center\, 2704 Mount Vernon Avenue\, Alexandria\, Virginia 22301. The gallery is free\, open to the public\, and accessible. The gallery capacity is limited to 15 people at any one time in order to facilitate social distancing. Del Ray Artisans has taken the ALX Promise pledge and is committed to the health and safety of our visitors. Face masks must be worn by all while visiting the gallery. \nGallery hours are Thursdays 12-6pm\, Fridays 12-9pm\, Saturdays 12-6pm\, and Sundays 12-6pm. The gallery is closed on Halloween (Sunday\, October 31) and Thanksgiving day (Thursday\, November 25). \nFor more information\, contact the curators Stephen Lally (slallypottery@gmail.com) and Rita Schooley (rlschooley@gmail.com) or Director of Curating Kelly Postula (Curating@DelRayArtisans.org).
URL:https://delrayartisans.org/event/alcove-oct-nov-2021/
LOCATION:Del Ray Artisans Gallery\, 2704 Mount Vernon Avenue\, Alexandria\, VA\, 22301\, United States
CATEGORIES:Art Exhibit,Del Ray Artisans Gallery
ATTACH;FMTTYPE=image/jpeg:https://delrayartisans.org/wp-content/uploads/2020/11/Alcove-Gift-Shop-Oct-2021.jpg
ORGANIZER;CN="Stephen Lally":MAILTO:slallypottery@gmail.com
END:VEVENT
END:VCALENDAR