BEGIN:VCALENDAR
VERSION:2.0
PRODID:-//Del Ray Artisans - ECPv6.15.20//NONSGML v1.0//EN
CALSCALE:GREGORIAN
METHOD:PUBLISH
X-ORIGINAL-URL:https://delrayartisans.org
X-WR-CALDESC:Events for Del Ray Artisans
REFRESH-INTERVAL;VALUE=DURATION:PT1H
X-Robots-Tag:noindex
X-PUBLISHED-TTL:PT1H
BEGIN:VTIMEZONE
TZID:America/New_York
BEGIN:DAYLIGHT
TZOFFSETFROM:-0500
TZOFFSETTO:-0400
TZNAME:EDT
DTSTART:20250309T070000
END:DAYLIGHT
BEGIN:STANDARD
TZOFFSETFROM:-0400
TZOFFSETTO:-0500
TZNAME:EST
DTSTART:20251102T060000
END:STANDARD
BEGIN:DAYLIGHT
TZOFFSETFROM:-0500
TZOFFSETTO:-0400
TZNAME:EDT
DTSTART:20260308T070000
END:DAYLIGHT
BEGIN:STANDARD
TZOFFSETFROM:-0400
TZOFFSETTO:-0500
TZNAME:EST
DTSTART:20261101T060000
END:STANDARD
BEGIN:DAYLIGHT
TZOFFSETFROM:-0500
TZOFFSETTO:-0400
TZNAME:EDT
DTSTART:20270314T070000
END:DAYLIGHT
BEGIN:STANDARD
TZOFFSETFROM:-0400
TZOFFSETTO:-0500
TZNAME:EST
DTSTART:20271107T060000
END:STANDARD
END:VTIMEZONE
BEGIN:VEVENT
DTSTART;VALUE=DATE:20260403
DTEND;VALUE=DATE:20260426
DTSTAMP:20260422T205156
CREATED:20251104T194513Z
LAST-MODIFIED:20260328T183540Z
UID:10002031-1775174400-1777161599@delrayartisans.org
SUMMARY:Fast and Fabulous at Del Ray Artisans Gallery
DESCRIPTION:Fast and Fabulous Art Exhibit\nApril 3–25\, 2026\nOpening Reception: Friday\, April 3 from 7–9pm\n“Fast and Fabulous” by Scott MacConomy\nFrom the first blueprints for the Model T to Warhol and Dali to the Ferrari 250\, legally a work of art in Italy\, cars have inspired and embodied art. The Fast and the Fabulous exhibit features artwork exploring cars and car culture. Be it Fords\, Ferraris\, or flying cars\, Del Ray Artisans’ interpretations of cars as well as motorcycles\, trucks\, and other fast/fabulous forms of transportation will impress\, amuse\, and delight. Visitors of driving age and those visitors still dreaming of their first time behind the wheel will love this exhibit. \n“I am an artist\, the track is my canvas and the car is my brush.” —Graham Hill\, Grand Prix and Indy 500 champion. \nJoin us for the opening reception on Friday\, April 3 between 7-9pm to meet curators Kelly MacConomy and Scott MacConomy and the artists. Thank you to MCD Mateos McDonald’s for their generous donation for the reception. Mark your calendar now or set a reminder through Eventbrite. \nGet a sneak peek of the exhibit and have fun with our free\, family-friendly\, Photo Scavenger Hunt on Thursday\, April 2\, 6:30-8pm. Gather for an evening of Card Making in memory of Donna Gallo and Rusty Lynn on Saturday\, April 4 from 6-9pm to learn and share new art techniques and enjoy the camaraderie. Visit our Upcoming Programs page for more creative offerings and register in advance for our workshops: \n\nDarn It! Mending Clothes with Darning – Saturday\, April 4\, 10:30am-12pm\nSupercars Workshop (Ages 10+ and adults) – Sunday\, April 19\, 10am-12pm\nLego Cars Workshop (Ages 8+ and adults) – Sunday\, April 19\, 6-8pm\n\n \nEvery April Alexandria comes together to support the amazing work of local nonprofits through Spring2ACTion\, hosted by ACT for Alexandria. Show your support for Del Ray Artisans’ exhibits\, programs\, and outreach activities which help members of our community grow as individuals and as artists. From April 8 through April 22\, please donate to our nonprofit at delrayartisans.org/spring2action. \nFrom April 1 through May 5\, Del Ray Artisans gallery is also hosting the display of two artful chairs which are a part of the “Take a Seat for Alexandria Library” community art project. The chairs are by Del Ray Artisans member Joyce Wagner and local artist Mal Jones. The chairs are featured in an online auction (April 1-May 17) to benefit the Alexandria Library Foundation. \nThe Fast and Fabulous art exhibit runs from April 3–25\, 2026 at Del Ray Artisans gallery in the Colasanto Center\, 2704 Mount Vernon Avenue\, Alexandria\, Virginia 22301. Gallery hours are Thursday 12-6pm (First Thursday 12-9pm)\, Friday 12-9pm\, Saturday 12-6pm\, and Sunday 12-6pm (closed April 26). \nThe gallery is free\, open to the public\, and accessible. Del Ray Artisans\, a 501(3)(c) nonprofit organization whose mission is to promote art for the benefit of artists and the community. \nFor more information\, contact the Director of Curating\, Amy Kitchin Hower\, at curating@delrayartisans.org.
URL:https://delrayartisans.org/event/fast-and-fabulous/
LOCATION:Del Ray Artisans Gallery\, 2704 Mount Vernon Avenue\, Alexandria\, VA\, 22301\, United States
CATEGORIES:Art Exhibit,Del Ray Artisans Gallery
ATTACH;FMTTYPE=image/jpeg:https://delrayartisans.org/wp-content/uploads/2026/01/Fast-and-Fabulous-by-Scott-MacConomy-square.jpg
ORGANIZER;CN="Kelly MacConomy":MAILTO:kmacconomy@gmail.com
END:VEVENT
BEGIN:VEVENT
DTSTART;TZID=America/New_York:20260425T183000
DTEND;TZID=America/New_York:20260425T203000
DTSTAMP:20260422T205156
CREATED:20251115T131106Z
LAST-MODIFIED:20260119T155408Z
UID:10002151-1777141800-1777149000@delrayartisans.org
SUMMARY:Artist Appointments Only
DESCRIPTION:The gallery is closed to the public after 6pm on Saturday\, April 25 and all day on Sunday\, April 26 while the exhibit is taken down. This time is reserved for artists to pick up and drop off artwork. Contact the outgoing curators with any questions (contact info in the call for entry). \nUnsold Artwork Pick Up\nSaturday\, April 25 from 6:30-8:30pm and Sunday\, April 26 from 10am-1pm are reserved for artists to pick up their unsold artwork from the closing exhibit\, Fast and Fabulous. \n\nAccepted Artwork Drop Off\nThe remainder of the day on Sunday\, April 26 is reserved for the installation of the ACHS 2026 Titan Student Art Exhibition. \n\nVolunteer\nAll artists participating in the exhibit are required to volunteer a minimum of 3 hours towards managing the show. Those hours can be filled by gallery hosting during the month of exhibit\, assisting with show hanging or take down\, and volunteering to help with other show-specific activities as needed by the curators. Any hours in excess of 3 hours will count towards the membership requirement. DRA members are reminded to report their volunteer hours monthly.
URL:https://delrayartisans.org/event/apr-may-2026-artist-appointments/2026-04-25/
LOCATION:Del Ray Artisans Gallery\, 2704 Mount Vernon Avenue\, Alexandria\, VA\, 22301\, United States
CATEGORIES:Administrative,Volunteer
ORGANIZER;CN="Kelly MacConomy":MAILTO:kmacconomy@gmail.com
END:VEVENT
BEGIN:VEVENT
DTSTART;TZID=America/New_York:20260426T100000
DTEND;TZID=America/New_York:20260426T130000
DTSTAMP:20260422T205156
CREATED:20251115T131106Z
LAST-MODIFIED:20260119T155408Z
UID:10002107-1777197600-1777208400@delrayartisans.org
SUMMARY:Artist Appointments Only
DESCRIPTION:The gallery is closed to the public after 6pm on Saturday\, April 25 and all day on Sunday\, April 26 while the exhibit is taken down. This time is reserved for artists to pick up and drop off artwork. Contact the outgoing curators with any questions (contact info in the call for entry). \nUnsold Artwork Pick Up\nSaturday\, April 25 from 6:30-8:30pm and Sunday\, April 26 from 10am-1pm are reserved for artists to pick up their unsold artwork from the closing exhibit\, Fast and Fabulous. \n\nAccepted Artwork Drop Off\nThe remainder of the day on Sunday\, April 26 is reserved for the installation of the ACHS 2026 Titan Student Art Exhibition. \n\nVolunteer\nAll artists participating in the exhibit are required to volunteer a minimum of 3 hours towards managing the show. Those hours can be filled by gallery hosting during the month of exhibit\, assisting with show hanging or take down\, and volunteering to help with other show-specific activities as needed by the curators. Any hours in excess of 3 hours will count towards the membership requirement. DRA members are reminded to report their volunteer hours monthly.
URL:https://delrayartisans.org/event/apr-may-2026-artist-appointments/2026-04-26/
LOCATION:Del Ray Artisans Gallery\, 2704 Mount Vernon Avenue\, Alexandria\, VA\, 22301\, United States
CATEGORIES:Administrative,Volunteer
ORGANIZER;CN="Kelly MacConomy":MAILTO:kmacconomy@gmail.com
END:VEVENT
END:VCALENDAR