BEGIN:VCALENDAR
VERSION:2.0
PRODID:-//Del Ray Artisans - ECPv6.15.20//NONSGML v1.0//EN
CALSCALE:GREGORIAN
METHOD:PUBLISH
X-ORIGINAL-URL:https://delrayartisans.org
X-WR-CALDESC:Events for Del Ray Artisans
REFRESH-INTERVAL;VALUE=DURATION:PT1H
X-Robots-Tag:noindex
X-PUBLISHED-TTL:PT1H
BEGIN:VTIMEZONE
TZID:America/New_York
BEGIN:DAYLIGHT
TZOFFSETFROM:-0500
TZOFFSETTO:-0400
TZNAME:EDT
DTSTART:20210314T070000
END:DAYLIGHT
BEGIN:STANDARD
TZOFFSETFROM:-0400
TZOFFSETTO:-0500
TZNAME:EST
DTSTART:20211107T060000
END:STANDARD
BEGIN:DAYLIGHT
TZOFFSETFROM:-0500
TZOFFSETTO:-0400
TZNAME:EDT
DTSTART:20220313T070000
END:DAYLIGHT
BEGIN:STANDARD
TZOFFSETFROM:-0400
TZOFFSETTO:-0500
TZNAME:EST
DTSTART:20221106T060000
END:STANDARD
BEGIN:DAYLIGHT
TZOFFSETFROM:-0500
TZOFFSETTO:-0400
TZNAME:EDT
DTSTART:20230312T070000
END:DAYLIGHT
BEGIN:STANDARD
TZOFFSETFROM:-0400
TZOFFSETTO:-0500
TZNAME:EST
DTSTART:20231105T060000
END:STANDARD
END:VTIMEZONE
BEGIN:VEVENT
DTSTART;TZID=America/New_York:20220917T100000
DTEND;TZID=America/New_York:20220917T120000
DTSTAMP:20260423T083453
CREATED:20230329T210518Z
LAST-MODIFIED:20230329T212941Z
UID:10000447-1663408800-1663416000@delrayartisans.org
SUMMARY:WORDY: Creative Book Club - “Amazing Grace: The Life of Beauford Delaney” by Davy Leeming
DESCRIPTION:Del Ray Artisans turns THIRTY this year. To celebrate\, check out our rhyming programs in September—including our WORDY: Creative Book Club program reading and discussing biographies of visual artists!  \nBook: “Amazing Grace: The Life of Beauford Delaney” by Davy LeemingFacilitator: Rusty LynnMeeting Date: Saturday\, Sept 17 from 10am-12pm(Drop-in\, set a reminder in Eventbrite) \nThe book for the September meeting is “Amazing Grace: The Life of Beauford Delaney” by Davy Leeming (published in 1998). This book tells the life story of a very fine 20th Century artist who was black and includes accounts of his struggles with racism as he sought to make a living as an artist in mid twentieth century America and France. The book features a small number of color reproductions of his paintings and a few photographs of Beauford and his friends. \nThe Creative Book Club meets on select Saturday mornings to discuss readings by a variety of authors. The club is free and open to all who are interested in keeping their creative muse flowing and connecting with other creative people. Future book selections will be announced on this website and in the Weekly eNews email in advance. \nIf you have questions\, please contact our book club leader Rusty Lynn at rustylynn@earthlink.net. \nFace masks are recommended inside the gallery.
URL:https://delrayartisans.org/event/wordy-creative-book-club/
LOCATION:Del Ray Artisans Gallery\, 2704 Mount Vernon Avenue\, Alexandria\, VA\, 22301\, United States
CATEGORIES:Book Club,Program
ATTACH;FMTTYPE=image/jpeg:https://delrayartisans.org/wp-content/uploads/2022/06/AmazingGrace-TheLifeofBeaufordDelaney-byDavyLeeming.jpg
ORGANIZER;CN="Rusty Lynn":MAILTO:rustylynn@earthlink.net
END:VEVENT
BEGIN:VEVENT
DTSTART;TZID=America/New_York:20220618T100000
DTEND;TZID=America/New_York:20220618T120000
DTSTAMP:20260423T083453
CREATED:20230329T210316Z
LAST-MODIFIED:20230329T210316Z
UID:10000406-1655546400-1655553600@delrayartisans.org
SUMMARY:Creative Book Club - “The Duchamp Dictionary” by Thomas Girst
DESCRIPTION:Book: “The Duchamp Dictionary” by Thomas GirstFacilitator: Rusty LynnMeeting Date: Saturday\, June 18 from 10am-12pm(Drop-in\, set a reminder through Eventbrite) \nCome to our book club meeting on Saturday\, June 18 from 10am to noon at the gallery. The book for this meeting is “The Duchamp Dictionary” by Thomas Girst. \nMarcel Duchamp was one of the most influential artists of the 20th century. His life and work were filled with innovative and controversial ideas and approaches to creating art. This book published in 2014 reads like a dictionary\, organized by the letters of the alphabet. Each chapter is filled with this master artist’s genius. \nWhen we meet on June 18th we will have an opportunity to each share what amused\, baffled\, or informed us as we read. If you have questions\, please contact our book club leader Rusty Lynn at rustylynn@earthlink.net. \nThe Creative Book Club meets on select Saturday mornings to discuss readings by a variety of authors. The club is free and open to all who are interested in keeping their creative muse flowing and connecting with other creative people. Future book selections will be announced on this website and in the Weekly eNews email in advance. \nFace masks are recommended inside the gallery. \n.
URL:https://delrayartisans.org/event/creative-book-club-the-duchamp-dictionary-by-thomas-girst/
LOCATION:Del Ray Artisans Gallery\, 2704 Mount Vernon Avenue\, Alexandria\, VA\, 22301\, United States
CATEGORIES:Book Club,Creative Summer Programs,Program
ATTACH;FMTTYPE=image/jpeg:https://delrayartisans.org/wp-content/uploads/2022/03/The-Duchamp-Dictionary-by-Thomas-Girst.jpg
ORGANIZER;CN="Rusty Lynn":MAILTO:rustylynn@earthlink.net
END:VEVENT
END:VCALENDAR