BEGIN:VCALENDAR
VERSION:2.0
PRODID:-//Del Ray Artisans - ECPv6.15.20//NONSGML v1.0//EN
CALSCALE:GREGORIAN
METHOD:PUBLISH
X-WR-CALNAME:Del Ray Artisans
X-ORIGINAL-URL:https://delrayartisans.org
X-WR-CALDESC:Events for Del Ray Artisans
REFRESH-INTERVAL;VALUE=DURATION:PT1H
X-Robots-Tag:noindex
X-PUBLISHED-TTL:PT1H
BEGIN:VTIMEZONE
TZID:America/New_York
BEGIN:DAYLIGHT
TZOFFSETFROM:-0500
TZOFFSETTO:-0400
TZNAME:EDT
DTSTART:20240310T070000
END:DAYLIGHT
BEGIN:STANDARD
TZOFFSETFROM:-0400
TZOFFSETTO:-0500
TZNAME:EST
DTSTART:20241103T060000
END:STANDARD
BEGIN:DAYLIGHT
TZOFFSETFROM:-0500
TZOFFSETTO:-0400
TZNAME:EDT
DTSTART:20250309T070000
END:DAYLIGHT
BEGIN:STANDARD
TZOFFSETFROM:-0400
TZOFFSETTO:-0500
TZNAME:EST
DTSTART:20251102T060000
END:STANDARD
BEGIN:DAYLIGHT
TZOFFSETFROM:-0500
TZOFFSETTO:-0400
TZNAME:EDT
DTSTART:20260308T070000
END:DAYLIGHT
BEGIN:STANDARD
TZOFFSETFROM:-0400
TZOFFSETTO:-0500
TZNAME:EST
DTSTART:20261101T060000
END:STANDARD
END:VTIMEZONE
BEGIN:VEVENT
DTSTART;TZID=America/New_York:20250608T130000
DTEND;TZID=America/New_York:20250608T160000
DTSTAMP:20260423T024318
CREATED:20250319T234739Z
LAST-MODIFIED:20250606T041336Z
UID:10001806-1749387600-1749398400@delrayartisans.org
SUMMARY:Intro to Mindful Photography Workshop (Register ASAP)
DESCRIPTION:Instructor: Rainbow-Wolf Sabin\nDate/Time: Sunday\, June 8\, 1-4pm\nCost: $60 Del Ray Artisans member / $80 Non-member; Bring your camera or smartphone\nClass size: 4-12 participants\n(Register by June 5) \n“Mindful” by Rainbow-Wolf Sabin\nSometimes we get stuck in seeing the world around us from the same perspective day after day. We get caught in our routines and hustle through our days without stopping to take pause\, take notice of our surroundings in a meaningful way. \nUsing a camera lens (any camera lens will do—including your smartphone!) we will learn to notice and observe our surroundings from new perspectives. Mindfulness has been scientifically proven to promote an overall sense of well-being in its practitioners\, however sometimes more traditional practices may not always resonate\, and that’s okay. Through this workshop you can explore and learn the fundamental concepts of mindfulness through a fun and creative medium! All levels of experience with both photography and mindfulness are welcome—including none! This workshop does not focus on technical photography skills\, but rather the experience of viewing ourselves\, our immediate surroundings\, and our connections to the world at large through a new and different lens. \nThis program focuses on teaching the fundamentals of mindfulness through fun and creative means. It utilizes photography as a tool to explore present moment awareness\, curiosity\, non-judgment and gratitude while viewing the world from a new perspective. This program does not focus on technical photography skills\, so participants only need a smartphone\, though all photography equipment is welcome. Part of the workshop will take place outdoors if weather permits\, otherwise it will be adapted to take place indoors. \nParticipants will need access to some kind of camera—a smartphone will suffice\, works great and is strongly encouraged\, though participants can bring any camera they choose to work with\, or multiple camera options. This workshop will mainly be inside\, but may move outside for part of the time if weather permits. \nRegister Now \n\nView other upcoming workshops\, information about the facility\, and policies on the Upcoming Workshops page.
URL:https://delrayartisans.org/event/mindful-photography/
LOCATION:Del Ray Artisans Gallery\, 2704 Mount Vernon Avenue\, Alexandria\, VA\, 22301\, United States
CATEGORIES:Creative Summer Programs,Program,Workshop
ATTACH;FMTTYPE=image/jpeg:https://delrayartisans.org/wp-content/uploads/2025/01/Mindful-by-Rainbow-Wolf-Sabin-square.jpg
ORGANIZER;CN="Rainbow-Wolf Sabin":MAILTO:rainbowwolfphotos@gmail.com
END:VEVENT
BEGIN:VEVENT
DTSTART;TZID=America/New_York:20250222T130000
DTEND;TZID=America/New_York:20250222T170000
DTSTAMP:20260423T024318
CREATED:20241231T154041Z
LAST-MODIFIED:20250319T234430Z
UID:10001728-1740229200-1740243600@delrayartisans.org
SUMMARY:RESCHEDULED: Intro to Mindful Photography Workshop
DESCRIPTION:This workshop is being rescheduled. New date TBD. \nInstructor: Rainbow-Wolf Sabin\nDate/Time: Saturday\, February 22\, 1-5pm\nCost: $70 Del Ray Artisans member / $80 Non-member; Bring your camera or smartphone\nClass size: 6-12 participants\n(Register by midnight on February 19) \n“Mindful” by Rainbow-Wolf Sabin\nSometimes we get stuck in seeing the world around us from the same perspective day after day. We get caught in our routines and hustle through our days without stopping to take pause\, take notice of our surroundings in a meaningful way. \nUsing a camera lens (any camera lens will do—including your smartphone!) we will learn to notice and observe our surroundings from new perspectives. Mindfulness has been scientifically proven to promote an overall sense of well-being in its practitioners\, however sometimes more traditional practices may not always resonate\, and that’s okay. Through this workshop you can explore and learn the fundamental concepts of mindfulness through a fun and creative medium! All levels of experience with both photography and mindfulness are welcome—including none! This workshop does not focus on technical photography skills\, but rather the experience of viewing ourselves\, our immediate surroundings\, and our connections to the world at large through a new and different lens. \nThis program focuses on teaching the fundamentals of mindfulness through fun and creative means. It utilizes photography as a tool to explore present moment awareness\, curiosity\, non-judgment and gratitude while viewing the world from a new perspective. This program does not focus on technical photography skills\, so participants only need a smartphone\, though all photography equipment is welcome. Part of the workshop will take place outdoors if weather permits\, otherwise it will be adapted to take place indoors. \nParticipants will need access to some kind of camera—a smartphone will suffice\, works great and is strongly encouraged\, though participants can bring any camera they choose to work with\, or multiple camera options. This workshop will mainly be inside\, but may move outside for part of the time if weather permits. \nRegister Now \n\nView other upcoming workshops\, information about the facility\, and policies on the Upcoming Workshops page.
URL:https://delrayartisans.org/event/mindful-photography-feb-2025/
LOCATION:Del Ray Artisans Gallery\, 2704 Mount Vernon Avenue\, Alexandria\, VA\, 22301\, United States
CATEGORIES:Program,Workshop
ATTACH;FMTTYPE=image/jpeg:https://delrayartisans.org/wp-content/uploads/2025/01/Mindful-by-Rainbow-Wolf-Sabin-square.jpg
ORGANIZER;CN="Rainbow-Wolf Sabin":MAILTO:rainbowwolfphotos@gmail.com
END:VEVENT
END:VCALENDAR