BEGIN:VCALENDAR
VERSION:2.0
PRODID:-//Del Ray Artisans - ECPv6.15.20//NONSGML v1.0//EN
CALSCALE:GREGORIAN
METHOD:PUBLISH
X-ORIGINAL-URL:https://delrayartisans.org
X-WR-CALDESC:Events for Del Ray Artisans
REFRESH-INTERVAL;VALUE=DURATION:PT1H
X-Robots-Tag:noindex
X-PUBLISHED-TTL:PT1H
BEGIN:VTIMEZONE
TZID:America/New_York
BEGIN:DAYLIGHT
TZOFFSETFROM:-0500
TZOFFSETTO:-0400
TZNAME:EDT
DTSTART:20220313T070000
END:DAYLIGHT
BEGIN:STANDARD
TZOFFSETFROM:-0400
TZOFFSETTO:-0500
TZNAME:EST
DTSTART:20221106T060000
END:STANDARD
BEGIN:DAYLIGHT
TZOFFSETFROM:-0500
TZOFFSETTO:-0400
TZNAME:EDT
DTSTART:20230312T070000
END:DAYLIGHT
BEGIN:STANDARD
TZOFFSETFROM:-0400
TZOFFSETTO:-0500
TZNAME:EST
DTSTART:20231105T060000
END:STANDARD
BEGIN:DAYLIGHT
TZOFFSETFROM:-0500
TZOFFSETTO:-0400
TZNAME:EDT
DTSTART:20240310T070000
END:DAYLIGHT
BEGIN:STANDARD
TZOFFSETFROM:-0400
TZOFFSETTO:-0500
TZNAME:EST
DTSTART:20241103T060000
END:STANDARD
END:VTIMEZONE
BEGIN:VEVENT
DTSTART;TZID=America/New_York:20230226T120000
DTEND;TZID=America/New_York:20230226T150000
DTSTAMP:20260423T105745
CREATED:20230324T193731Z
LAST-MODIFIED:20230324T210418Z
UID:10000096-1677412800-1677423600@delrayartisans.org
SUMMARY:“The Unseen” Artwork Pick Up
DESCRIPTION:Time for artists to pick up their unsold artwork from the closing show\, The Unseen.\n \nQuestions? Contact the curator: Peter Michaels (petermichael0314@gmail.com) \n\nArtwork credit: Detail of “The Forbidden Garden” by Betsy Mead
URL:https://delrayartisans.org/event/the-unseen-artwork-pick-up/
LOCATION:Del Ray Artisans Gallery\, 2704 Mount Vernon Avenue\, Alexandria\, VA\, 22301\, United States
CATEGORIES:Administrative
ATTACH;FMTTYPE=image/jpeg:https://delrayartisans.org/wp-content/uploads/2022/11/detail-of-The-Forbidden-Garden-by-Betsy-Mead.jpg
ORGANIZER;CN="Peter Michaels":MAILTO:petermichael0314@gmail.com
END:VEVENT
BEGIN:VEVENT
DTSTART;TZID=America/New_York:20230203T190000
DTEND;TZID=America/New_York:20230203T210000
DTSTAMP:20260423T105745
CREATED:20230324T193721Z
LAST-MODIFIED:20230324T211130Z
UID:10000095-1675450800-1675458000@delrayartisans.org
SUMMARY:“The Unseen” Exhibit Opening Reception
DESCRIPTION:The Unseen Art Exhibit\nFebruary 3–25\, 2023\nOpening Reception: Friday\, February 3 from 7–9pm\nJoin us for the opening reception of The Unseen art exhibit at Del Ray Artisans on Friday\, February 3 between 7-9pm to meet the curator\, Peter Michaels\, and the artists. Mark your calendar now or set a reminder through Eventbrite. This exhibit reveals what we typically cannot see. \nJuried by renowned scientist and artist Michal Gavish\, who recently returned from a residency in Seoul and a one-person show in New York City. She received her MFA in Painting and previously earned a PhD in Physical Chemistry. The Unseen piggybacks off Dr. Gavish’s work with microscopic structures in her art. \nCome explore the hidden\, under the surface\, microscopic\, imagined\, or dreamt that make life so much richer. Through the exhibit local artists take us to myriad places—in their minds\, their dreams\, their dives\, their experiments\, their hopes\, and their fears.  Is the work of art what the artist intended or what you perceive…or both?  After all\, as philosopher Roland Barthes exclaimed in his 1967 seminal essay “The Death of the Author\,” there isn’t an ultimate meaning.  Come experience The Unseen for yourself! \nPlus check out our upcoming programs—including the free\, online talks: The Unseen World of Extreme Diving on Wednesday\, February 1 from 7-8pm and Women with ADHD on Tuesday\, February 21 from 7-8pm held in conjunction with the exhibit. \nWhile visiting the gallery\, also note the two beautiful garden statues of the Chinese Buddhist Deities of Compassion (Guan Yin) and Longevity (Shou Lao) and purchase raffle tickets for a chance to win them. The raffle benefits Del Ray Artisans 501(c)(3) nonprofit organization and the winner will be drawn during the Fun With One exhibit reception on March 3 between 7-9pm. \nThe Unseen exhibit runs February 3–25\, 2023 at Del Ray Artisans gallery in the Colasanto Center\, 2704 Mount Vernon Avenue\, Alexandria\, Virginia 22301. Gallery hours are Thursdays 12-6pm\, Fridays 12-9pm\, Saturdays and Sundays 12-6pm. The gallery is closed the last Sunday of the month (February 26\, 2023). \nFace masks are recommended inside the gallery. The gallery is free\, open to the public\, and accessible. Del Ray Artisans\, a 501(3)(c) nonprofit organization whose mission is to promote art for the benefit of artists and the community. \nFor more information\, contact the curator Peter Michaels at petermichael0314@gmail.com. \n\nArtwork credit: Detail of “The Forbidden Garden” by Betsy Mead
URL:https://delrayartisans.org/event/the-unseen-reception/
LOCATION:Del Ray Artisans Gallery\, 2704 Mount Vernon Avenue\, Alexandria\, VA\, 22301\, United States
ATTACH;FMTTYPE=image/jpeg:https://delrayartisans.org/wp-content/uploads/2022/11/detail-of-The-Forbidden-Garden-by-Betsy-Mead.jpg
ORGANIZER;CN="Peter Michaels":MAILTO:petermichael0314@gmail.com
END:VEVENT
BEGIN:VEVENT
DTSTART;VALUE=DATE:20230203
DTEND;VALUE=DATE:20230226
DTSTAMP:20260423T105745
CREATED:20230323T200003Z
LAST-MODIFIED:20230327T152042Z
UID:10000061-1675382400-1677369599@delrayartisans.org
SUMMARY:The Unseen at Del Ray Artisans Gallery
DESCRIPTION:The Unseen Art Exhibit\nFebruary 3–25\, 2023\nOpening Reception: Friday\, February 3 from 7–9pm\nJoin us for the opening reception of The Unseen art exhibit at Del Ray Artisans on Friday\, February 3 between 7-9pm to meet the curator\, Peter Michaels\, and the artists. Mark your calendar now or set a reminder through Eventbrite. This exhibit reveals what we typically cannot see. \nJuried by renowned scientist and artist Michal Gavish\, who recently returned from a residency in Seoul and a one-person show in New York City. She received her MFA in Painting and previously earned a PhD in Physical Chemistry. The Unseen piggybacks off Dr. Gavish’s work with microscopic structures in her art. \nCome explore the hidden\, under the surface\, microscopic\, imagined\, or dreamt that make life so much richer. Through the exhibit local artists take us to myriad places—in their minds\, their dreams\, their dives\, their experiments\, their hopes\, and their fears.  Is the work of art what the artist intended or what you perceive…or both?  After all\, as philosopher Roland Barthes exclaimed in his 1967 seminal essay “The Death of the Author\,” there isn’t an ultimate meaning.  Come experience The Unseen for yourself! \nPlus check out our upcoming programs—including the free\, online talks: The Unseen World of Extreme Diving on Wednesday\, February 1 from 7-8pm and Women with ADHD on Tuesday\, February 21 from 7-8pm held in conjunction with the exhibit. \nWhile visiting the gallery\, also note the two beautiful garden statues of the Chinese Buddhist Deities of Compassion (Guan Yin) and Longevity (Shou Lao) and purchase raffle tickets for a chance to win them. The raffle benefits Del Ray Artisans 501(c)(3) nonprofit organization and the winner will be drawn during the Fun With One exhibit reception on March 3 between 7-9pm. \nThe Unseen exhibit runs February 3–25\, 2023 at Del Ray Artisans gallery in the Colasanto Center\, 2704 Mount Vernon Avenue\, Alexandria\, Virginia 22301. Gallery hours are Thursdays 12-6pm\, Fridays 12-9pm\, Saturdays and Sundays 12-6pm. The gallery is closed the last Sunday of the month (February 26\, 2023). \nFace masks are recommended inside the gallery. The gallery is free\, open to the public\, and accessible. Del Ray Artisans\, a 501(3)(c) nonprofit organization whose mission is to promote art for the benefit of artists and the community. \nFor more information\, contact the curator Peter Michaels at petermichael0314@gmail.com. \n\nArtwork credit: Detail of “The Forbidden Garden” by Betsy Mead
URL:https://delrayartisans.org/event/the-unseen/
LOCATION:Del Ray Artisans Gallery\, 2704 Mount Vernon Avenue\, Alexandria\, VA\, 22301\, United States
CATEGORIES:Art Exhibit,Del Ray Artisans Gallery
ATTACH;FMTTYPE=image/jpeg:https://delrayartisans.org/wp-content/uploads/2022/11/detail-of-The-Forbidden-Garden-by-Betsy-Mead.jpg
ORGANIZER;CN="Peter Michaels":MAILTO:petermichael0314@gmail.com
END:VEVENT
BEGIN:VEVENT
DTSTART;TZID=America/New_York:20230129T150000
DTEND;TZID=America/New_York:20230129T180000
DTSTAMP:20260423T105745
CREATED:20230324T193720Z
LAST-MODIFIED:20230324T211211Z
UID:10000094-1675004400-1675015200@delrayartisans.org
SUMMARY:“The Unseen” Artwork Drop Off
DESCRIPTION:Time for artists to drop off their accepted artwork entries for the upcoming exhibit\, The Unseen. Artwork drop off is Sunday\, January 29 from 3-6pm. \nArtwork must be ready to hang (with screw eyes and wire) or ready for display (with mounting and/or a display stand if necessary). Review the standard artwork presentation guidelines and the Call for Entry for show specific information. \nQuestions? Contact the curator: Peter Michaels (petermichael0314@gmail.com) \n\nArtwork credit: Detail of “The Forbidden Garden” by Betsy Mead
URL:https://delrayartisans.org/event/the-unseen-artwork-drop-off/
LOCATION:Del Ray Artisans Gallery\, 2704 Mount Vernon Avenue\, Alexandria\, VA\, 22301\, United States
CATEGORIES:Administrative
ATTACH;FMTTYPE=image/jpeg:https://delrayartisans.org/wp-content/uploads/2022/11/detail-of-The-Forbidden-Garden-by-Betsy-Mead.jpg
ORGANIZER;CN="Peter Michaels":MAILTO:petermichael0314@gmail.com
END:VEVENT
BEGIN:VEVENT
DTSTART;TZID=America/New_York:20230110T235000
DTEND;TZID=America/New_York:20230110T235900
DTSTAMP:20260423T105745
CREATED:20230324T193719Z
LAST-MODIFIED:20230324T211803Z
UID:10000093-1673394600-1673395140@delrayartisans.org
SUMMARY:“The Unseen” Call for Entry Deadline
DESCRIPTION:Call for Entry ~ Open to area artists\nThe Unseen\nExhibit Dates: February 3–25\, 2023\nDigital entry deadline: Tuesday\, January 10\, 2023 by midnight\nArtists are invited to explore the hidden\, under the surface\, microscopic\, imagined\, or dreamt that make life so much richer. Only bound by your imagination\, the curator hopes all artists will take us to places only they have been…in their minds\, their dreams\, their dives\, their experiments\, their hopes\, and their fears. The juror is renowned scientist and artist Michal Gavish. \nThe exhibit is open to all area artists. Del Ray Artisans members pay a discounted entry fee. \nEntry Details & Form \n\nArtwork credit: Detail of “The Forbidden Garden” by Betsy Mead
URL:https://delrayartisans.org/event/the-unseen-call-for-entry-deadline/
LOCATION:Online
CATEGORIES:Entry Deadline
ATTACH;FMTTYPE=image/jpeg:https://delrayartisans.org/wp-content/uploads/2022/11/detail-of-The-Forbidden-Garden-by-Betsy-Mead.jpg
ORGANIZER;CN="Peter Michaels":MAILTO:petermichael0314@gmail.com
END:VEVENT
END:VCALENDAR