BEGIN:VCALENDAR
VERSION:2.0
PRODID:-//Del Ray Artisans - ECPv6.15.20//NONSGML v1.0//EN
CALSCALE:GREGORIAN
METHOD:PUBLISH
X-ORIGINAL-URL:https://delrayartisans.org
X-WR-CALDESC:Events for Del Ray Artisans
REFRESH-INTERVAL;VALUE=DURATION:PT1H
X-Robots-Tag:noindex
X-PUBLISHED-TTL:PT1H
BEGIN:VTIMEZONE
TZID:America/New_York
BEGIN:DAYLIGHT
TZOFFSETFROM:-0500
TZOFFSETTO:-0400
TZNAME:EDT
DTSTART:20200308T070000
END:DAYLIGHT
BEGIN:STANDARD
TZOFFSETFROM:-0400
TZOFFSETTO:-0500
TZNAME:EST
DTSTART:20201101T060000
END:STANDARD
BEGIN:DAYLIGHT
TZOFFSETFROM:-0500
TZOFFSETTO:-0400
TZNAME:EDT
DTSTART:20210314T070000
END:DAYLIGHT
BEGIN:STANDARD
TZOFFSETFROM:-0400
TZOFFSETTO:-0500
TZNAME:EST
DTSTART:20211107T060000
END:STANDARD
BEGIN:DAYLIGHT
TZOFFSETFROM:-0500
TZOFFSETTO:-0400
TZNAME:EDT
DTSTART:20220313T070000
END:DAYLIGHT
BEGIN:STANDARD
TZOFFSETFROM:-0400
TZOFFSETTO:-0500
TZNAME:EST
DTSTART:20221106T060000
END:STANDARD
BEGIN:DAYLIGHT
TZOFFSETFROM:-0500
TZOFFSETTO:-0400
TZNAME:EDT
DTSTART:20230312T070000
END:DAYLIGHT
BEGIN:STANDARD
TZOFFSETFROM:-0400
TZOFFSETTO:-0500
TZNAME:EST
DTSTART:20231105T060000
END:STANDARD
BEGIN:DAYLIGHT
TZOFFSETFROM:-0500
TZOFFSETTO:-0400
TZNAME:EDT
DTSTART:20240310T070000
END:DAYLIGHT
BEGIN:STANDARD
TZOFFSETFROM:-0400
TZOFFSETTO:-0500
TZNAME:EST
DTSTART:20241103T060000
END:STANDARD
END:VTIMEZONE
BEGIN:VEVENT
DTSTART;VALUE=DATE:20230724
DTEND;VALUE=DATE:20230729
DTSTAMP:20260423T050720
CREATED:20230323T200036Z
LAST-MODIFIED:20240404T131645Z
UID:10000075-1690156800-1690588799@delrayartisans.org
SUMMARY:Art Camp 2023 (Registration Closed)
DESCRIPTION:Del Ray Artisans invites young campers ages 8-12 years old for “Kids Just Wanna Have Fun” Summer Art Camp to spend a week creating art with professional local artist instruction. Students will have an immersive creative journey: painting\, sculpting\, journaling and other artful planned activities. During nice weather\, kids will even have outdoors time to get fresh air\, unwind\, and replenish their creative energy. All artist supplies are provided. There will be an online photo album highlighting the art camp available later in August for parents\, friends and the community to enjoy. \nJuly 24–28\nCamp runs Monday through Friday from 9am-4pm.\nFor Ages: 8-12 (class size limited to 12 children per week)\nCost: $350 per child\nScholarship support is available; contact Gallery@DelRayArtisans.org for an application. \nInstructors have taken the ALX Promise pledge and follow the current pandemic policies in accordance with CDC and the State of Virginia during summer camps. Face masks are recommended inside the gallery. Students must bring their own lunches. \nArt Camp will be at the Del Ray Artisans gallery at the Nicholas A. Colasanto Center\, 2704 Mount Vernon Avenue\, Alexandria\, VA 22301. The gallery is accessible. For more information\, contact the Office Manager at Gallery@DelRayArtisans.org. \nRegistration\nWalk-ins are NOT allowed. Registration is open to DMV area residents only. You must register in advance. Cost is $350/child. Your application is not complete until the registration form is filled out\, payment is received\, and your schedule choice is confirmed by the Youth Programs Director\, Art Camp Administrator\, or Office Manager. You may pay with cash\, check\, or credit card at the gallery or by credit card online (instructions in the application). \nRegister Now \n\nSponsor a Camper\nEvery year Del Ray Artisans offers scholarships to children who cannot otherwise afford to attend this magical camp. Interested in sponsoring a camper? Your donation will help send a youth to camp. Thank you for your support. \nDonate Now \n\n\nThank you to Community Partners MCD Mateos for sponsoring art camp.
URL:https://delrayartisans.org/event/art-camp-2023/
LOCATION:Del Ray Artisans Gallery\, 2704 Mount Vernon Avenue\, Alexandria\, VA\, 22301\, United States
CATEGORIES:Art Camp,Creative Summer Programs,Program,Workshop,Youth
ATTACH;FMTTYPE=image/jpeg:https://delrayartisans.org/wp-content/uploads/2023/02/art-camp-square.jpg
ORGANIZER;CN="Office Manager":MAILTO:Gallery@DelRayArtisans.org
END:VEVENT
BEGIN:VEVENT
DTSTART;VALUE=DATE:20220718
DTEND;VALUE=DATE:20220730
DTSTAMP:20260423T050720
CREATED:20230323T195837Z
LAST-MODIFIED:20240404T131709Z
UID:10000035-1658102400-1659139199@delrayartisans.org
SUMMARY:Art Camp 2022 (Choose July 18–22 or July 25–29)
DESCRIPTION:Del Ray Artisans invites young campers ages 8-12 years old for “Kids Just Wanna Have Fun” Summer Art Camp to spend a week creating art with professional local artist instruction. Students will have an immersive creative journey: painting\, sculpting\, journaling and other artful planned activities. During nice weather\, kids will even have outdoors time to get fresh air\, unwind\, and replenish their creative energy. All artist supplies are provided. There will be an online photo album highlighting the two weeks of art camp available later in August for parents\, friends and the community to enjoy. \nChoose Week One (July 18–22) or Week Two (July 25–29).\nCamp runs Monday through Friday from 9am-4pm.\nFor Ages: 8-12 (class size limited to 10 children per week)\nCost: $350 per child\nScholarship support is available; contact Gallery@DelRayArtisans.org for an application. \nInstructors have taken the ALX Promise pledge and follow the current pandemic policies in accordance with CDC and the State of Virginia during summer camps. Face masks are recommended inside the gallery. Students must bring their own lunches. \nArt Camp will be at the Del Ray Artisans gallery at the Nicholas A. Colasanto Center\, 2704 Mount Vernon Avenue\, Alexandria\, VA 22301. The gallery is accessible. For more information\, contact Amy Castine (Youth Programs Director) at Youth@DelRayArtisans.org and Anna Sherlock (Office Manager) at Gallery@DelRayArtisans.org. \nRegistration\nChoose one of the following schedule options: \n\nWEEK ONE: July 18–22\, 2022 from 9am-4pm daily\n\nWEEK TWO: July 25–29\, 2022 from 9am-4pm daily\n\nWalk-ins are NOT allowed. You must register in advance. Cost is $350/child. Your application is not complete until the registration form is filled out\, payment is received\, and your schedule choice is confirmed by the Youth Programs Director\, Art Camp Administrator\, or Office Manager. You may pay with cash\, check\, or credit card at the gallery or by credit card online (instructions in the application). \nREGISTRATION IS CLOSED \n\nSponsor a Camper\nEvery year Del Ray Artisans offers scholarships to children who cannot otherwise afford to attend this magical camp. Interested in sponsoring a camper? Your donation will help send a youth to camp. Thank you for your support. \nDonate Now \nThank you to Kiwanis Club Alexandria for sponsoring art camp.\nThank you to Community Partners MCD Mateos for sponsoring art camp.
URL:https://delrayartisans.org/event/art-camp-2022/
LOCATION:Del Ray Artisans Gallery\, 2704 Mount Vernon Avenue\, Alexandria\, VA\, 22301\, United States
CATEGORIES:Art Camp,Creative Summer Programs,Program,Workshop,Youth
ATTACH;FMTTYPE=image/jpeg:https://delrayartisans.org/wp-content/uploads/2022/06/art-camp-2022-square.jpg
ORGANIZER;CN="Office Manager":MAILTO:Gallery@DelRayArtisans.org
END:VEVENT
BEGIN:VEVENT
DTSTART;VALUE=DATE:20210719
DTEND;VALUE=DATE:20210731
DTSTAMP:20260423T050720
CREATED:20230323T195736Z
LAST-MODIFIED:20240404T131743Z
UID:10000014-1626652800-1627689599@delrayartisans.org
SUMMARY:“Kids Just Want To Have Fun” Summer Art Camp 2021 (FULL)
DESCRIPTION:ART CAMP IS FULL. Register for the Waitlist.  \nDel Ray Artisans invites young campers ages 8-12 years old for “Kids Just Want To Have Fun!” Summer Art Camp to spend a week (or half days for two weeks) creating art with professional local artist instruction. Students will have an immersive creative journey: painting\, sculpting\, journaling and other artful planned activities. During nice weather\, kids will even have outdoors time to get fresh air\, unwind\, and replenish their creative energy. All artist supplies are provided. For this special year\, there will be a unique online exhibition highlighting the two weeks of art camp available later in August for parents\, friends and the community to enjoy. \nWEEK ONE – July 19–23:\n\n9am-12pm FUN Session\n12pm-1pm Lunch break for Whole Day Campers\n1pm-4pm CREATE Session\n\nWEEK TWO – July 26–30:\n\n9am-12pm CREATE Session\n12pm-1pm Lunch break for Whole Day Campers\n1pm-4pm FUN Session\n\nChoose one FUN Session and one CREATE Session for your art camper! Choose either one whole week (9am-4pm) or half days (9am-12pm or 1pm-4pm) Monday-Friday over two weeks. \nFor Ages: 8-12 (class size limited to 8 children per week)\nCost: $325 per child\nScholarship support is available; contact Gallery@DelRayArtisans.org for an application. \nInstructors have taken the ALX Promise pledge and follow the current pandemic policies in accordance with CDC and the State of Virginia during summer camps. Face masks are required. Students will be 6′ table spaced in the gallery and will have separate art supply bins. Shared supplies will be properly cleaned and hand sanitizers used frequently.  Students attending full-day must bring their own lunch; students attending half-day should eat at home. \nArt Camp will be at the Del Ray Artisans gallery at the Nicholas A. Colasanto Center\, 2704 Mount Vernon Avenue\, Alexandria\, VA 22301. The gallery is accessible. For more information\, contact Ashley Sowell (Art Camp Administrator) at ArtCamp@DelRayArtisans.org and Anna Sherlock (Office Manager) at Gallery@DelRayArtisans.org. \n\nRegistration\nChoose one of the following schedule options: \n\n\n\nFULL-DAY WEEK ONE: July 19–23\, 2021 from 9am-4pm daily (FULL)\n\nFULL-DAY WEEK TWO: July 26–30\, 2021 from 9am-4pm daily (FULL\, Waitlist Available)\n\nMORNINGS: July 19-30 (excluding July 24-25) from 9am-12pm (FULL)\nAFTERNOONS: July 19-30 (excluding July 24-25) from 1pm-4pm (FULL)\n\n\n\nWalk-ins are NOT allowed. You must register in advance. Register for either half-days for two weeks or full-time for one week. Cost is $325/child. Your application is not complete until the registration form is filled out\, payment is received\, and your schedule choice is confirmed by the Art Camp Administrator or Office Manager. You may pay with cash\, check\, or credit card at the gallery or by credit card online (instructions in the application). \nRegister Now \n\nSponsor a Camper\nEvery year Del Ray Artisans offers scholarships to children who cannot otherwise afford to attend this magical camp. Interested in sponsoring a camper? Your donation will help send a youth to camp. Thank you for your support. \nDonate Now \nThank you to Kiwanis Club Alexandria for sponsoring art camp.\nThank you to Community Partners MCD Mateos for sponsoring art camp.
URL:https://delrayartisans.org/event/art-camp-2021/
LOCATION:Del Ray Artisans Gallery\, 2704 Mount Vernon Avenue\, Alexandria\, VA\, 22301\, United States
CATEGORIES:Art Camp,Creative Summer Programs,Program,Workshop,Youth
ATTACH;FMTTYPE=image/jpeg:https://delrayartisans.org/wp-content/uploads/1992/12/welcome-to-art-camp-yMVaj0.tmp.jpg
ORGANIZER;CN="Office Manager":MAILTO:Gallery@DelRayArtisans.org
END:VEVENT
END:VCALENDAR