BEGIN:VCALENDAR
VERSION:2.0
PRODID:-//Del Ray Artisans - ECPv6.15.20//NONSGML v1.0//EN
CALSCALE:GREGORIAN
METHOD:PUBLISH
X-ORIGINAL-URL:https://delrayartisans.org
X-WR-CALDESC:Events for Del Ray Artisans
REFRESH-INTERVAL;VALUE=DURATION:PT1H
X-Robots-Tag:noindex
X-PUBLISHED-TTL:PT1H
BEGIN:VTIMEZONE
TZID:America/New_York
BEGIN:DAYLIGHT
TZOFFSETFROM:-0500
TZOFFSETTO:-0400
TZNAME:EDT
DTSTART:20230312T070000
END:DAYLIGHT
BEGIN:STANDARD
TZOFFSETFROM:-0400
TZOFFSETTO:-0500
TZNAME:EST
DTSTART:20231105T060000
END:STANDARD
BEGIN:DAYLIGHT
TZOFFSETFROM:-0500
TZOFFSETTO:-0400
TZNAME:EDT
DTSTART:20240310T070000
END:DAYLIGHT
BEGIN:STANDARD
TZOFFSETFROM:-0400
TZOFFSETTO:-0500
TZNAME:EST
DTSTART:20241103T060000
END:STANDARD
BEGIN:DAYLIGHT
TZOFFSETFROM:-0500
TZOFFSETTO:-0400
TZNAME:EDT
DTSTART:20250309T070000
END:DAYLIGHT
BEGIN:STANDARD
TZOFFSETFROM:-0400
TZOFFSETTO:-0500
TZNAME:EST
DTSTART:20251102T060000
END:STANDARD
BEGIN:DAYLIGHT
TZOFFSETFROM:-0500
TZOFFSETTO:-0400
TZNAME:EDT
DTSTART:20260308T070000
END:DAYLIGHT
BEGIN:STANDARD
TZOFFSETFROM:-0400
TZOFFSETTO:-0500
TZNAME:EST
DTSTART:20261101T060000
END:STANDARD
END:VTIMEZONE
BEGIN:VEVENT
DTSTART;TZID=America/New_York:20250426T100000
DTEND;TZID=America/New_York:20250426T120000
DTSTAMP:20260424T190058
CREATED:20250121T215820Z
LAST-MODIFIED:20250423T000637Z
UID:10001761-1745661600-1745668800@delrayartisans.org
SUMMARY:Neurographic Art Workshop (Register ASAP)
DESCRIPTION:Instructor: Morgan Parr\nDate/Time: Saturday\, April 26\, 10am-noon\nCost: $20 Del Ray Artisans member / $30 Non-member; plus $5 Supply Fee\nClass size: 4-25 participants\n(Register in advance; Walk-ins welcome if space permits) \nYou don’t have to be an artist to make art with Neurographic Art. A neuron is a cell that carries messages between the brain and other parts of our body and that is the basic unit of our central nervous system. Graphic is the artistic use of pictures\, shapes and words. This activity helps you to connect with the art making process and allows your mind to relax. \nSupplies are provided but please feel free to bring markers\, pens or watercolors to add color to your project. \nRegister Now \n\nImage credit: Neurographic art by Morgan Parr \n\nView other upcoming workshops\, information about the facility\, and policies on the Upcoming Workshops page.
URL:https://delrayartisans.org/event/neurographic-art-workshop-2025-04/
LOCATION:Del Ray Artisans Gallery\, 2704 Mount Vernon Avenue\, Alexandria\, VA\, 22301\, United States
CATEGORIES:Program,Workshop
ATTACH;FMTTYPE=image/jpeg:https://delrayartisans.org/wp-content/uploads/2024/09/Neurographic-art-by-Morgan-Parr-square.jpg
ORGANIZER;CN="Morgan Parr":MAILTO:rmorganparr@gmail.com
END:VEVENT
BEGIN:VEVENT
DTSTART;TZID=America/New_York:20250308T100000
DTEND;TZID=America/New_York:20250308T120000
DTSTAMP:20260424T190058
CREATED:20250114T193540Z
LAST-MODIFIED:20250304T211758Z
UID:10001737-1741428000-1741435200@delrayartisans.org
SUMMARY:STEAM-tastic: Fairy Home in the Forest Workshop (Ages 6-12; Register ASAP)
DESCRIPTION:Instructor Morgan Parr\nInstructor: Morgan Parr\nDate/Time: Saturday\, March 8\, 10am-12pm\nCost: $25/child\nClass size: 4-20 participants\n(Register in advance; walk-ins welcome only if space permits) \nDraw your own fairy home using markers and paint to capture even the tiniest of details. \nYoung artists will use picture books\, drawings\, and their creativity to create a 2D home for their imaginary fairies that includes variations on fairy homes\, mushrooms\, leaves\, flowers\, insects and more. All supplies included. \nThis workshop is for participants ages 6-12 years old. Family members are welcome to attend\, listen\, and learn. Please contact the Youth Programs Director at youth@delrayartisans.org with any questions. \nThis workshop is held in conjunction with the Fairy Tales Around the World art exhibit. \nRegister Now \n\nSTEAM-tastic @ DRA – Come join us at Del Ray Artisans for interactive classes about Science\, Technology\, Engineering\, Arts and Math (STEAM)\, taught by professionals from each field! Geared toward kids and teens\, each lesson has a short talk or demonstration and a hands-on craft project. Del Ray Artisans’ STEAM-tastic workshops are made possible with support from the City of Alexandria through the FY2025 Annual Arts Program Grant.\n \n\nView all upcoming workshops\, information about the facility\, and policies on the Upcoming Workshops page.
URL:https://delrayartisans.org/event/steam-fairy-home/
LOCATION:Del Ray Artisans Gallery\, 2704 Mount Vernon Avenue\, Alexandria\, VA\, 22301\, United States
CATEGORIES:Program,Workshop,Youth
ATTACH;FMTTYPE=image/jpeg:https://delrayartisans.org/wp-content/uploads/2025/01/STEAM-FairyHomes-Morgan-Parr.jpg
ORGANIZER;CN="Morgan Parr":MAILTO:rmorganparr@gmail.com
END:VEVENT
BEGIN:VEVENT
DTSTART;TZID=America/New_York:20250208T100000
DTEND;TZID=America/New_York:20250208T120000
DTSTAMP:20260424T190058
CREATED:20241231T154510Z
LAST-MODIFIED:20250130T164031Z
UID:10001729-1739008800-1739016000@delrayartisans.org
SUMMARY:STEAM-tastic: Pop Art Cats Workshop (Ages 6-12) (Register ASAP)
DESCRIPTION:Instructor Morgan Parr\nInstructor: Morgan Parr\nDate/Time: Saturday\, February 8\, 10am-12pm\nCost: $25/child\nClass size: 4-20 participants\n(Register in advance; walk-ins allowed\, space permitting) \nAndy Warhol loved cats. In fact\, he owned 25 cats and all but one called Sam! He believed that art is everywhere and that even the things we see everyday make a perfect subject to add to a painting\, like cats. You will learn color theory while making a series of cats on a colorful painted background. This fun technique allows you to keep creating as many cats as you’d like\, each with their own personality to create a work of art inspired by Andy Warhol. All the supplies are provided. \nThis workshop is for participants ages 6-12 years old. Family members are welcome to attend\, listen\, and learn. Please contact the Youth Programs Director at youth@delrayartisans.org with any questions. \nRegister Now \n\nSTEAM-tastic @ DRA – Come join us at Del Ray Artisans for interactive classes about Science\, Technology\, Engineering\, Arts and Math (STEAM)\, taught by professionals from each field! Geared toward kids and teens\, each lesson has a short talk or demonstration and a hands-on craft project. Del Ray Artisans’ STEAM-tastic workshops are made possible with support from the City of Alexandria through the FY2025 Annual Arts Program Grant.\n \n\nView all upcoming workshops\, information about the facility\, and policies on the Upcoming Workshops page.
URL:https://delrayartisans.org/event/steam-color-theory/
LOCATION:Del Ray Artisans Gallery\, 2704 Mount Vernon Avenue\, Alexandria\, VA\, 22301\, United States
CATEGORIES:Program,Workshop,Youth
ATTACH;FMTTYPE=image/jpeg:https://delrayartisans.org/wp-content/uploads/2024/12/STEAM-Pop-art-for-kids-Morgan-Parr.jpg
ORGANIZER;CN="Morgan Parr":MAILTO:rmorganparr@gmail.com
END:VEVENT
BEGIN:VEVENT
DTSTART;TZID=America/New_York:20241211T180000
DTEND;TZID=America/New_York:20241211T200000
DTSTAMP:20260424T190058
CREATED:20241105T224142Z
LAST-MODIFIED:20241105T230224Z
UID:10001707-1733940000-1733947200@delrayartisans.org
SUMMARY:Neurographic Art Workshop (Register by 12/8)
DESCRIPTION:Instructor: Morgan Parr\nDate/Time: Wednesday\, December 11\, 6-8pm\nCost: $30 Del Ray Artisans member / $40 Non-member; plus $10 Supply Fee\nClass size: 4-25 participants\n(Register in advance. Drop-ins welcome\, space permitting.) \nYou don’t have to be an artist to make art with Neurographic Art. A neuron is a cell that carries messages between the brain and other parts of our body and that is the basic unit of our central nervous system. Graphic is the artistic use of pictures\, shapes and words. This activity helps you to connect with the art making process and allows your mind to relax. \nSupplies are provided but please feel free to bring markers\, pens or watercolors to add color to your project. \nRegister Now \n\nImage credit: Neurographic art by Morgan Parr \n\nView other upcoming workshops\, information about the facility\, and policies on the Upcoming Workshops page.
URL:https://delrayartisans.org/event/neurographic-art/
LOCATION:Del Ray Artisans Gallery\, 2704 Mount Vernon Avenue\, Alexandria\, VA\, 22301\, United States
CATEGORIES:Program,Workshop
ATTACH;FMTTYPE=image/jpeg:https://delrayartisans.org/wp-content/uploads/2024/09/Neurographic-art-by-Morgan-Parr-square.jpg
ORGANIZER;CN="Morgan Parr":MAILTO:rmorganparr@gmail.com
END:VEVENT
BEGIN:VEVENT
DTSTART;TZID=America/New_York:20241023T180000
DTEND;TZID=America/New_York:20241023T200000
DTSTAMP:20260424T190058
CREATED:20240914T220926Z
LAST-MODIFIED:20241105T230209Z
UID:10001511-1729706400-1729713600@delrayartisans.org
SUMMARY:Neurographic Art Workshop (Register ASAP)
DESCRIPTION:Instructor: Morgan Parr\nDate/Time: Wednesday\, October 23\, 6-8pm\nCost: $20 Del Ray Artisans member / $30 Non-member; plus $5 Supply Fee\nClass size: 4-25 participants\n(Register in advance. Drop-ins welcome\, space permitting.) \nYou don’t have to be an artist to make art with Neurographic Art. A neuron is a cell that carries messages between the brain and other parts of our body and that is the basic unit of our central nervous system. Graphic is the artistic use of pictures\, shapes and words. This activity helps you to connect with the art making process and allows your mind to relax. \nSupplies are provided but please feel free to bring markers\, pens or watercolors to add color to your project. \nRegister Now \n\nImage credit: Neurographic art by Morgan Parr \n\nView other upcoming workshops\, information about the facility\, and policies on the Upcoming Workshops page.
URL:https://delrayartisans.org/event/neurographic-art-oct-2024/
LOCATION:Del Ray Artisans Gallery\, 2704 Mount Vernon Avenue\, Alexandria\, VA\, 22301\, United States
CATEGORIES:Program,Workshop
ATTACH;FMTTYPE=image/jpeg:https://delrayartisans.org/wp-content/uploads/2024/09/Neurographic-art-by-Morgan-Parr-square.jpg
ORGANIZER;CN="Morgan Parr":MAILTO:rmorganparr@gmail.com
END:VEVENT
END:VCALENDAR