BEGIN:VCALENDAR
VERSION:2.0
PRODID:-//Del Ray Artisans - ECPv6.15.20//NONSGML v1.0//EN
CALSCALE:GREGORIAN
METHOD:PUBLISH
X-ORIGINAL-URL:https://delrayartisans.org
X-WR-CALDESC:Events for Del Ray Artisans
REFRESH-INTERVAL;VALUE=DURATION:PT1H
X-Robots-Tag:noindex
X-PUBLISHED-TTL:PT1H
BEGIN:VTIMEZONE
TZID:America/New_York
BEGIN:DAYLIGHT
TZOFFSETFROM:-0500
TZOFFSETTO:-0400
TZNAME:EDT
DTSTART:20240310T070000
END:DAYLIGHT
BEGIN:STANDARD
TZOFFSETFROM:-0400
TZOFFSETTO:-0500
TZNAME:EST
DTSTART:20241103T060000
END:STANDARD
BEGIN:DAYLIGHT
TZOFFSETFROM:-0500
TZOFFSETTO:-0400
TZNAME:EDT
DTSTART:20250309T070000
END:DAYLIGHT
BEGIN:STANDARD
TZOFFSETFROM:-0400
TZOFFSETTO:-0500
TZNAME:EST
DTSTART:20251102T060000
END:STANDARD
BEGIN:DAYLIGHT
TZOFFSETFROM:-0500
TZOFFSETTO:-0400
TZNAME:EDT
DTSTART:20260308T070000
END:DAYLIGHT
BEGIN:STANDARD
TZOFFSETFROM:-0400
TZOFFSETTO:-0500
TZNAME:EST
DTSTART:20261101T060000
END:STANDARD
END:VTIMEZONE
BEGIN:VEVENT
DTSTART;TZID=America/New_York:20250726T130000
DTEND;TZID=America/New_York:20250726T150000
DTSTAMP:20260423T042238
CREATED:20250214T182516Z
LAST-MODIFIED:20250702T183116Z
UID:10001777-1753534800-1753542000@delrayartisans.org
SUMMARY:Art Camp Week 2 Show
DESCRIPTION:The week of Art Camp culminates with a one-day gallery show of campers’ art to share with the public\, and then campers will take their artwork home. \nJoin us for these two special art exhibits on the Saturday following each week of art camp to show off students’ work. The hours and reception for the exhibits are 1-3pm on July 19 and July 26. This is a great chance for campers\, family\, and friends to talk to the camp coordinators and other students about their experience.
URL:https://delrayartisans.org/event/art-camp-2025-show-2/
LOCATION:Del Ray Artisans Gallery\, 2704 Mount Vernon Avenue\, Alexandria\, VA\, 22301\, United States
CATEGORIES:Art Camp,Art Exhibit,Youth
ATTACH;FMTTYPE=image/jpeg:https://delrayartisans.org/wp-content/uploads/2025/02/art-camp-show.jpg
ORGANIZER;CN="Morgan Parr%2C Art Camp Administrator":MAILTO:artcamp@delrayartisans.org
END:VEVENT
BEGIN:VEVENT
DTSTART;TZID=America/New_York:20250719T130000
DTEND;TZID=America/New_York:20250719T150000
DTSTAMP:20260423T042238
CREATED:20250214T182308Z
LAST-MODIFIED:20250702T183014Z
UID:10001776-1752930000-1752937200@delrayartisans.org
SUMMARY:Art Camp Week 1 Show
DESCRIPTION:The week of Art Camp culminates with a one-day gallery show of campers’ art to share with the public\, and then campers will take their artwork home. \nJoin us for these two special art exhibits on the Saturday following each week of art camp to show off students’ work. The hours and reception for the exhibits are 1-3pm on July 19 and July 26. This is a great chance for campers\, family\, and friends to talk to the camp coordinators and other students about their experience.
URL:https://delrayartisans.org/event/art-camp-2025-show-1/
LOCATION:Del Ray Artisans Gallery\, 2704 Mount Vernon Avenue\, Alexandria\, VA\, 22301\, United States
CATEGORIES:Art Camp,Art Exhibit,Youth
ATTACH;FMTTYPE=image/jpeg:https://delrayartisans.org/wp-content/uploads/2025/02/art-camp-show.jpg
ORGANIZER;CN="Morgan Parr%2C Art Camp Administrator":MAILTO:artcamp@delrayartisans.org
END:VEVENT
BEGIN:VEVENT
DTSTART;VALUE=DATE:20250714
DTEND;VALUE=DATE:20250726
DTSTAMP:20260423T042238
CREATED:20250125T194137Z
LAST-MODIFIED:20250701T143326Z
UID:10001765-1752451200-1753487999@delrayartisans.org
SUMMARY:Art Camp 2025 (Choose July 14–18 or July 21–25)
DESCRIPTION:Register Now \nDel Ray Artisans invites young campers ages 8-12 years old for “Brushes & Beyond” Summer Art Camp to spend a week creating art with professional local artist instruction. Students will have an immersive creative journey\, including painting\, sculpting\, journaling\, and STEAM-tastic activities that celebrate science and art. During nice weather\, kids will even have outdoors time to get fresh air\, unwind\, and replenish their creative energy. All artist supplies are provided. Students must bring their own lunches. \nChoose Week One (July 14–18) or Week Two (July 21–25).\nCamp runs Monday through Friday from 9am-4pm.\nFor Ages: 8-12 (class size limited to 15 children per week)\nCost: $350 per child\nScholarship support is available; contact Gallery@DelRayArtisans.org for an application. \nThere will also be a special\, one-day only\, gallery show on the Saturday following camp (July 19 for week one campers and July 26 for week two campers) to show off students’ work. The reception is from 1-3pm and is a great chance for campers\, family\, and friends to talk to the camp coordinators and other students about their experience. Thank you to MCD Mateos McDonald’s for their generous donation of reception refreshments. \nArt Camp will be at the Del Ray Artisans gallery in the Colasanto Center\, 2704 Mount Vernon Avenue\, Alexandria\, VA 22301. The gallery is accessible. For more information\, contact Morgan Parr (Art Camp Administrator) at ArtCamp@DelRayArtisans.org\, Sandra Alami (Youth Programs Director) at Youth@DelRayArtisans.org and Anna Sherlock (Office Manager) at Gallery@DelRayArtisans.org. \nRegistration\nChoose one of the following schedule options: \n\n\n\nWEEK ONE: July 14–18\, 2025 from 9am-4pm daily\n\nWEEK TWO: July 21–25\, 2025 from 9am-4pm daily\n\n\n\nWalk-ins are NOT allowed. You must register in advance. Cost is $350/child. Your application is not complete until the registration form is filled out\, payment is received\, and your schedule choice is confirmed by the Youth Programs Director\, Art Camp Administrator\, or Office Manager. You may pay with cash\, check\, or credit card at the gallery or by credit card online (instructions in the application). \nRegister Now \n\nSponsor a Camper\nEvery year Del Ray Artisans offers scholarships to children who cannot otherwise afford to attend this magical camp. Interested in sponsoring a camper? Your donation will help send a youth to camp. Thank you for your support. \nDonate Now \n\nDel Ray Artisans’ Youth Art Programs are made possible with support from the City of Alexandria through the FY2026 Annual Arts Program Grant and through a generous donation from Genesis Inspiration Foundation.
URL:https://delrayartisans.org/event/art-camp-2025/
LOCATION:Del Ray Artisans Gallery\, 2704 Mount Vernon Avenue\, Alexandria\, VA\, 22301\, United States
CATEGORIES:Art Camp,Creative Summer Programs,Program,Workshop,Youth
ATTACH;FMTTYPE=image/jpeg:https://delrayartisans.org/wp-content/uploads/2025/02/art-camp-brushesandbeyond.jpg
ORGANIZER;CN="Morgan Parr%2C Art Camp Administrator":MAILTO:artcamp@delrayartisans.org
END:VEVENT
END:VCALENDAR