BEGIN:VCALENDAR
VERSION:2.0
PRODID:-//Del Ray Artisans - ECPv6.15.20//NONSGML v1.0//EN
CALSCALE:GREGORIAN
METHOD:PUBLISH
X-WR-CALNAME:Del Ray Artisans
X-ORIGINAL-URL:https://delrayartisans.org
X-WR-CALDESC:Events for Del Ray Artisans
REFRESH-INTERVAL;VALUE=DURATION:PT1H
X-Robots-Tag:noindex
X-PUBLISHED-TTL:PT1H
BEGIN:VTIMEZONE
TZID:America/New_York
BEGIN:DAYLIGHT
TZOFFSETFROM:-0500
TZOFFSETTO:-0400
TZNAME:EDT
DTSTART:20240310T070000
END:DAYLIGHT
BEGIN:STANDARD
TZOFFSETFROM:-0400
TZOFFSETTO:-0500
TZNAME:EST
DTSTART:20241103T060000
END:STANDARD
BEGIN:DAYLIGHT
TZOFFSETFROM:-0500
TZOFFSETTO:-0400
TZNAME:EDT
DTSTART:20250309T070000
END:DAYLIGHT
BEGIN:STANDARD
TZOFFSETFROM:-0400
TZOFFSETTO:-0500
TZNAME:EST
DTSTART:20251102T060000
END:STANDARD
BEGIN:DAYLIGHT
TZOFFSETFROM:-0500
TZOFFSETTO:-0400
TZNAME:EDT
DTSTART:20260308T070000
END:DAYLIGHT
BEGIN:STANDARD
TZOFFSETFROM:-0400
TZOFFSETTO:-0500
TZNAME:EST
DTSTART:20261101T060000
END:STANDARD
BEGIN:DAYLIGHT
TZOFFSETFROM:-0500
TZOFFSETTO:-0400
TZNAME:EDT
DTSTART:20270314T070000
END:DAYLIGHT
BEGIN:STANDARD
TZOFFSETFROM:-0400
TZOFFSETTO:-0500
TZNAME:EST
DTSTART:20271107T060000
END:STANDARD
END:VTIMEZONE
BEGIN:VEVENT
DTSTART;TZID=America/New_York:20260406T140000
DTEND;TZID=America/New_York:20260406T160000
DTSTAMP:20260422T205258
CREATED:20251115T003538Z
LAST-MODIFIED:20260101T182511Z
UID:10002047-1775484000-1775491200@delrayartisans.org
SUMMARY:Partners in Art (RSVP in Advance)
DESCRIPTION:Need support reaching your art related goals? Join this collegial group of artists to share your goals and get feedback on artwork. Monthly meetings include discussions on exhibit opportunities\, the creative process and the local art scene. Artist can bring 1-2 works – complete or in progress – for feedback. All skill levels and media welcome. \nThis program is free\, but donations ($1-3) are greatly appreciated. \nRSVP to Mila Mateu (milaenartes@gmail.com) and Suzanne Tillman (zannet@verizon.net) for details before the day of the meeting. \nView Upcoming Meetings
URL:https://delrayartisans.org/event/partners-in-art-2026/2026-04-06/
LOCATION:Del Ray Artisans Gallery\, 2704 Mount Vernon Avenue\, Alexandria\, VA\, 22301\, United States
CATEGORIES:Partners in Art,Program
ATTACH;FMTTYPE=image/jpeg:https://delrayartisans.org/wp-content/uploads/2018/05/Partners-in-Art.jpg
ORGANIZER;CN="Milagros Mateu":MAILTO:milagros.mateu@gmail.com
END:VEVENT
BEGIN:VEVENT
DTSTART;TZID=America/New_York:20260325T140000
DTEND;TZID=America/New_York:20260325T160000
DTSTAMP:20260422T205258
CREATED:20260309T185431Z
LAST-MODIFIED:20260310T184254Z
UID:10002213-1774447200-1774454400@delrayartisans.org
SUMMARY:Exhibit viewing appointment for At Home in Alexandria
DESCRIPTION:This time is reserved for a special viewing of the Assembly: Together We Grow art exhibit for the nonprofit At Home in Alexandria (AHA).
URL:https://delrayartisans.org/event/at-home-in-alexandria/
LOCATION:Del Ray Artisans Gallery\, 2704 Mount Vernon Avenue\, Alexandria\, VA\, 22301\, United States
CATEGORIES:Community Event
ORGANIZER;CN="Milagros Mateu":MAILTO:milagros.mateu@gmail.com
END:VEVENT
BEGIN:VEVENT
DTSTART;TZID=America/New_York:20260309T140000
DTEND;TZID=America/New_York:20260309T160000
DTSTAMP:20260422T205258
CREATED:20251115T003538Z
LAST-MODIFIED:20260101T182511Z
UID:10002046-1773064800-1773072000@delrayartisans.org
SUMMARY:Partners in Art (RSVP in Advance)
DESCRIPTION:Need support reaching your art related goals? Join this collegial group of artists to share your goals and get feedback on artwork. Monthly meetings include discussions on exhibit opportunities\, the creative process and the local art scene. Artist can bring 1-2 works – complete or in progress – for feedback. All skill levels and media welcome. \nThis program is free\, but donations ($1-3) are greatly appreciated. \nRSVP to Mila Mateu (milaenartes@gmail.com) and Suzanne Tillman (zannet@verizon.net) for details before the day of the meeting. \nView Upcoming Meetings
URL:https://delrayartisans.org/event/partners-in-art-2026/2026-03-09/
LOCATION:Del Ray Artisans Gallery\, 2704 Mount Vernon Avenue\, Alexandria\, VA\, 22301\, United States
CATEGORIES:Partners in Art,Program
ATTACH;FMTTYPE=image/jpeg:https://delrayartisans.org/wp-content/uploads/2018/05/Partners-in-Art.jpg
ORGANIZER;CN="Milagros Mateu":MAILTO:milagros.mateu@gmail.com
END:VEVENT
BEGIN:VEVENT
DTSTART;TZID=America/New_York:20260209T140000
DTEND;TZID=America/New_York:20260209T160000
DTSTAMP:20260422T205258
CREATED:20260207T225351Z
LAST-MODIFIED:20260207T225352Z
UID:10002045-1770645600-1770652800@delrayartisans.org
SUMMARY:CANCELED: Partners in Art (RSVP in Advance)
DESCRIPTION:Need support reaching your art related goals? Join this collegial group of artists to share your goals and get feedback on artwork. Monthly meetings include discussions on exhibit opportunities\, the creative process and the local art scene. Artist can bring 1-2 works – complete or in progress – for feedback. All skill levels and media welcome. \nThis program is free\, but donations ($1-3) are greatly appreciated. \nRSVP to Mila Mateu (milaenartes@gmail.com) and Suzanne Tillman (zannet@verizon.net) for details before the day of the meeting. \nView Upcoming Meetings
URL:https://delrayartisans.org/event/partners-in-art-2026-2/
LOCATION:Del Ray Artisans Gallery\, 2704 Mount Vernon Avenue\, Alexandria\, VA\, 22301\, United States
CATEGORIES:Partners in Art,Program
ATTACH;FMTTYPE=image/jpeg:https://delrayartisans.org/wp-content/uploads/2018/05/Partners-in-Art.jpg
ORGANIZER;CN="Milagros Mateu":MAILTO:milagros.mateu@gmail.com
END:VEVENT
BEGIN:VEVENT
DTSTART;TZID=America/New_York:20260105T140000
DTEND;TZID=America/New_York:20260105T160000
DTSTAMP:20260422T205258
CREATED:20251115T003538Z
LAST-MODIFIED:20260101T182511Z
UID:10002044-1767621600-1767628800@delrayartisans.org
SUMMARY:Partners in Art (RSVP in Advance)
DESCRIPTION:Need support reaching your art related goals? Join this collegial group of artists to share your goals and get feedback on artwork. Monthly meetings include discussions on exhibit opportunities\, the creative process and the local art scene. Artist can bring 1-2 works – complete or in progress – for feedback. All skill levels and media welcome. \nThis program is free\, but donations ($1-3) are greatly appreciated. \nRSVP to Mila Mateu (milaenartes@gmail.com) and Suzanne Tillman (zannet@verizon.net) for details before the day of the meeting. \nView Upcoming Meetings
URL:https://delrayartisans.org/event/partners-in-art-2026/2026-01-05/
LOCATION:Del Ray Artisans Gallery\, 2704 Mount Vernon Avenue\, Alexandria\, VA\, 22301\, United States
CATEGORIES:Partners in Art,Program
ATTACH;FMTTYPE=image/jpeg:https://delrayartisans.org/wp-content/uploads/2018/05/Partners-in-Art.jpg
ORGANIZER;CN="Milagros Mateu":MAILTO:milagros.mateu@gmail.com
END:VEVENT
BEGIN:VEVENT
DTSTART;TZID=America/New_York:20250326T140000
DTEND;TZID=America/New_York:20250326T153000
DTSTAMP:20260422T205258
CREATED:20250220T211552Z
LAST-MODIFIED:20250220T211552Z
UID:10001792-1742997600-1743003000@delrayartisans.org
SUMMARY:Exhibit viewing appointment for At Home in Alexandria
DESCRIPTION:This time is reserved for a special viewing of the Fairy Tales Around the World art exhibit for the nonprofit At Home in Alexandria (AHA).
URL:https://delrayartisans.org/event/aha-viewing-march-2025/
LOCATION:Del Ray Artisans Gallery\, 2704 Mount Vernon Avenue\, Alexandria\, VA\, 22301\, United States
ORGANIZER;CN="Milagros Mateu":MAILTO:milagros.mateu@gmail.com
END:VEVENT
END:VCALENDAR