BEGIN:VCALENDAR
VERSION:2.0
PRODID:-//Del Ray Artisans - ECPv6.15.20//NONSGML v1.0//EN
CALSCALE:GREGORIAN
METHOD:PUBLISH
X-WR-CALNAME:Del Ray Artisans
X-ORIGINAL-URL:https://delrayartisans.org
X-WR-CALDESC:Events for Del Ray Artisans
REFRESH-INTERVAL;VALUE=DURATION:PT1H
X-Robots-Tag:noindex
X-PUBLISHED-TTL:PT1H
BEGIN:VTIMEZONE
TZID:America/New_York
BEGIN:DAYLIGHT
TZOFFSETFROM:-0500
TZOFFSETTO:-0400
TZNAME:EDT
DTSTART:20210314T070000
END:DAYLIGHT
BEGIN:STANDARD
TZOFFSETFROM:-0400
TZOFFSETTO:-0500
TZNAME:EST
DTSTART:20211107T060000
END:STANDARD
BEGIN:DAYLIGHT
TZOFFSETFROM:-0500
TZOFFSETTO:-0400
TZNAME:EDT
DTSTART:20220313T070000
END:DAYLIGHT
BEGIN:STANDARD
TZOFFSETFROM:-0400
TZOFFSETTO:-0500
TZNAME:EST
DTSTART:20221106T060000
END:STANDARD
BEGIN:DAYLIGHT
TZOFFSETFROM:-0500
TZOFFSETTO:-0400
TZNAME:EDT
DTSTART:20230312T070000
END:DAYLIGHT
BEGIN:STANDARD
TZOFFSETFROM:-0400
TZOFFSETTO:-0500
TZNAME:EST
DTSTART:20231105T060000
END:STANDARD
END:VTIMEZONE
BEGIN:VEVENT
DTSTART;TZID=America/New_York:20220626T160000
DTEND;TZID=America/New_York:20220626T200000
DTSTAMP:20260423T083343
CREATED:20230329T210332Z
LAST-MODIFIED:20230329T210332Z
UID:10000412-1656259200-1656273600@delrayartisans.org
SUMMARY:Artwork Pick Up by Appointment
DESCRIPTION:Time for artists to pick up their unsold artwork from the closing exhibit\, Afros and Abstract\, and from Alcove Gift Shop by appointment only. \nQuestions? Contact the exhibit curator: Maria I. Hart (afrosandabstract@gmail.com) or gift shop curator: Stephen Lally (slallypottery@gmail.com)
URL:https://delrayartisans.org/event/artwork-pick-up-by-appointment/
LOCATION:Del Ray Artisans Gallery\, 2704 Mount Vernon Avenue\, Alexandria\, VA\, 22301\, United States
CATEGORIES:Administrative
ATTACH;FMTTYPE=image/jpeg:https://delrayartisans.org/wp-content/uploads/1992/12/delrayartisans-gallery-april2021.jpg
ORGANIZER;CN="Maria I. Hart":MAILTO:afrosandabstract@gmail.com
END:VEVENT
BEGIN:VEVENT
DTSTART;TZID=America/New_York:20220626T120000
DTEND;TZID=America/New_York:20220626T180000
DTSTAMP:20260423T083343
CREATED:20230329T210331Z
LAST-MODIFIED:20230329T210331Z
UID:10000411-1656244800-1656266400@delrayartisans.org
SUMMARY:Gallery Open (12-6pm)
DESCRIPTION:Typically the gallery is closed the last Sunday of the month\, however on June 26 the gallery will be open for the final day of the Afros and Abstract exhibit! \nThe gallery will be open on Sunday\, June 26 from 12-6pm. The gallery will be closed to the public in July for Art Camp. \nLocal purchasers will be picking up their artwork starting at noon\, and artists begin picking up their artwork at 4pm\, so come early to see the exhibit in it’s entirely. \nFace masks are recommended inside the gallery. The gallery is free\, open to the public\, and accessible. \nFor more information\, contact the curator Maria I. Hart (afrosandabstract@gmail.com) or Director of Curating Kelly Postula (Curating@DelRayArtisans.org). \nArtwork credit: “Dance of the Underwater World” by Maria I. Hart and Eileen M. O’Brien
URL:https://delrayartisans.org/event/gallery-open-12-6pm-2/
LOCATION:Del Ray Artisans Gallery\, 2704 Mount Vernon Avenue\, Alexandria\, VA\, 22301\, United States
ATTACH;FMTTYPE=image/jpeg:https://delrayartisans.org/wp-content/uploads/2022/03/Art-by-Maria-I-Hart-and-Eileen-M-OBrien.jpg
ORGANIZER;CN="Maria I. Hart":MAILTO:afrosandabstract@gmail.com
END:VEVENT
BEGIN:VEVENT
DTSTART;TZID=America/New_York:20220603T120000
DTEND;TZID=America/New_York:20220603T210000
DTSTAMP:20260423T083343
CREATED:20230329T210247Z
LAST-MODIFIED:20230329T221542Z
UID:10000397-1654257600-1654290000@delrayartisans.org
SUMMARY:“Afros and Abstract” Exhibit Opening Day
DESCRIPTION:Afros and Abstract Art Exhibit\nJune 3–26\, 2022\nVisit Del Ray Artisans gallery between June 3-26\, 2022 to experience the Afros and Abstract exhibit celebrating the individuality of body\, space\, imagination and time. This exhibit hopes to provoke interest in the visual beauty of a culture that reaches the expanse of humanity and a movement\, encapsulating the amorphous state of lines\, color\, hues and tones. And if you are looking for something else\, you’ll also find local artisan pottery\, jewelry\, fiber pieces\, and much more in our Alcove Gift Shop inside the gallery. \nJoin us on opening day\, Friday\, June 3 between 12-9pm. Mark your calendar now or set a reminder through Eventbrite. Plus join us for these other special June events: \n\nArt Exhibit Sneak Peek (12-9pm) on First Thursday\, June 2 (Drop-in\, outdoor activity canceled)\nWire Jewelry & Repair Basics Workshop on Tuesday\, June 7 from 6-8:30pm (Register by June 4)\nMini Mosaic Pendant Workshop on Saturday\, June 11 from 6:30-8:30pm (Register by June 7)\nDel Ray Urban Sketchers on Sunday\, June 12 from 1-3pm at St. Elmo’s Coffee Pub (Drop-in)\nPlaying with Resin Workshop on Sunday\, June 12 from 6-9pm (Register by June 9)\n“Monday-Mania” Card Making Party on Monday\, June 13 from 4-8pm (Drop-in)\nCreative Book Club on Saturday\, June 18 from 10am-12pm (Drop-in)\nPartners in Art Evening on Tuesday\, June 21 from 7-9pm (RSVP required)\nColors\, Shapes\, and Scents Soap-Making Workshop on Saturday\, June 25 from 10am-1pm (Register by June 22)\n\nThe Afros and Abstract exhibit is on display at Del Ray Artisans gallery in the Colasanto Center\, 2704 Mount Vernon Avenue\, Alexandria\, Virginia 22301. Face masks are recommended inside the gallery. The gallery is free\, open to the public\, and accessible. \nGallery hours are First Thursday (Apr-Sept) 12-9pm\, Thursday 12-6pm\, Friday 12-9pm\, Saturday 12-6pm\, and Sunday 12-6pm. The gallery will have different hours and activities in July. \nFor more information\, contact the curator Maria I. Hart (afrosandabstract@gmail.com) or Director of Curating Kelly Postula (Curating@DelRayArtisans.org). \n\nArtwork credit: (TOP) “Dance of the Underwater World” by Maria I. Hart and Eileen M. O’Brien\, (BOTTOM) detail of “Smile and Soul” by Gordon Thomas Frank
URL:https://delrayartisans.org/event/afros-and-abstract-opens/
LOCATION:Del Ray Artisans Gallery\, 2704 Mount Vernon Avenue\, Alexandria\, VA\, 22301\, United States
ATTACH;FMTTYPE=image/jpeg:https://delrayartisans.org/wp-content/uploads/2022/03/Art-by-Maria-I-Hart-and-Eileen-M-OBrien.jpg
ORGANIZER;CN="Maria I. Hart":MAILTO:afrosandabstract@gmail.com
END:VEVENT
BEGIN:VEVENT
DTSTART;VALUE=DATE:20220603
DTEND;VALUE=DATE:20220627
DTSTAMP:20260423T083343
CREATED:20230323T195836Z
LAST-MODIFIED:20230329T221531Z
UID:10000034-1654214400-1656287999@delrayartisans.org
SUMMARY:Afros and Abstract (6/3-6/26)
DESCRIPTION:Afros and Abstract Art Exhibit\nJune 3–26\, 2022\nPhoto Album \nVisit Del Ray Artisans gallery between June 3-26\, 2022 to experience the Afros and Abstract exhibit celebrating the individuality of body\, space\, imagination and time. This exhibit hopes to provoke interest in the visual beauty of a culture that reaches the expanse of humanity and a movement\, encapsulating the amorphous state of lines\, color\, hues and tones. And if you are looking for something else\, you’ll also find local artisan pottery\, jewelry\, fiber pieces\, and much more in our Alcove Gift Shop inside the gallery. \nJoin us on opening day\, Friday\, June 3 between 12-9pm. Mark your calendar now or set a reminder through Eventbrite. Plus join us for these other special June events: \n\nArt Exhibit Sneak Peek (12-9pm) on First Thursday\, June 2 (Drop-in\, outdoor activity canceled)\nWire Jewelry & Repair Basics Workshop on Tuesday\, June 7 from 6-8:30pm (Register by June 4)\nMini Mosaic Pendant Workshop on Saturday\, June 11 from 6:30-8:30pm (Register by June 7)\nDel Ray Urban Sketchers on Sunday\, June 12 from 1-3pm at St. Elmo’s Coffee Pub (Drop-in)\nPlaying with Resin Workshop on Sunday\, June 12 from 6-9pm (Register by June 9)\n“Monday-Mania” Card Making Party on Monday\, June 13 from 4-8pm (Drop-in)\nCreative Book Club on Saturday\, June 18 from 10am-12pm (Drop-in)\nPartners in Art Evening on Tuesday\, June 21 from 7-9pm (RSVP required)\nColors\, Shapes\, and Scents Soap-Making Workshop on Saturday\, June 25 from 10am-1pm (Register by June 22)\n\nThe Afros and Abstract exhibit is on display at Del Ray Artisans gallery in the Colasanto Center\, 2704 Mount Vernon Avenue\, Alexandria\, Virginia 22301. Face masks are recommended inside the gallery. The gallery is free\, open to the public\, and accessible. \nGallery hours are First Thursday (Apr-Sept) 12-9pm\, Thursday 12-6pm\, Friday 12-9pm\, Saturday 12-6pm\, and Sunday 12-6pm. The gallery will have different hours and activities in July. \nFor more information\, contact the curator Maria I. Hart (afrosandabstract@gmail.com) or Director of Curating Kelly Postula (Curating@DelRayArtisans.org). \nPhoto Album \n\nArtwork credit: (TOP) “Dance of the Underwater World” by Maria I. Hart and Eileen M. O’Brien\, (BOTTOM) detail of “Smile and Soul” by Gordon Thomas Frank
URL:https://delrayartisans.org/event/afros-and-abstract/
LOCATION:Del Ray Artisans Gallery\, 2704 Mount Vernon Avenue\, Alexandria\, VA\, 22301\, United States
CATEGORIES:Art Exhibit,Del Ray Artisans Gallery
ATTACH;FMTTYPE=image/jpeg:https://delrayartisans.org/wp-content/uploads/2022/03/Art-by-Maria-I-Hart-and-Eileen-M-OBrien.jpg
ORGANIZER;CN="Maria I. Hart":MAILTO:afrosandabstract@gmail.com
END:VEVENT
BEGIN:VEVENT
DTSTART;TZID=America/New_York:20220529T120000
DTEND;TZID=America/New_York:20220529T180000
DTSTAMP:20260423T083343
CREATED:20230329T210236Z
LAST-MODIFIED:20230329T210236Z
UID:10000395-1653825600-1653847200@delrayartisans.org
SUMMARY:“Afros and Abstract” Artwork Drop Off by Appointment
DESCRIPTION:Time for artists to drop off their accepted artwork entries for the upcoming exhibit\, Afros and Abstract. Artwork drop off is Sunday\, May 29 from 12-6pm by appointment only. \nArtwork must be ready to hang (with screw eyes and wire) or ready for display (with mounting and/or a display stand if necessary). Review the standard artwork presentation guidelines and the Call for Entry for show specific information. \nQuestions? Contact the curator: Maria Indira Hart (MariaIHart@gmail.com)
URL:https://delrayartisans.org/event/afros-and-abstract-artwork-drop-off-by-appointment/
LOCATION:Del Ray Artisans Gallery\, 2704 Mount Vernon Avenue\, Alexandria\, VA\, 22301\, United States
CATEGORIES:Administrative
ATTACH;FMTTYPE=image/jpeg:https://delrayartisans.org/wp-content/uploads/1992/12/delrayartisans-gallery-april2021.jpg
ORGANIZER;CN="Maria I. Hart":MAILTO:afrosandabstract@gmail.com
END:VEVENT
BEGIN:VEVENT
DTSTART;TZID=America/New_York:20220521T235000
DTEND;TZID=America/New_York:20220521T235900
DTSTAMP:20260423T083343
CREATED:20230329T210231Z
LAST-MODIFIED:20230329T210231Z
UID:10000391-1653177000-1653177540@delrayartisans.org
SUMMARY:“Afros and Abstract” Call for Entry Deadline
DESCRIPTION:Call for Entry ~ Open to area artistsAfros and AbstractExhibit Dates: June 3-26\, 2022\nDigital entry deadline extended to Saturday\, May 21\, 2022 by midnight\nSeeking works in all mediums celebrating the abstract and the individuality of hair and body. Art that celebrates the Afro curly-do and culture is highly encouraged\, but works that fit a broad range of hair and body experience are also sought. The abstract component of the exhibit will highlight works that provoke interest through the use of color\, shape\, form\, texture\, line\, and/or value.  \nThis art exhibit is open to all area artists. Del Ray Artisans members pay a discounted entry fee. \nEntry Details & Form \nArtwork credit: “Dance of the Underwater World” by Maria I. Hart and Eileen M. O’Brien
URL:https://delrayartisans.org/event/afros-and-abstract-call-for-entry-deadline/
LOCATION:Online
CATEGORIES:Entry Deadline
ATTACH;FMTTYPE=image/jpeg:https://delrayartisans.org/wp-content/uploads/2022/03/Art-by-Maria-I-Hart-and-Eileen-M-OBrien.jpg
ORGANIZER;CN="Maria I. Hart":MAILTO:afrosandabstract@gmail.com
END:VEVENT
END:VCALENDAR