BEGIN:VCALENDAR
VERSION:2.0
PRODID:-//Del Ray Artisans - ECPv6.15.20//NONSGML v1.0//EN
CALSCALE:GREGORIAN
METHOD:PUBLISH
X-WR-CALNAME:Del Ray Artisans
X-ORIGINAL-URL:https://delrayartisans.org
X-WR-CALDESC:Events for Del Ray Artisans
REFRESH-INTERVAL;VALUE=DURATION:PT1H
X-Robots-Tag:noindex
X-PUBLISHED-TTL:PT1H
BEGIN:VTIMEZONE
TZID:America/New_York
BEGIN:DAYLIGHT
TZOFFSETFROM:-0500
TZOFFSETTO:-0400
TZNAME:EDT
DTSTART:20240310T070000
END:DAYLIGHT
BEGIN:STANDARD
TZOFFSETFROM:-0400
TZOFFSETTO:-0500
TZNAME:EST
DTSTART:20241103T060000
END:STANDARD
BEGIN:DAYLIGHT
TZOFFSETFROM:-0500
TZOFFSETTO:-0400
TZNAME:EDT
DTSTART:20250309T070000
END:DAYLIGHT
BEGIN:STANDARD
TZOFFSETFROM:-0400
TZOFFSETTO:-0500
TZNAME:EST
DTSTART:20251102T060000
END:STANDARD
BEGIN:DAYLIGHT
TZOFFSETFROM:-0500
TZOFFSETTO:-0400
TZNAME:EDT
DTSTART:20260308T070000
END:DAYLIGHT
BEGIN:STANDARD
TZOFFSETFROM:-0400
TZOFFSETTO:-0500
TZNAME:EST
DTSTART:20261101T060000
END:STANDARD
BEGIN:DAYLIGHT
TZOFFSETFROM:-0500
TZOFFSETTO:-0400
TZNAME:EDT
DTSTART:20270314T070000
END:DAYLIGHT
BEGIN:STANDARD
TZOFFSETFROM:-0400
TZOFFSETTO:-0500
TZNAME:EST
DTSTART:20271107T060000
END:STANDARD
END:VTIMEZONE
BEGIN:VEVENT
DTSTART;TZID=America/New_York:20260414T190000
DTEND;TZID=America/New_York:20260414T210000
DTSTAMP:20260422T234043
CREATED:20251115T121242Z
LAST-MODIFIED:20251115T121242Z
UID:10002058-1776193200-1776200400@delrayartisans.org
SUMMARY:Board of Directors Meeting (ONLINE)
DESCRIPTION:This Board meeting will an online meeting through Zoom. \nActive members are welcome to attend any Board meeting. If you wish to address the Board or bring something up to the Board during one of these meetings\, contact Margaret Slipek at Secretary@DelRayArtisans.org at least four days in advance of the meeting to be included on the agenda and receive the Zoom session link.
URL:https://delrayartisans.org/event/board-meeting-2026/2026-04-14/
LOCATION:Online
CATEGORIES:Board Meeting,Meeting
ORGANIZER;CN="Margaret Slipek%2C Secretary":MAILTO:secretary@delrayartisans.org
END:VEVENT
BEGIN:VEVENT
DTSTART;TZID=America/New_York:20260404T235900
DTEND;TZID=America/New_York:20260404T235900
DTSTAMP:20260422T234043
CREATED:20260218T145744Z
LAST-MODIFIED:20260324T191308Z
UID:10002203-1775347140-1775347140@delrayartisans.org
SUMMARY:"Pictures at an Alexandria Exhibition" Call for Entry Deadline
DESCRIPTION:Call for Entry ~ Open to area artists\nPictures at an Alexandria Exhibition\nOnline Auction: May 4–31\, 2026\nDigital entry deadline: Saturday\, April 4\, 2026 by midnight\n“Classical Aire” by Barbara Januszkiewicz\nDel Ray Artisans\, the Symphony Orchestra League of Alexandria\, and the Symphony Orchestra of Northern Virginia present Pictures at an Alexandria Exhibition\, an online art auction fundraising event and concert performance. \nArtists are asked to draw inspiration from five select pieces of music for their creativity. You may submit one to four pieces of art and must identify which one of the five musical selections is your muse for each artwork submitted. \nThe call is open to all area artists. There is no entry fee and no size limits on entries. Carefully read the call for entry details and accepted artist requirements\, especially noting information on variable pricing due to the auction format. \nEntry Details & Form
URL:https://delrayartisans.org/event/auction-2026-cfe-deadline/
LOCATION:Online
CATEGORIES:Entry Deadline
ORGANIZER;CN="Kelly MacConomy%2C Outreach Director":MAILTO:outreach@delrayartisans.org
END:VEVENT
BEGIN:VEVENT
DTSTART;TZID=America/New_York:20260310T190000
DTEND;TZID=America/New_York:20260310T210000
DTSTAMP:20260422T234043
CREATED:20251115T121242Z
LAST-MODIFIED:20251115T121242Z
UID:10002057-1773169200-1773176400@delrayartisans.org
SUMMARY:Board of Directors Meeting (ONLINE)
DESCRIPTION:This Board meeting will an online meeting through Zoom. \nActive members are welcome to attend any Board meeting. If you wish to address the Board or bring something up to the Board during one of these meetings\, contact Margaret Slipek at Secretary@DelRayArtisans.org at least four days in advance of the meeting to be included on the agenda and receive the Zoom session link.
URL:https://delrayartisans.org/event/board-meeting-2026/2026-03-10/
LOCATION:Online
CATEGORIES:Board Meeting,Meeting
ORGANIZER;CN="Margaret Slipek%2C Secretary":MAILTO:secretary@delrayartisans.org
END:VEVENT
BEGIN:VEVENT
DTSTART;TZID=America/New_York:20260210T190000
DTEND;TZID=America/New_York:20260210T210000
DTSTAMP:20260422T234043
CREATED:20251115T121242Z
LAST-MODIFIED:20251115T121242Z
UID:10002056-1770750000-1770757200@delrayartisans.org
SUMMARY:Board of Directors Meeting (ONLINE)
DESCRIPTION:This Board meeting will an online meeting through Zoom. \nActive members are welcome to attend any Board meeting. If you wish to address the Board or bring something up to the Board during one of these meetings\, contact Margaret Slipek at Secretary@DelRayArtisans.org at least four days in advance of the meeting to be included on the agenda and receive the Zoom session link.
URL:https://delrayartisans.org/event/board-meeting-2026/2026-02-10/
LOCATION:Online
CATEGORIES:Board Meeting,Meeting
ORGANIZER;CN="Margaret Slipek%2C Secretary":MAILTO:secretary@delrayartisans.org
END:VEVENT
BEGIN:VEVENT
DTSTART;TZID=America/New_York:20260113T190000
DTEND;TZID=America/New_York:20260113T210000
DTSTAMP:20260422T234043
CREATED:20251115T121242Z
LAST-MODIFIED:20251115T121242Z
UID:10002055-1768330800-1768338000@delrayartisans.org
SUMMARY:Board of Directors Meeting (ONLINE)
DESCRIPTION:This Board meeting will an online meeting through Zoom. \nActive members are welcome to attend any Board meeting. If you wish to address the Board or bring something up to the Board during one of these meetings\, contact Margaret Slipek at Secretary@DelRayArtisans.org at least four days in advance of the meeting to be included on the agenda and receive the Zoom session link.
URL:https://delrayartisans.org/event/board-meeting-2026/2026-01-13/
LOCATION:Online
CATEGORIES:Board Meeting,Meeting
ORGANIZER;CN="Margaret Slipek%2C Secretary":MAILTO:secretary@delrayartisans.org
END:VEVENT
BEGIN:VEVENT
DTSTART;TZID=America/New_York:20251209T180000
DTEND;TZID=America/New_York:20251209T210000
DTSTAMP:20260422T234043
CREATED:20250623T175648Z
LAST-MODIFIED:20251112T142959Z
UID:10001694-1765303200-1765314000@delrayartisans.org
SUMMARY:Board Meeting and Holiday Gathering
DESCRIPTION:December 2023 Board of Directors Holiday Gathering (courtesy of Sean Crumley)\nThe last Board meeting of 2025 will be at the gallery. A short business meeting (beginning at 6:30pm) will be paired with a holiday gathering to thank outgoing 2025 Board Members and welcome incoming 2026 Board Members. \nActive members are welcome to attend any Board meeting. If you wish to address the Board or bring something up to the Board during one of these meetings\, contact Margaret Slipek at Secretary@DelRayArtisans.org at least four days in advance of the meeting to be included on the agenda.
URL:https://delrayartisans.org/event/board-meeting-dec-2025/
LOCATION:Del Ray Artisans Gallery\, 2704 Mount Vernon Avenue\, Alexandria\, VA\, 22301\, United States
CATEGORIES:Board Meeting,Meeting
ORGANIZER;CN="Margaret Slipek%2C Secretary":MAILTO:secretary@delrayartisans.org
END:VEVENT
BEGIN:VEVENT
DTSTART;TZID=America/New_York:20251111T190000
DTEND;TZID=America/New_York:20251111T210000
DTSTAMP:20260422T234043
CREATED:20241030T210828Z
LAST-MODIFIED:20250728T185622Z
UID:10001693-1762887600-1762894800@delrayartisans.org
SUMMARY:Board of Directors Meeting (ONLINE)
DESCRIPTION:This Board meeting will an online meeting through Zoom. \nActive members are welcome to attend any Board meeting. If you wish to address the Board or bring something up to the Board during one of these meetings\, contact Margaret Slipek at Secretary@DelRayArtisans.org at least four days in advance of the meeting to be included on the agenda and receive the Zoom session link.
URL:https://delrayartisans.org/event/board-meeting-2025/2025-11-11/
LOCATION:Online
CATEGORIES:Board Meeting,Meeting
ORGANIZER;CN="Margaret Slipek%2C Secretary":MAILTO:secretary@delrayartisans.org
END:VEVENT
BEGIN:VEVENT
DTSTART;TZID=America/New_York:20251014T190000
DTEND;TZID=America/New_York:20251014T210000
DTSTAMP:20260422T234043
CREATED:20241030T210828Z
LAST-MODIFIED:20250728T185622Z
UID:10001692-1760468400-1760475600@delrayartisans.org
SUMMARY:Board of Directors Meeting (ONLINE)
DESCRIPTION:This Board meeting will an online meeting through Zoom. \nActive members are welcome to attend any Board meeting. If you wish to address the Board or bring something up to the Board during one of these meetings\, contact Margaret Slipek at Secretary@DelRayArtisans.org at least four days in advance of the meeting to be included on the agenda and receive the Zoom session link.
URL:https://delrayartisans.org/event/board-meeting-2025/2025-10-14/
LOCATION:Online
CATEGORIES:Board Meeting,Meeting
ORGANIZER;CN="Margaret Slipek%2C Secretary":MAILTO:secretary@delrayartisans.org
END:VEVENT
BEGIN:VEVENT
DTSTART;TZID=America/New_York:20250909T190000
DTEND;TZID=America/New_York:20250909T210000
DTSTAMP:20260422T234043
CREATED:20241030T210828Z
LAST-MODIFIED:20250728T185622Z
UID:10001691-1757444400-1757451600@delrayartisans.org
SUMMARY:Board of Directors Meeting (ONLINE)
DESCRIPTION:This Board meeting will an online meeting through Zoom. \nActive members are welcome to attend any Board meeting. If you wish to address the Board or bring something up to the Board during one of these meetings\, contact Margaret Slipek at Secretary@DelRayArtisans.org at least four days in advance of the meeting to be included on the agenda and receive the Zoom session link.
URL:https://delrayartisans.org/event/board-meeting-2025/2025-09-09/
LOCATION:Online
CATEGORIES:Board Meeting,Meeting
ORGANIZER;CN="Margaret Slipek%2C Secretary":MAILTO:secretary@delrayartisans.org
END:VEVENT
BEGIN:VEVENT
DTSTART;TZID=America/New_York:20250812T190000
DTEND;TZID=America/New_York:20250812T210000
DTSTAMP:20260422T234043
CREATED:20241030T210828Z
LAST-MODIFIED:20250728T185622Z
UID:10001690-1755025200-1755032400@delrayartisans.org
SUMMARY:Board of Directors Meeting (ONLINE)
DESCRIPTION:This Board meeting will an online meeting through Zoom. \nActive members are welcome to attend any Board meeting. If you wish to address the Board or bring something up to the Board during one of these meetings\, contact Margaret Slipek at Secretary@DelRayArtisans.org at least four days in advance of the meeting to be included on the agenda and receive the Zoom session link.
URL:https://delrayartisans.org/event/board-meeting-2025/2025-08-12/
LOCATION:Online
CATEGORIES:Board Meeting,Meeting
ORGANIZER;CN="Margaret Slipek%2C Secretary":MAILTO:secretary@delrayartisans.org
END:VEVENT
BEGIN:VEVENT
DTSTART;TZID=America/New_York:20250708T190000
DTEND;TZID=America/New_York:20250708T210000
DTSTAMP:20260422T234043
CREATED:20241030T210828Z
LAST-MODIFIED:20250728T185622Z
UID:10001689-1752001200-1752008400@delrayartisans.org
SUMMARY:Board of Directors Meeting (ONLINE)
DESCRIPTION:This Board meeting will an online meeting through Zoom. \nActive members are welcome to attend any Board meeting. If you wish to address the Board or bring something up to the Board during one of these meetings\, contact Margaret Slipek at Secretary@DelRayArtisans.org at least four days in advance of the meeting to be included on the agenda and receive the Zoom session link.
URL:https://delrayartisans.org/event/board-meeting-2025/2025-07-08/
LOCATION:Online
CATEGORIES:Board Meeting,Meeting
ORGANIZER;CN="Margaret Slipek%2C Secretary":MAILTO:secretary@delrayartisans.org
END:VEVENT
BEGIN:VEVENT
DTSTART;TZID=America/New_York:20250610T190000
DTEND;TZID=America/New_York:20250610T210000
DTSTAMP:20260422T234043
CREATED:20241030T210828Z
LAST-MODIFIED:20250728T185622Z
UID:10001688-1749582000-1749589200@delrayartisans.org
SUMMARY:Board of Directors Meeting (ONLINE)
DESCRIPTION:This Board meeting will an online meeting through Zoom. \nActive members are welcome to attend any Board meeting. If you wish to address the Board or bring something up to the Board during one of these meetings\, contact Margaret Slipek at Secretary@DelRayArtisans.org at least four days in advance of the meeting to be included on the agenda and receive the Zoom session link.
URL:https://delrayartisans.org/event/board-meeting-2025/2025-06-10/
LOCATION:Online
CATEGORIES:Board Meeting,Meeting
ORGANIZER;CN="Margaret Slipek%2C Secretary":MAILTO:secretary@delrayartisans.org
END:VEVENT
BEGIN:VEVENT
DTSTART;TZID=America/New_York:20250513T190000
DTEND;TZID=America/New_York:20250513T210000
DTSTAMP:20260422T234043
CREATED:20241030T210828Z
LAST-MODIFIED:20250728T185622Z
UID:10001687-1747162800-1747170000@delrayartisans.org
SUMMARY:Board of Directors Meeting (ONLINE)
DESCRIPTION:This Board meeting will an online meeting through Zoom. \nActive members are welcome to attend any Board meeting. If you wish to address the Board or bring something up to the Board during one of these meetings\, contact Margaret Slipek at Secretary@DelRayArtisans.org at least four days in advance of the meeting to be included on the agenda and receive the Zoom session link.
URL:https://delrayartisans.org/event/board-meeting-2025/2025-05-13/
LOCATION:Online
CATEGORIES:Board Meeting,Meeting
ORGANIZER;CN="Margaret Slipek%2C Secretary":MAILTO:secretary@delrayartisans.org
END:VEVENT
BEGIN:VEVENT
DTSTART;TZID=America/New_York:20250408T190000
DTEND;TZID=America/New_York:20250408T210000
DTSTAMP:20260422T234043
CREATED:20241030T210828Z
LAST-MODIFIED:20250728T185622Z
UID:10001686-1744138800-1744146000@delrayartisans.org
SUMMARY:Board of Directors Meeting (ONLINE)
DESCRIPTION:This Board meeting will an online meeting through Zoom. \nActive members are welcome to attend any Board meeting. If you wish to address the Board or bring something up to the Board during one of these meetings\, contact Margaret Slipek at Secretary@DelRayArtisans.org at least four days in advance of the meeting to be included on the agenda and receive the Zoom session link.
URL:https://delrayartisans.org/event/board-meeting-2025/2025-04-08/
LOCATION:Online
CATEGORIES:Board Meeting,Meeting
ORGANIZER;CN="Margaret Slipek%2C Secretary":MAILTO:secretary@delrayartisans.org
END:VEVENT
BEGIN:VEVENT
DTSTART;TZID=America/New_York:20250311T190000
DTEND;TZID=America/New_York:20250311T210000
DTSTAMP:20260422T234043
CREATED:20241030T210828Z
LAST-MODIFIED:20250728T185622Z
UID:10001685-1741719600-1741726800@delrayartisans.org
SUMMARY:Board of Directors Meeting (ONLINE)
DESCRIPTION:This Board meeting will an online meeting through Zoom. \nActive members are welcome to attend any Board meeting. If you wish to address the Board or bring something up to the Board during one of these meetings\, contact Margaret Slipek at Secretary@DelRayArtisans.org at least four days in advance of the meeting to be included on the agenda and receive the Zoom session link.
URL:https://delrayartisans.org/event/board-meeting-2025/2025-03-11/
LOCATION:Online
CATEGORIES:Board Meeting,Meeting
ORGANIZER;CN="Margaret Slipek%2C Secretary":MAILTO:secretary@delrayartisans.org
END:VEVENT
BEGIN:VEVENT
DTSTART;TZID=America/New_York:20250211T190000
DTEND;TZID=America/New_York:20250211T210000
DTSTAMP:20260422T234043
CREATED:20241030T210828Z
LAST-MODIFIED:20250728T185622Z
UID:10001684-1739300400-1739307600@delrayartisans.org
SUMMARY:Board of Directors Meeting (ONLINE)
DESCRIPTION:This Board meeting will an online meeting through Zoom. \nActive members are welcome to attend any Board meeting. If you wish to address the Board or bring something up to the Board during one of these meetings\, contact Margaret Slipek at Secretary@DelRayArtisans.org at least four days in advance of the meeting to be included on the agenda and receive the Zoom session link.
URL:https://delrayartisans.org/event/board-meeting-2025/2025-02-11/
LOCATION:Online
CATEGORIES:Board Meeting,Meeting
ORGANIZER;CN="Margaret Slipek%2C Secretary":MAILTO:secretary@delrayartisans.org
END:VEVENT
BEGIN:VEVENT
DTSTART;TZID=America/New_York:20250114T190000
DTEND;TZID=America/New_York:20250114T210000
DTSTAMP:20260422T234043
CREATED:20241030T210828Z
LAST-MODIFIED:20250728T185622Z
UID:10001683-1736881200-1736888400@delrayartisans.org
SUMMARY:Board of Directors Meeting (ONLINE)
DESCRIPTION:This Board meeting will an online meeting through Zoom. \nActive members are welcome to attend any Board meeting. If you wish to address the Board or bring something up to the Board during one of these meetings\, contact Margaret Slipek at Secretary@DelRayArtisans.org at least four days in advance of the meeting to be included on the agenda and receive the Zoom session link.
URL:https://delrayartisans.org/event/board-meeting-2025/2025-01-14/
LOCATION:Online
CATEGORIES:Board Meeting,Meeting
ORGANIZER;CN="Margaret Slipek%2C Secretary":MAILTO:secretary@delrayartisans.org
END:VEVENT
END:VCALENDAR