BEGIN:VCALENDAR
VERSION:2.0
PRODID:-//Del Ray Artisans - ECPv6.15.20//NONSGML v1.0//EN
CALSCALE:GREGORIAN
METHOD:PUBLISH
X-WR-CALNAME:Del Ray Artisans
X-ORIGINAL-URL:https://delrayartisans.org
X-WR-CALDESC:Events for Del Ray Artisans
REFRESH-INTERVAL;VALUE=DURATION:PT1H
X-Robots-Tag:noindex
X-PUBLISHED-TTL:PT1H
BEGIN:VTIMEZONE
TZID:America/New_York
BEGIN:DAYLIGHT
TZOFFSETFROM:-0500
TZOFFSETTO:-0400
TZNAME:EDT
DTSTART:20230312T070000
END:DAYLIGHT
BEGIN:STANDARD
TZOFFSETFROM:-0400
TZOFFSETTO:-0500
TZNAME:EST
DTSTART:20231105T060000
END:STANDARD
BEGIN:DAYLIGHT
TZOFFSETFROM:-0500
TZOFFSETTO:-0400
TZNAME:EDT
DTSTART:20240310T070000
END:DAYLIGHT
BEGIN:STANDARD
TZOFFSETFROM:-0400
TZOFFSETTO:-0500
TZNAME:EST
DTSTART:20241103T060000
END:STANDARD
BEGIN:DAYLIGHT
TZOFFSETFROM:-0500
TZOFFSETTO:-0400
TZNAME:EDT
DTSTART:20250309T070000
END:DAYLIGHT
BEGIN:STANDARD
TZOFFSETFROM:-0400
TZOFFSETTO:-0500
TZNAME:EST
DTSTART:20251102T060000
END:STANDARD
BEGIN:DAYLIGHT
TZOFFSETFROM:-0500
TZOFFSETTO:-0400
TZNAME:EDT
DTSTART:20260308T070000
END:DAYLIGHT
BEGIN:STANDARD
TZOFFSETFROM:-0400
TZOFFSETTO:-0500
TZNAME:EST
DTSTART:20261101T060000
END:STANDARD
END:VTIMEZONE
BEGIN:VEVENT
DTSTART;TZID=America/New_York:20251010T235900
DTEND;TZID=America/New_York:20251010T235900
DTSTAMP:20260422T224445
CREATED:20250717T164243Z
LAST-MODIFIED:20251008T015017Z
UID:10001913-1760140740-1760140740@delrayartisans.org
SUMMARY:2026 Wall Calendar Pre-order Deadline
DESCRIPTION:Order Now for a Discount!\nOrder Now  \nDel Ray Artisans’ 2026 Wall Calendar featuring artwork by Del Ray Artisans members is available for pre-order now at just $18/calendar. (Regular price $22/calendar.) \nThe pre-order discount price is only available until October 10. Pre-ordering the calendar helps our organization estimate how many calendars to order. If you pre-order\, you will be notified when the calendars arrive\, so you can come pick up your purchase. Calendars will arrive between October 20 – November 15\, 2025. \nThank you to our calendar sponsors: Daniela Spigai\, Realtor® / ADVISORY at Compass\, Let’s Meat on the Avenue\, Los Tios Grill\, Taqueria el Poblano\, The Zebra Press\, and McD Mateos Community Partners! \n \nOrder Now
URL:https://delrayartisans.org/event/2026-calendar-preorder-deadline/
LOCATION:Online
CATEGORIES:Fundraising
ORGANIZER;CN="Margaret Slipek%2C Fundraising Director":MAILTO:Fundraising@DelRayArtisans.org
END:VEVENT
BEGIN:VEVENT
DTSTART;TZID=America/New_York:20250818T235900
DTEND;TZID=America/New_York:20250818T235900
DTSTAMP:20260422T224445
CREATED:20250717T163344Z
LAST-MODIFIED:20250717T163344Z
UID:10001912-1755561540-1755561540@delrayartisans.org
SUMMARY:2026 Wall Calendar Call for Entry Deadline
DESCRIPTION:Call for Entry (Open to Members Only)\nDel Ray Artisans’ 2026 Wall Calendar\nDigital entries due Monday\, August 18\, 2025\nMembers: Submit your best work to the 13th annual Del Ray Artisans’ wall calendar! All entries are to be received digitally\, and no physical pieces of art will be collected. There is no entry fee\, no theme\, and work previously shown at Del Ray Artisans is acceptable. Your Del Ray Artisans membership must be up-to-date. \nThe Calendar Selection Committee will choose approximately 50-60 pieces of art from Del Ray Artisans members to be included in the 2026 Wall Calendar. This calendar is a fundraiser to benefit Del Ray Artisans\, but also a fun way to show your support for our arts organization and share your talent with the community. \nEntry Details & Form
URL:https://delrayartisans.org/event/2026-calendar-entry-deadline/
LOCATION:Online
CATEGORIES:Entry Deadline
ORGANIZER;CN="Margaret Slipek%2C Fundraising Director":MAILTO:Fundraising@DelRayArtisans.org
END:VEVENT
BEGIN:VEVENT
DTSTART;VALUE=DATE:20241010
DTEND;VALUE=DATE:20241011
DTSTAMP:20260422T224445
CREATED:20240924T152547Z
LAST-MODIFIED:20241001T181631Z
UID:10001513-1728518400-1728604799@delrayartisans.org
SUMMARY:2025 Wall Calendar Pre-order Deadline
DESCRIPTION:Order Now for a Discount!\nCover art: “2024 Spring in Alexandria” by David Wardrick\nDel Ray Artisans’ 2025 Wall Calendar featuring artwork by Del Ray Artisans members is available for pre-order now at just $18/calendar. (Regular price $20/calendar.) \nThe pre-order discount price is only available until October 10. Pre-ordering the calendar helps our organization estimate how many calendars to order. If you pre-order\, you will be notified when the calendars arrive\, so you can come pick up your purchase. Calendars will arrive between Oct 20 – Nov 15\, 2024. \nOrder Now  \nThank you to our 2025 calendar sponsors: Daniela Spigai\, Realtor® / ADVISORY at Compass\, Artifacts Inc.\, Let’s Meat on the Avenue\, McD Mateos Community Partners\, and The Zebra Press!
URL:https://delrayartisans.org/event/2025-calendar-preorder-deadline/
LOCATION:Online
CATEGORIES:Fundraising
ORGANIZER;CN="Margaret Slipek%2C Fundraising Director":MAILTO:Fundraising@DelRayArtisans.org
END:VEVENT
BEGIN:VEVENT
DTSTART;TZID=America/New_York:20240818T235900
DTEND;TZID=America/New_York:20240818T235900
DTSTAMP:20260422T224445
CREATED:20240617T215550Z
LAST-MODIFIED:20240617T215550Z
UID:10001432-1724025540-1724025540@delrayartisans.org
SUMMARY:2025 Wall Calendar Call for Entry Deadline
DESCRIPTION:Call for Entry (Open to Members Only)\nDel Ray Artisans’ 2025 Wall Calendar\nDigital entries due Sunday\, August 18\, 2024\nMembers: Submit your best work to the 12th annual Del Ray Artisans’ wall calendar! All entries are to be received digitally\, and no physical pieces of art will be collected. There is no entry fee\, no theme\, and work previously shown at Del Ray Artisans is acceptable. Your Del Ray Artisans membership must be up-to-date. \nThe Calendar Selection Committee will choose approximately 50-60 pieces of art from Del Ray Artisans members to be included in the 2025 Wall Calendar. This calendar is a fundraiser to benefit Del Ray Artisans\, but also a fun way to show your support for our arts organization and share your talent with the community. \nEntry Details & Form
URL:https://delrayartisans.org/event/2025-calendar-entry-deadline/
LOCATION:Online
CATEGORIES:Entry Deadline
ORGANIZER;CN="Margaret Slipek%2C Fundraising Director":MAILTO:Fundraising@DelRayArtisans.org
END:VEVENT
BEGIN:VEVENT
DTSTART;TZID=America/New_York:20240721T080000
DTEND;TZID=America/New_York:20240721T130000
DTSTAMP:20260422T224445
CREATED:20240410T014900Z
LAST-MODIFIED:20240721T030805Z
UID:10001449-1721548800-1721566800@delrayartisans.org
SUMMARY:Rummage Sale Fundraiser (Indoor Yard Sale)
DESCRIPTION:Extended one day! Also on Sunday\, July 21\, 8am-1pm!\nPlease share the flyer! (English Version)\n¡Por favor comparte! (Versión en español)\nSupport Del Ray Artisans and go home with new-to-you\, used treasures from our rummage sale on Saturday\, July 20 AND Sunday\, July 21 from 8am-1pm inside the gallery. \nAll proceeds benefit Del Ray Artisans nonprofit arts organization. \nDonated items for the sale (dropped off in advance) are welcomed and appreciated! Drop off times at the gallery for donations are: July 14 (5-8pm)\, July 15 (5-7pm)\, July 16 (1-5pm)\, July 18 (12-8pm)\, and July 19 (12-8pm). \nDonations may include household items\, clothing\, office supplies\, jewelry\, toys\, books\, sports equipment\, handheld tools\, small appliances\, and more. \nPlease do not drop off hazardous materials\, broken items\, or anything that requires two people to move (no large furniture or large electronics). \nIf you have questions about donations\, contact Margaret Slipek at fundraising@delrayartisans.org.  Thank you! \nVolunteer\nTo help during the drop off dates and/or sale\, please contact Morgan Parr at volunteers@delrayartisans.org. \nDRA members are reminded to report their volunteer hours monthly.
URL:https://delrayartisans.org/event/yard-sale-2024/2024-07-21/
LOCATION:Del Ray Artisans Gallery\, 2704 Mount Vernon Avenue\, Alexandria\, VA\, 22301\, United States
CATEGORIES:Community Event,Fundraising,Volunteer
ORGANIZER;CN="Margaret Slipek%2C Fundraising Director":MAILTO:Fundraising@DelRayArtisans.org
END:VEVENT
BEGIN:VEVENT
DTSTART;TZID=America/New_York:20240720T080000
DTEND;TZID=America/New_York:20240720T130000
DTSTAMP:20260422T224445
CREATED:20240410T014900Z
LAST-MODIFIED:20240721T030805Z
UID:10001397-1721462400-1721480400@delrayartisans.org
SUMMARY:Rummage Sale Fundraiser (Indoor Yard Sale)
DESCRIPTION:Extended one day! Also on Sunday\, July 21\, 8am-1pm!\nPlease share the flyer! (English Version)\n¡Por favor comparte! (Versión en español)\nSupport Del Ray Artisans and go home with new-to-you\, used treasures from our rummage sale on Saturday\, July 20 AND Sunday\, July 21 from 8am-1pm inside the gallery. \nAll proceeds benefit Del Ray Artisans nonprofit arts organization. \nDonated items for the sale (dropped off in advance) are welcomed and appreciated! Drop off times at the gallery for donations are: July 14 (5-8pm)\, July 15 (5-7pm)\, July 16 (1-5pm)\, July 18 (12-8pm)\, and July 19 (12-8pm). \nDonations may include household items\, clothing\, office supplies\, jewelry\, toys\, books\, sports equipment\, handheld tools\, small appliances\, and more. \nPlease do not drop off hazardous materials\, broken items\, or anything that requires two people to move (no large furniture or large electronics). \nIf you have questions about donations\, contact Margaret Slipek at fundraising@delrayartisans.org.  Thank you! \nVolunteer\nTo help during the drop off dates and/or sale\, please contact Morgan Parr at volunteers@delrayartisans.org. \nDRA members are reminded to report their volunteer hours monthly.
URL:https://delrayartisans.org/event/yard-sale-2024/2024-07-20/
LOCATION:Del Ray Artisans Gallery\, 2704 Mount Vernon Avenue\, Alexandria\, VA\, 22301\, United States
CATEGORIES:Community Event,Fundraising,Volunteer
ORGANIZER;CN="Margaret Slipek%2C Fundraising Director":MAILTO:Fundraising@DelRayArtisans.org
END:VEVENT
BEGIN:VEVENT
DTSTART;TZID=America/New_York:20240719T120000
DTEND;TZID=America/New_York:20240719T200000
DTSTAMP:20260422T224445
CREATED:20240515T025541Z
LAST-MODIFIED:20240715T150351Z
UID:10001411-1721390400-1721419200@delrayartisans.org
SUMMARY:Drop off donations for Rummage Sale (Indoor Yard Sale)
DESCRIPTION:The rummage sale will be inside the gallery on Saturday\, July 20\, 8am-1pm. Drop off your donations for the sale to benefit Del Ray Artisans nonprofit on these dates: \n\nSunday\, July 14\, 5-8pm\nMonday\, July 15\, 5-7pm\nTuesday\, July 16\, 1-5pm\nThursday\, July 18 12-8pm\nFriday\, July 19\, 12-8pm\n\nDonations may include household items\, clothing\, office supplies\, jewelry\, toys\, books\, sports equipment\, handheld tools\, small appliances\, and more. \nPlease do not drop off hazardous materials\, broken items\, or anything that requires two people to move (no large furniture or large electronics). \nIf you have questions about donations\, contact Margaret Slipek at fundraising@delrayartisans.org.  Thank you! \nPlease share the flyer!\n¡Por favor comparte!\nVolunteer\nHelp with the donation drop offs\, organization\, and pricing. To sign up to assist\, contact Morgan Parr at volunteers@delrayartisans.org. \nDRA members are reminded to report their volunteer hours monthly.
URL:https://delrayartisans.org/event/yard-sale-donations/2024-07-19/
LOCATION:Del Ray Artisans Gallery\, 2704 Mount Vernon Avenue\, Alexandria\, VA\, 22301\, United States
CATEGORIES:Fundraising,Volunteer
ORGANIZER;CN="Margaret Slipek%2C Fundraising Director":MAILTO:Fundraising@DelRayArtisans.org
END:VEVENT
BEGIN:VEVENT
DTSTART;TZID=America/New_York:20240718T120000
DTEND;TZID=America/New_York:20240718T200000
DTSTAMP:20260422T224445
CREATED:20240515T025541Z
LAST-MODIFIED:20240715T150351Z
UID:10001410-1721304000-1721332800@delrayartisans.org
SUMMARY:Drop off donations for Rummage Sale (Indoor Yard Sale)
DESCRIPTION:The rummage sale will be inside the gallery on Saturday\, July 20\, 8am-1pm. Drop off your donations for the sale to benefit Del Ray Artisans nonprofit on these dates: \n\nSunday\, July 14\, 5-8pm\nMonday\, July 15\, 5-7pm\nTuesday\, July 16\, 1-5pm\nThursday\, July 18 12-8pm\nFriday\, July 19\, 12-8pm\n\nDonations may include household items\, clothing\, office supplies\, jewelry\, toys\, books\, sports equipment\, handheld tools\, small appliances\, and more. \nPlease do not drop off hazardous materials\, broken items\, or anything that requires two people to move (no large furniture or large electronics). \nIf you have questions about donations\, contact Margaret Slipek at fundraising@delrayartisans.org.  Thank you! \nPlease share the flyer!\n¡Por favor comparte!\nVolunteer\nHelp with the donation drop offs\, organization\, and pricing. To sign up to assist\, contact Morgan Parr at volunteers@delrayartisans.org. \nDRA members are reminded to report their volunteer hours monthly.
URL:https://delrayartisans.org/event/yard-sale-donations/2024-07-18/
LOCATION:Del Ray Artisans Gallery\, 2704 Mount Vernon Avenue\, Alexandria\, VA\, 22301\, United States
CATEGORIES:Fundraising,Volunteer
ORGANIZER;CN="Margaret Slipek%2C Fundraising Director":MAILTO:Fundraising@DelRayArtisans.org
END:VEVENT
BEGIN:VEVENT
DTSTART;TZID=America/New_York:20240716T130000
DTEND;TZID=America/New_York:20240716T170000
DTSTAMP:20260422T224445
CREATED:20240515T025541Z
LAST-MODIFIED:20240715T150351Z
UID:10001433-1721134800-1721149200@delrayartisans.org
SUMMARY:Drop off donations for Rummage Sale (Indoor Yard Sale)
DESCRIPTION:The rummage sale will be inside the gallery on Saturday\, July 20\, 8am-1pm. Drop off your donations for the sale to benefit Del Ray Artisans nonprofit on these dates: \n\nSunday\, July 14\, 5-8pm\nMonday\, July 15\, 5-7pm\nTuesday\, July 16\, 1-5pm\nThursday\, July 18 12-8pm\nFriday\, July 19\, 12-8pm\n\nDonations may include household items\, clothing\, office supplies\, jewelry\, toys\, books\, sports equipment\, handheld tools\, small appliances\, and more. \nPlease do not drop off hazardous materials\, broken items\, or anything that requires two people to move (no large furniture or large electronics). \nIf you have questions about donations\, contact Margaret Slipek at fundraising@delrayartisans.org.  Thank you! \nPlease share the flyer!\n¡Por favor comparte!\nVolunteer\nHelp with the donation drop offs\, organization\, and pricing. To sign up to assist\, contact Morgan Parr at volunteers@delrayartisans.org. \nDRA members are reminded to report their volunteer hours monthly.
URL:https://delrayartisans.org/event/yard-sale-donations/2024-07-16/
LOCATION:Del Ray Artisans Gallery\, 2704 Mount Vernon Avenue\, Alexandria\, VA\, 22301\, United States
CATEGORIES:Fundraising,Volunteer
ORGANIZER;CN="Margaret Slipek%2C Fundraising Director":MAILTO:Fundraising@DelRayArtisans.org
END:VEVENT
BEGIN:VEVENT
DTSTART;TZID=America/New_York:20240715T170000
DTEND;TZID=America/New_York:20240715T190000
DTSTAMP:20260422T224445
CREATED:20240515T025541Z
LAST-MODIFIED:20240715T150351Z
UID:10001409-1721062800-1721070000@delrayartisans.org
SUMMARY:Drop off donations for Rummage Sale (Indoor Yard Sale)
DESCRIPTION:The rummage sale will be inside the gallery on Saturday\, July 20\, 8am-1pm. Drop off your donations for the sale to benefit Del Ray Artisans nonprofit on these dates: \n\nSunday\, July 14\, 5-8pm\nMonday\, July 15\, 5-7pm\nTuesday\, July 16\, 1-5pm\nThursday\, July 18 12-8pm\nFriday\, July 19\, 12-8pm\n\nDonations may include household items\, clothing\, office supplies\, jewelry\, toys\, books\, sports equipment\, handheld tools\, small appliances\, and more. \nPlease do not drop off hazardous materials\, broken items\, or anything that requires two people to move (no large furniture or large electronics). \nIf you have questions about donations\, contact Margaret Slipek at fundraising@delrayartisans.org.  Thank you! \nPlease share the flyer!\n¡Por favor comparte!\nVolunteer\nHelp with the donation drop offs\, organization\, and pricing. To sign up to assist\, contact Morgan Parr at volunteers@delrayartisans.org. \nDRA members are reminded to report their volunteer hours monthly.
URL:https://delrayartisans.org/event/yard-sale-donations/2024-07-15/
LOCATION:Del Ray Artisans Gallery\, 2704 Mount Vernon Avenue\, Alexandria\, VA\, 22301\, United States
CATEGORIES:Fundraising,Volunteer
ORGANIZER;CN="Margaret Slipek%2C Fundraising Director":MAILTO:Fundraising@DelRayArtisans.org
END:VEVENT
BEGIN:VEVENT
DTSTART;TZID=America/New_York:20240714T170000
DTEND;TZID=America/New_York:20240714T200000
DTSTAMP:20260422T224445
CREATED:20240515T025541Z
LAST-MODIFIED:20240715T150351Z
UID:10001408-1720976400-1720987200@delrayartisans.org
SUMMARY:Drop off donations for Rummage Sale (Indoor Yard Sale)
DESCRIPTION:The rummage sale will be inside the gallery on Saturday\, July 20\, 8am-1pm. Drop off your donations for the sale to benefit Del Ray Artisans nonprofit on these dates: \n\nSunday\, July 14\, 5-8pm\nMonday\, July 15\, 5-7pm\nTuesday\, July 16\, 1-5pm\nThursday\, July 18 12-8pm\nFriday\, July 19\, 12-8pm\n\nDonations may include household items\, clothing\, office supplies\, jewelry\, toys\, books\, sports equipment\, handheld tools\, small appliances\, and more. \nPlease do not drop off hazardous materials\, broken items\, or anything that requires two people to move (no large furniture or large electronics). \nIf you have questions about donations\, contact Margaret Slipek at fundraising@delrayartisans.org.  Thank you! \nPlease share the flyer!\n¡Por favor comparte!\nVolunteer\nHelp with the donation drop offs\, organization\, and pricing. To sign up to assist\, contact Morgan Parr at volunteers@delrayartisans.org. \nDRA members are reminded to report their volunteer hours monthly.
URL:https://delrayartisans.org/event/yard-sale-donations/2024-07-14/
LOCATION:Del Ray Artisans Gallery\, 2704 Mount Vernon Avenue\, Alexandria\, VA\, 22301\, United States
CATEGORIES:Fundraising,Volunteer
ORGANIZER;CN="Margaret Slipek%2C Fundraising Director":MAILTO:Fundraising@DelRayArtisans.org
END:VEVENT
BEGIN:VEVENT
DTSTART;VALUE=DATE:20240410
DTEND;VALUE=DATE:20240425
DTSTAMP:20260422T224445
CREATED:20231129T163944Z
LAST-MODIFIED:20231129T165149Z
UID:10001316-1712707200-1714003199@delrayartisans.org
SUMMARY:Spring2ACTion 2024
DESCRIPTION:Donate April 10–24 \nStarting Wednesday\, April 10 through Wednesday\, April 24\, 2024 (Giving Day) our community comes together to support the amazing work of Alexandria nonprofits through Spring2ACTion\, hosted by ACT for Alexandria. Please remember Del Ray Artisans is one of those worthy causes! \nDel Ray Artisans has been promoting art for the benefit of local artists and the community since 1992. Del Ray Artisans supports the development of artists at all levels and serves as a center for thriving artistic activity in Alexandria\, Virginia. \nDuring Spring2ACTion\, please show your support for Del Ray Artisans’ exhibits\, programs\, youth and outreach activities which help members of our community grow as individuals and as artists. \nIf you are in a position to do so\, please donate to Del Ray Artisans nonprofit today. Other ways to support: \n\nBuy artwork from local artists during our exhibits or from members’ websites.\nShare our Spring2ACTion fundraising page with your network. Crowdsourcing adds up\, and we absolutely appreciate every single donation and shout-out.\nRegister for a Creative Workshop or attend an upcoming Creative Program. Learn something new and have fun!\n\nPlease consider a tax-deductible donation and spread the word to friends and family. Every donation is appreciated. Thank you for supporting the arts! \nDonate April 10–24
URL:https://delrayartisans.org/event/spring2action-2024/
LOCATION:Online
CATEGORIES:Community Event,Fundraising,Program
ATTACH;FMTTYPE=image/jpeg:https://delrayartisans.org/wp-content/uploads/2022/04/S2A-JoinYourCommunity.jpg
ORGANIZER;CN="Margaret Slipek%2C Fundraising Director":MAILTO:Fundraising@DelRayArtisans.org
END:VEVENT
BEGIN:VEVENT
DTSTART;TZID=America/New_York:20240306T180000
DTEND;TZID=America/New_York:20240306T193000
DTSTAMP:20260422T224445
CREATED:20240224T000317Z
LAST-MODIFIED:20240224T000317Z
UID:10001365-1709748000-1709753400@delrayartisans.org
SUMMARY:Banner Cleaning Volunteers
DESCRIPTION:Meet on Wednesday\, March 6 at 6pm at the gallery to help prep past exhibit banners for reuse. \nQuestions? Contact Margaret Slipek at Fundraising@DelRayArtisans.org. \nMEMBERS: This task counts towards your annual membership volunteer hours. \nNON-MEMBERS: You are welcome to come help too. \nThank you for your volunteer time!
URL:https://delrayartisans.org/event/banner-cleaning/
LOCATION:Del Ray Artisans Gallery\, 2704 Mount Vernon Avenue\, Alexandria\, VA\, 22301\, United States
CATEGORIES:Volunteer
ORGANIZER;CN="Margaret Slipek%2C Fundraising Director":MAILTO:Fundraising@DelRayArtisans.org
END:VEVENT
END:VCALENDAR