BEGIN:VCALENDAR
VERSION:2.0
PRODID:-//Del Ray Artisans - ECPv6.15.20//NONSGML v1.0//EN
CALSCALE:GREGORIAN
METHOD:PUBLISH
X-WR-CALNAME:Del Ray Artisans
X-ORIGINAL-URL:https://delrayartisans.org
X-WR-CALDESC:Events for Del Ray Artisans
REFRESH-INTERVAL;VALUE=DURATION:PT1H
X-Robots-Tag:noindex
X-PUBLISHED-TTL:PT1H
BEGIN:VTIMEZONE
TZID:America/New_York
BEGIN:DAYLIGHT
TZOFFSETFROM:-0500
TZOFFSETTO:-0400
TZNAME:EDT
DTSTART:20250309T070000
END:DAYLIGHT
BEGIN:STANDARD
TZOFFSETFROM:-0400
TZOFFSETTO:-0500
TZNAME:EST
DTSTART:20251102T060000
END:STANDARD
BEGIN:DAYLIGHT
TZOFFSETFROM:-0500
TZOFFSETTO:-0400
TZNAME:EDT
DTSTART:20260308T070000
END:DAYLIGHT
BEGIN:STANDARD
TZOFFSETFROM:-0400
TZOFFSETTO:-0500
TZNAME:EST
DTSTART:20261101T060000
END:STANDARD
BEGIN:DAYLIGHT
TZOFFSETFROM:-0500
TZOFFSETTO:-0400
TZNAME:EDT
DTSTART:20270314T070000
END:DAYLIGHT
BEGIN:STANDARD
TZOFFSETFROM:-0400
TZOFFSETTO:-0500
TZNAME:EST
DTSTART:20271107T060000
END:STANDARD
END:VTIMEZONE
BEGIN:VEVENT
DTSTART;TZID=America/New_York:20260510T235900
DTEND;TZID=America/New_York:20260510T235900
DTSTAMP:20260423T000117
CREATED:20260123T230408Z
LAST-MODIFIED:20260410T034025Z
UID:10002172-1778457540-1778457540@delrayartisans.org
SUMMARY:"USA at 250" Call for Entry Deadline
DESCRIPTION:Call for Entry ~ Open to area artists\nUSA at 250\nExhibit Dates: June 5–28\, 2026\nDigital entry deadline: Sunday\, May 10\, 2026 by midnight\n“The Many Faces of Washington” by Karen Feeley\nCapture the spirit of our nation: its past\, present\, and its promise for the future. In an era where it may be easy to focus on the negative\, we encourage artists to create works that focus on the positive\, highlighting pivotal moments\, progress\, resilience\, or the richness that continues to shape the American experience. \nThe exhibit is open to all area artists. Del Ray Artisans members pay a discounted entry fee. \nEntry Details & Form
URL:https://delrayartisans.org/event/usa-at-250-cfe-deadline/
LOCATION:Online
CATEGORIES:Entry Deadline
ORGANIZER;CN="TJ Feeley":MAILTO:tjfeeley@gmail.com
END:VEVENT
BEGIN:VEVENT
DTSTART;VALUE=DATE:20260605
DTEND;VALUE=DATE:20260629
DTSTAMP:20260423T000117
CREATED:20260123T232738Z
LAST-MODIFIED:20260305T213154Z
UID:10002177-1780617600-1782691199@delrayartisans.org
SUMMARY:USA at 250 at Del Ray Artisans Gallery
DESCRIPTION:USA at 250 Art Exhibit\nJune 5–28\, 2026\nOpening Reception: Friday\, June 5 from 7–9pm\nJoin us for the opening reception on Friday\, June 5 between 7-9pm to meet curators TJ Feeley and Karen Feeley and the artists.  Thank you to MCD Mateos McDonald’s for their generous donation for the reception. \nThe USA at 250 art exhibit runs from June 5–28\, 2026 at Del Ray Artisans gallery in the Colasanto Center\, 2704 Mount Vernon Avenue\, Alexandria\, Virginia 22301. Gallery hours are Thursday 12-6pm\, Friday 12-9pm\, Saturday 12-6pm\, and Sunday 12-6pm (hours differ in July). \nThe gallery is free\, open to the public\, and accessible. Del Ray Artisans\, a 501(3)(c) nonprofit organization whose mission is to promote art for the benefit of artists and the community. \nFor more information\, contact the Director of Curating\, Amy Kitchin Hower\, at curating@delrayartisans.org.
URL:https://delrayartisans.org/event/usa-at-250/
LOCATION:Del Ray Artisans Gallery\, 2704 Mount Vernon Avenue\, Alexandria\, VA\, 22301\, United States
CATEGORIES:Art Exhibit,Del Ray Artisans Gallery
ATTACH;FMTTYPE=image/jpeg:https://delrayartisans.org/wp-content/uploads/2023/04/delrayartisans-gallery-april2021-square.jpg
ORGANIZER;CN="TJ Feeley":MAILTO:tjfeeley@gmail.com
END:VEVENT
BEGIN:VEVENT
DTSTART;TZID=America/New_York:20260605T190000
DTEND;TZID=America/New_York:20260605T210000
DTSTAMP:20260423T000117
CREATED:20260123T232859Z
LAST-MODIFIED:20260305T213216Z
UID:10002178-1780686000-1780693200@delrayartisans.org
SUMMARY:"USA at 250" Art Exhibit Opening Reception
DESCRIPTION:USA at 250 Art Exhibit\nJune 5–28\, 2026\nOpening Reception: Friday\, June 5 from 7–9pm\nJoin us for the opening reception on Friday\, June 5 between 7-9pm to meet curators TJ Feeley and Karen Feeley and the artists. Thank you to MCD Mateos McDonald’s for their generous donation for the reception. \nThe USA at 250 art exhibit runs from June 5–28\, 2026 at Del Ray Artisans gallery in the Colasanto Center\, 2704 Mount Vernon Avenue\, Alexandria\, Virginia 22301. Gallery hours are Thursday 12-6pm\, Friday 12-9pm\, Saturday 12-6pm\, and Sunday 12-6pm (hours differ in July). \nThe gallery is free\, open to the public\, and accessible. Del Ray Artisans\, a 501(3)(c) nonprofit organization whose mission is to promote art for the benefit of artists and the community. \nFor more information\, contact the Director of Curating\, Amy Kitchin Hower\, at curating@delrayartisans.org.
URL:https://delrayartisans.org/event/usa-at-250-reception/
LOCATION:Del Ray Artisans Gallery\, 2704 Mount Vernon Avenue\, Alexandria\, VA\, 22301\, United States
ATTACH;FMTTYPE=image/jpeg:https://delrayartisans.org/wp-content/uploads/2023/04/delrayartisans-gallery-april2021-square.jpg
ORGANIZER;CN="TJ Feeley":MAILTO:tjfeeley@gmail.com
END:VEVENT
END:VCALENDAR