BEGIN:VCALENDAR
VERSION:2.0
PRODID:-//Del Ray Artisans - ECPv6.15.20//NONSGML v1.0//EN
CALSCALE:GREGORIAN
METHOD:PUBLISH
X-ORIGINAL-URL:https://delrayartisans.org
X-WR-CALDESC:Events for Del Ray Artisans
REFRESH-INTERVAL;VALUE=DURATION:PT1H
X-Robots-Tag:noindex
X-PUBLISHED-TTL:PT1H
BEGIN:VTIMEZONE
TZID:America/New_York
BEGIN:DAYLIGHT
TZOFFSETFROM:-0500
TZOFFSETTO:-0400
TZNAME:EDT
DTSTART:20230312T070000
END:DAYLIGHT
BEGIN:STANDARD
TZOFFSETFROM:-0400
TZOFFSETTO:-0500
TZNAME:EST
DTSTART:20231105T060000
END:STANDARD
BEGIN:DAYLIGHT
TZOFFSETFROM:-0500
TZOFFSETTO:-0400
TZNAME:EDT
DTSTART:20240310T070000
END:DAYLIGHT
BEGIN:STANDARD
TZOFFSETFROM:-0400
TZOFFSETTO:-0500
TZNAME:EST
DTSTART:20241103T060000
END:STANDARD
BEGIN:DAYLIGHT
TZOFFSETFROM:-0500
TZOFFSETTO:-0400
TZNAME:EDT
DTSTART:20250309T070000
END:DAYLIGHT
BEGIN:STANDARD
TZOFFSETFROM:-0400
TZOFFSETTO:-0500
TZNAME:EST
DTSTART:20251102T060000
END:STANDARD
BEGIN:DAYLIGHT
TZOFFSETFROM:-0500
TZOFFSETTO:-0400
TZNAME:EDT
DTSTART:20260308T070000
END:DAYLIGHT
BEGIN:STANDARD
TZOFFSETFROM:-0400
TZOFFSETTO:-0500
TZNAME:EST
DTSTART:20261101T060000
END:STANDARD
BEGIN:DAYLIGHT
TZOFFSETFROM:-0500
TZOFFSETTO:-0400
TZNAME:EDT
DTSTART:20270314T070000
END:DAYLIGHT
BEGIN:STANDARD
TZOFFSETFROM:-0400
TZOFFSETTO:-0500
TZNAME:EST
DTSTART:20271107T060000
END:STANDARD
END:VTIMEZONE
BEGIN:VEVENT
DTSTART;TZID=America/New_York:20260317T130000
DTEND;TZID=America/New_York:20260317T150000
DTSTAMP:20260423T005624
CREATED:20260302T162332Z
LAST-MODIFIED:20260302T162332Z
UID:10002210-1773752400-1773759600@delrayartisans.org
SUMMARY:Washington Calligraphers Guild Study Group
DESCRIPTION:Tuesday\, March 17 from 1-3pm is reserved for the Washington Calligraphers Guild.
URL:https://delrayartisans.org/event/washington-calligraphers-guild-march-2026/
LOCATION:Del Ray Artisans Gallery\, 2704 Mount Vernon Avenue\, Alexandria\, VA\, 22301\, United States
CATEGORIES:Meeting
ORGANIZER;CN="Jenny Nicholson":MAILTO:8JLNicholson@gmail.com
END:VEVENT
BEGIN:VEVENT
DTSTART;TZID=America/New_York:20260127T133000
DTEND;TZID=America/New_York:20260127T163000
DTSTAMP:20260423T005624
CREATED:20260106T190335Z
LAST-MODIFIED:20260302T162035Z
UID:10002145-1769520600-1769531400@delrayartisans.org
SUMMARY:ONLINE: Washington Calligraphers Guild Study Group
DESCRIPTION:NOTE: Due to the weather this event will be held online. \nTuesday\, January 27 from 1:30 to 4:30pm is reserved for the Washington Calligraphers Guild.
URL:https://delrayartisans.org/event/washington-calligraphers-guild-jan-2026/
LOCATION:Del Ray Artisans Gallery\, 2704 Mount Vernon Avenue\, Alexandria\, VA\, 22301\, United States
CATEGORIES:Meeting
ORGANIZER;CN="Jenny Nicholson":MAILTO:8JLNicholson@gmail.com
END:VEVENT
BEGIN:VEVENT
DTSTART;TZID=America/New_York:20241117T130000
DTEND;TZID=America/New_York:20241117T153000
DTSTAMP:20260423T005624
CREATED:20240925T153138Z
LAST-MODIFIED:20241108T133217Z
UID:10001514-1731848400-1731857400@delrayartisans.org
SUMMARY:Decorated Letters Workshop (Register ASAP)
DESCRIPTION:Instructor: Jenny Nicholson\nDate/Time: Sunday\, November 17\, 1-3:30pm\nCost: $45 Del Ray Artisans member / $55 Non-member; plus a $15 Supply Fee\nClass size: 4-10 participants\n(Register in advance; walk-ins welcome only if space permits) \nCreate large letters and decorate inside and around them with Zentangles\, patterns\, texture\, color\, and gold. Final pieces are a 3.5″ square or larger. Materials fee includes white and black paper and Gelly Roll pens\, along with other materials provided by the instructor to use in class. Bring watercolors and a small watercolor brush if you already have them. \nRegister Now \n\nView other upcoming workshops\, information about the facility\, and policies on the Upcoming Workshops page.
URL:https://delrayartisans.org/event/decorated-letters/
LOCATION:Del Ray Artisans Gallery\, 2704 Mount Vernon Avenue\, Alexandria\, VA\, 22301\, United States
CATEGORIES:Program,Workshop
ATTACH;FMTTYPE=image/jpeg:https://delrayartisans.org/wp-content/uploads/2024/09/DecoratedLetterM-byJennyNicholson.jpg
ORGANIZER;CN="Jenny Nicholson":MAILTO:8JLNicholson@gmail.com
END:VEVENT
BEGIN:VEVENT
DTSTART;TZID=America/New_York:20240505T093000
DTEND;TZID=America/New_York:20240505T120000
DTSTAMP:20260423T005624
CREATED:20240405T172846Z
LAST-MODIFIED:20240430T221839Z
UID:10001385-1714901400-1714910400@delrayartisans.org
SUMMARY:Zen Brush Calligraphy Workshop (Register by 5/4)
DESCRIPTION:Instructor: Jenny Nicholson\nDate/Time: Sunday\, May 5\, 9:30am-noon\nCost: $45 Del Ray Artisans member / $55 Non-member; plus a $20 Supply Fee\nClass size: 3-10 participants\n(Register by midnight on May 4) \nJoin us for a cup of green tea\, jasmine pearls\, genmaicha\, or other teas (tea provided) and learn about the four treasures of East Asian style calligraphy (brush\, ink\, ink stone\, and paper). We will practice with the brush and explore personal expression using sumi ink on rice paper. The final project will be a weathergram to hang outside and a small booklet of our practice. All art materials are included in the supply fee. \nRegister Now \n\nArtwork credit: Zen Brush Calligraphy by Jennifer Nicholson \n\nView other upcoming workshops\, information about the facility\, and policies on the Upcoming Workshops page.
URL:https://delrayartisans.org/event/zen-brush/
LOCATION:Del Ray Artisans Gallery\, 2704 Mount Vernon Avenue\, Alexandria\, VA\, 22301\, United States
CATEGORIES:Workshop
ATTACH;FMTTYPE=image/jpeg:https://delrayartisans.org/wp-content/uploads/2024/04/Zen-Brush-Calligraphy-Jennifer-Nicholson.jpg
ORGANIZER;CN="Jenny Nicholson":MAILTO:8JLNicholson@gmail.com
END:VEVENT
END:VCALENDAR