BEGIN:VCALENDAR
VERSION:2.0
PRODID:-//Del Ray Artisans - ECPv6.15.20//NONSGML v1.0//EN
CALSCALE:GREGORIAN
METHOD:PUBLISH
X-WR-CALNAME:Del Ray Artisans
X-ORIGINAL-URL:https://delrayartisans.org
X-WR-CALDESC:Events for Del Ray Artisans
REFRESH-INTERVAL;VALUE=DURATION:PT1H
X-Robots-Tag:noindex
X-PUBLISHED-TTL:PT1H
BEGIN:VTIMEZONE
TZID:America/New_York
BEGIN:DAYLIGHT
TZOFFSETFROM:-0500
TZOFFSETTO:-0400
TZNAME:EDT
DTSTART:20240310T070000
END:DAYLIGHT
BEGIN:STANDARD
TZOFFSETFROM:-0400
TZOFFSETTO:-0500
TZNAME:EST
DTSTART:20241103T060000
END:STANDARD
BEGIN:DAYLIGHT
TZOFFSETFROM:-0500
TZOFFSETTO:-0400
TZNAME:EDT
DTSTART:20250309T070000
END:DAYLIGHT
BEGIN:STANDARD
TZOFFSETFROM:-0400
TZOFFSETTO:-0500
TZNAME:EST
DTSTART:20251102T060000
END:STANDARD
BEGIN:DAYLIGHT
TZOFFSETFROM:-0500
TZOFFSETTO:-0400
TZNAME:EDT
DTSTART:20260308T070000
END:DAYLIGHT
BEGIN:STANDARD
TZOFFSETFROM:-0400
TZOFFSETTO:-0500
TZNAME:EST
DTSTART:20261101T060000
END:STANDARD
BEGIN:DAYLIGHT
TZOFFSETFROM:-0500
TZOFFSETTO:-0400
TZNAME:EDT
DTSTART:20270314T070000
END:DAYLIGHT
BEGIN:STANDARD
TZOFFSETFROM:-0400
TZOFFSETTO:-0500
TZNAME:EST
DTSTART:20271107T060000
END:STANDARD
END:VTIMEZONE
BEGIN:VEVENT
DTSTART;TZID=America/New_York:20260318T190000
DTEND;TZID=America/New_York:20260318T210000
DTSTAMP:20260423T003143
CREATED:20251223T205056Z
LAST-MODIFIED:20260316T200431Z
UID:10002137-1773860400-1773867600@delrayartisans.org
SUMMARY:CANCELED: Round Robin Paint Party
DESCRIPTION:This workshop has been canceled. \nInstructor: Haddy Kreie\nDate/Time: Wednesday\, March 18\, 7-9pm\nCost: $35 Del Ray Artisans member / $45 Non-member\, plus a $5 supply fee\nClass size: 8-20 participants\n(Register by March 14) \nIn this playful\, low-pressure painting workshop\, participants begin individual canvases and then periodically rotate them around the group. Each painter will start and end with their own canvas\, shaped by many hands\, and will take this canvas home. \nThis shared process highlights the Assembly art exhibit’s central idea: that creativity\, like community\, is enriched when we build together rather than alone. \nAll supplies are provided. No prior experience necessary. \n \n\nImage credit: Photograph by Haddy Kreie \n\nView other upcoming workshops\, information about the facility and policies on the Upcoming Workshops page.
URL:https://delrayartisans.org/event/round-robin-paint-party/
LOCATION:Del Ray Artisans Gallery\, 2704 Mount Vernon Avenue\, Alexandria\, VA\, 22301\, United States
CATEGORIES:Program,Workshop
ATTACH;FMTTYPE=image/jpeg:https://delrayartisans.org/wp-content/uploads/2026/01/Round-Robin-Paint-Party-Haddy-Kreie.jpg
ORGANIZER;CN="Haddy Kreie":MAILTO:hkreie@gmail.com
END:VEVENT
BEGIN:VEVENT
DTSTART;TZID=America/New_York:20260311T190000
DTEND;TZID=America/New_York:20260311T203000
DTSTAMP:20260423T003143
CREATED:20251223T205001Z
LAST-MODIFIED:20260310T184549Z
UID:10002136-1773255600-1773261000@delrayartisans.org
SUMMARY:CANCELED: Acting Is Connecting Workshop (Register by 3/7)
DESCRIPTION:This workshop has been canceled. \nInstructor: Haddy Kreie\nDate/Time: Wednesday\, March 11\, 7-8:30pm\nCost: $30 Del Ray Artisans member / $40 Non-member\nClass size: 8-20 participants\n(Register by March 7) \nThis interactive workshop uses simple acting and movement exercises to explore active listening\, presence\, and our bodies in relationship to one another and to shared space. Through playful activities and guided reflection\, participants experience how awareness and openness deepen connection. \nParticipants should come dressed in clothing you are comfortable moving in. This is a physically engaging workshop. You may be invited to sit or roll around on the floor. \nActing Is Connecting embodies the Assembly art exhibit’s focus on gathering as a practice that strengthens understanding\, empathy\, and collective growth. \nRegistration coming soon! \nRegister Now \n\nImage credit: Photograph by Haddy Kreie \n\nView other upcoming workshops\, information about the facility and policies on the Upcoming Workshops page.
URL:https://delrayartisans.org/event/acting-is-connecting/
LOCATION:Del Ray Artisans Gallery\, 2704 Mount Vernon Avenue\, Alexandria\, VA\, 22301\, United States
CATEGORIES:Program,Workshop
ATTACH;FMTTYPE=image/jpeg:https://delrayartisans.org/wp-content/uploads/2026/01/Acting-is-Connecting-Haddy-Kreie.jpg
ORGANIZER;CN="Haddy Kreie":MAILTO:hkreie@gmail.com
END:VEVENT
BEGIN:VEVENT
DTSTART;TZID=America/New_York:20260307T190000
DTEND;TZID=America/New_York:20260307T210000
DTSTAMP:20260423T003143
CREATED:20251223T204916Z
LAST-MODIFIED:20260304T224434Z
UID:10002135-1772910000-1772917200@delrayartisans.org
SUMMARY:CANCELLED: Partnered Paint Workshop
DESCRIPTION:This workshop has been cancelled. \nInstructor: Haddy Kreie\nDate/Time: Saturday\, March 7\, 7-9pm\nCost: $35 Del Ray Artisans member / $45 Non-member\, plus a $5 supply fee\nClass size: 6-20 participants\n(Register by March 3) \nGrab a friend and participate in this fun collaborative painting workshop! Participants work in pairs to create a single image across two separate canvases. Each person paints their own canvas while communicating and responding to their partner’s choices\, discovering how shared vision and trust shape the final work. \nThis workshop reflects the Assembly art exhibit theme by exploring how growth happens through cooperation\, dialogue\, and creative interdependence. \nAll supplies are provided. No prior experience necessary.\n \n\nImage credit: Photograph by Haddy Kreie \n\nView other upcoming workshops\, information about the facility and policies on the Upcoming Workshops page.
URL:https://delrayartisans.org/event/partnered-paint/
LOCATION:Del Ray Artisans Gallery\, 2704 Mount Vernon Avenue\, Alexandria\, VA\, 22301\, United States
CATEGORIES:Program,Workshop
ATTACH;FMTTYPE=image/jpeg:https://delrayartisans.org/wp-content/uploads/2026/01/Partner-Paint-Party-Haddy-Kreie.jpg
ORGANIZER;CN="Haddy Kreie":MAILTO:hkreie@gmail.com
END:VEVENT
BEGIN:VEVENT
DTSTART;TZID=America/New_York:20260306T190000
DTEND;TZID=America/New_York:20260306T210000
DTSTAMP:20260423T003143
CREATED:20251115T132051Z
LAST-MODIFIED:20260305T212458Z
UID:10002110-1772823600-1772830800@delrayartisans.org
SUMMARY:"Assembly: Together We Grow" Art Exhibit Opening Reception
DESCRIPTION:Assembly: Together We Grow Art Exhibit\nMarch 6–28\, 2026\nOpening Reception: Friday\, March 6 from 7–9pm\n“Hear the Call” by Haddy Kreie\nFrom council circles of Indigenous nations to agoras of ancient Greece\, and from impromptu storm shelters to reliable weekly spiritual gatherings and intimate family dinners\, gathering has shaped how we live and how we imagine better ways of living together. It is one of the essential tools we have for building trust\, sharing knowledge\, and making meaning across generations. \nThe Assembly: Together We Grow art exhibit at Del Ray Artisans delves into the fundamental human act of gathering and how it helps us grow\, care for one another\, and cultivate belonging. This member artist showcase explores gathering not just as a moment in time\, but as a powerful mechanism through which we sustain and reimagine the world together. \nJoin us for the opening reception on Friday\, March 6 between 7-9pm to meet curator Haddy Kreie and the artists. Mark your calendar now or set a reminder through Eventbrite. Thank you to MCD Mateos McDonald’s for their generous donation for the reception. \nRegister in advance for our workshops and save the dates for our other creative programs in March: \n\nPartnered Paint Party – 3/7\, 7-9pm\nActing is Connection – 3/11\, 7-8:30pm\nRound Robin Paint Party – 3/18\, 7-9pm\nTheatrical Devising and Improv Workshop – 3/25\, 7-9:30pm\n\nThe Assembly: Together We Grow art exhibit runs from March 6–28\, 2026 at Del Ray Artisans gallery in the Colasanto Center\, 2704 Mount Vernon Avenue\, Alexandria\, Virginia 22301. Gallery hours are Thursday 12-6pm\, Friday 12-9pm\, Saturday 12-6pm\, and Sunday 12-6pm (closed March 1 and March 29). \nThe gallery is free\, open to the public\, and accessible. Del Ray Artisans\, a 501(3)(c) nonprofit organization whose mission is to promote art for the benefit of artists and the community. \nFor more information\, contact the Director of Curating\, Amy Kitchin Hower\, at curating@delrayartisans.org.
URL:https://delrayartisans.org/event/assembly-reception/
LOCATION:Del Ray Artisans Gallery\, 2704 Mount Vernon Avenue\, Alexandria\, VA\, 22301\, United States
ATTACH;FMTTYPE=image/jpeg:https://delrayartisans.org/wp-content/uploads/2025/11/Hear-the-Call-by-Haddy-Kreie-square.jpg
ORGANIZER;CN="Haddy Kreie":MAILTO:hkreie@gmail.com
END:VEVENT
BEGIN:VEVENT
DTSTART;VALUE=DATE:20260306
DTEND;VALUE=DATE:20260329
DTSTAMP:20260423T003143
CREATED:20251104T194019Z
LAST-MODIFIED:20260305T212525Z
UID:10002030-1772755200-1774742399@delrayartisans.org
SUMMARY:Assembly: Together We Grow at Del Ray Artisans Gallery
DESCRIPTION:Assembly: Together We Grow Art Exhibit\nMarch 6–28\, 2026\nOpening Reception: Friday\, March 6 from 7–9pm\n“Hear the Call” by Haddy Kreie\nFrom council circles of Indigenous nations to agoras of ancient Greece\, and from impromptu storm shelters to reliable weekly spiritual gatherings and intimate family dinners\, gathering has shaped how we live and how we imagine better ways of living together. It is one of the essential tools we have for building trust\, sharing knowledge\, and making meaning across generations. \nThe Assembly: Together We Grow art exhibit at Del Ray Artisans delves into the fundamental human act of gathering and how it helps us grow\, care for one another\, and cultivate belonging. This member artist showcase explores gathering not just as a moment in time\, but as a powerful mechanism through which we sustain and reimagine the world together. \nJoin us for the opening reception on Friday\, March 6 between 7-9pm to meet curator Haddy Kreie and the artists. Mark your calendar now or set a reminder through Eventbrite. Thank you to MCD Mateos McDonald’s for their generous donation for the reception. \nRegister in advance for our workshops and save the dates for our other creative programs in March: \n\nPartnered Paint Party – 3/7\, 7-9pm\nActing is Connection – 3/11\, 7-8:30pm\nRound Robin Paint Party – 3/18\, 7-9pm\nTheatrical Devising and Improv Workshop – 3/25\, 7-9:30pm\n\nThe Assembly: Together We Grow art exhibit runs from March 6–28\, 2026 at Del Ray Artisans gallery in the Colasanto Center\, 2704 Mount Vernon Avenue\, Alexandria\, Virginia 22301. Gallery hours are Thursday 12-6pm\, Friday 12-9pm\, Saturday 12-6pm\, and Sunday 12-6pm (closed March 1 and March 29). \nThe gallery is free\, open to the public\, and accessible. Del Ray Artisans\, a 501(3)(c) nonprofit organization whose mission is to promote art for the benefit of artists and the community. \nFor more information\, contact the Director of Curating\, Amy Kitchin Hower\, at curating@delrayartisans.org.
URL:https://delrayartisans.org/event/assembly/
LOCATION:Del Ray Artisans Gallery\, 2704 Mount Vernon Avenue\, Alexandria\, VA\, 22301\, United States
CATEGORIES:Art Exhibit,Del Ray Artisans Gallery
ATTACH;FMTTYPE=image/jpeg:https://delrayartisans.org/wp-content/uploads/2025/11/Hear-the-Call-by-Haddy-Kreie-square.jpg
ORGANIZER;CN="Haddy Kreie":MAILTO:hkreie@gmail.com
END:VEVENT
BEGIN:VEVENT
DTSTART;TZID=America/New_York:20260215T235900
DTEND;TZID=America/New_York:20260215T235900
DTSTAMP:20260423T003143
CREATED:20251117T173117Z
LAST-MODIFIED:20260211T201241Z
UID:10002121-1771199940-1771199940@delrayartisans.org
SUMMARY:"Assembly: Together We Grow" Call for Entry Deadline
DESCRIPTION:Call for Entry ~ Open to Del Ray Artisans Members\nAssembly: Together We Grow\nExhibit Dates: March 6–28\, 2026\nDigital entry deadline: Sunday\, February 15\, 2026 by midnight\n“Hear the Call” by Haddy Kreie\nMEMBERS: Submit works that explore the fundamental human act of gathering as a catalyst for growth and belonging\, whether expressed through ritual\, resistance\, celebration\, community\, ecology\, cultural tradition\, or something else entirely. \nThe exhibit is open only to Del Ray Artisans members. \nEntry Details & Form
URL:https://delrayartisans.org/event/assembly-cfe-deadline/
LOCATION:Online
CATEGORIES:Entry Deadline
ORGANIZER;CN="Haddy Kreie":MAILTO:hkreie@gmail.com
END:VEVENT
BEGIN:VEVENT
DTSTART;VALUE=DATE:20250705
DTEND;VALUE=DATE:20250707
DTSTAMP:20260423T003143
CREATED:20250504T152145Z
LAST-MODIFIED:20250701T132247Z
UID:10001847-1751673600-1751846399@delrayartisans.org
SUMMARY:Rummage Sale Fundraiser (8am-1pm\, Indoor Yard Sale)
DESCRIPTION:Ver información en Español\n  \nPlease share the flyer!\nSupport Del Ray Artisans and go home with new-to-you\, used treasures from our rummage sale inside the gallery on Saturday & Sunday\, July 5-6\, 8am-1pm. \nGreat deals on household items\, clothing\, office supplies\, jewelry\, toys\, books\, small appliances\, and more. All proceeds benefit Del Ray Artisans nonprofit arts organization. \nDonate Items\nDonated items are welcomed and appreciated. Items must be dropped off no later than July 4th (see dates/times below). Please do not drop off hazardous materials\, broken items\, or anything that requires two people to move (no large furniture or large electronics). \nDonation drop off dates/times are: \n\nMonday\, June 30\, 5-7pm\nWednesday\, July 2\, 12-9pm\nThursday\, July 3\, 12-9pm (Preview Sale from 6-9pm)\nFriday\, July 4\, 12-3pm\n\nVolunteer\nHelp receive and price donations for our annual rummage sale fundraiser during the drop off dates or help during the sale itself\, please contact Morgan Parr at volunteers@delrayartisans.org. English-Spanish bilingual volunteers are especially needed during the sale. \nDRA members are reminded to report their volunteer hours monthly.
URL:https://delrayartisans.org/event/rummage-sale-2025/
LOCATION:Del Ray Artisans Gallery\, 2704 Mount Vernon Avenue\, Alexandria\, VA\, 22301\, United States
CATEGORIES:Community Event,Fundraising,Volunteer
ORGANIZER;CN="Haddy Kreie":MAILTO:hkreie@gmail.com
END:VEVENT
END:VCALENDAR