BEGIN:VCALENDAR
VERSION:2.0
PRODID:-//Del Ray Artisans - ECPv6.15.20//NONSGML v1.0//EN
CALSCALE:GREGORIAN
METHOD:PUBLISH
X-ORIGINAL-URL:https://delrayartisans.org
X-WR-CALDESC:Events for Del Ray Artisans
REFRESH-INTERVAL;VALUE=DURATION:PT1H
X-Robots-Tag:noindex
X-PUBLISHED-TTL:PT1H
BEGIN:VTIMEZONE
TZID:America/New_York
BEGIN:DAYLIGHT
TZOFFSETFROM:-0500
TZOFFSETTO:-0400
TZNAME:EDT
DTSTART:20200308T070000
END:DAYLIGHT
BEGIN:STANDARD
TZOFFSETFROM:-0400
TZOFFSETTO:-0500
TZNAME:EST
DTSTART:20201101T060000
END:STANDARD
BEGIN:DAYLIGHT
TZOFFSETFROM:-0500
TZOFFSETTO:-0400
TZNAME:EDT
DTSTART:20210314T070000
END:DAYLIGHT
BEGIN:STANDARD
TZOFFSETFROM:-0400
TZOFFSETTO:-0500
TZNAME:EST
DTSTART:20211107T060000
END:STANDARD
BEGIN:DAYLIGHT
TZOFFSETFROM:-0500
TZOFFSETTO:-0400
TZNAME:EDT
DTSTART:20220313T070000
END:DAYLIGHT
BEGIN:STANDARD
TZOFFSETFROM:-0400
TZOFFSETTO:-0500
TZNAME:EST
DTSTART:20221106T060000
END:STANDARD
BEGIN:DAYLIGHT
TZOFFSETFROM:-0500
TZOFFSETTO:-0400
TZNAME:EDT
DTSTART:20230312T070000
END:DAYLIGHT
BEGIN:STANDARD
TZOFFSETFROM:-0400
TZOFFSETTO:-0500
TZNAME:EST
DTSTART:20231105T060000
END:STANDARD
BEGIN:DAYLIGHT
TZOFFSETFROM:-0500
TZOFFSETTO:-0400
TZNAME:EDT
DTSTART:20240310T070000
END:DAYLIGHT
BEGIN:STANDARD
TZOFFSETFROM:-0400
TZOFFSETTO:-0500
TZNAME:EST
DTSTART:20241103T060000
END:STANDARD
BEGIN:DAYLIGHT
TZOFFSETFROM:-0500
TZOFFSETTO:-0400
TZNAME:EDT
DTSTART:20250309T070000
END:DAYLIGHT
BEGIN:STANDARD
TZOFFSETFROM:-0400
TZOFFSETTO:-0500
TZNAME:EST
DTSTART:20251102T060000
END:STANDARD
END:VTIMEZONE
BEGIN:VEVENT
DTSTART;TZID=America/New_York:20240413T100000
DTEND;TZID=America/New_York:20240413T120000
DTSTAMP:20260423T073020
CREATED:20240220T154125Z
LAST-MODIFIED:20240307T032632Z
UID:10001361-1713002400-1713009600@delrayartisans.org
SUMMARY:Gel Printing Workshop: Same But Different Edition (Register by 4/9)
DESCRIPTION:Instructor: Eileen M. O’Brien\nDate/Time: Saturday\, April 13\, 10am-noon\nCost: $50 Del Ray Artisans member / $60 Non-member; plus a $10 Supply Fee\nClass size: 4-10 participants\n(Register by midnight on April 9) \n“Venn Diagram” (gel print) by Eileen M. O’Brien\nPacking materials and cardboard boxes get a second life in this workshop that teaches you how to make wonderful prints using household items\, stamps\, and stencils! Printmaking with a gel plate is a fun and easy way to create unique prints that can be beautiful collage papers or stand on their own. Learn how to pull prints from gel plates using different papers and paints and create several pieces in just two hours. \nPlate kits will be provided for class use only\, but take-home kits are available for purchase for $20 directly to the instructor during the workshop. All other supplies are included in the supplies fee\, but participants may feel free to bring their own papers or paints to use as well. \nRegister Now \n\nView other upcoming workshops\, information about the facility\, and policies on the Upcoming Workshops page.
URL:https://delrayartisans.org/event/gel-printing-april-2024/
LOCATION:Del Ray Artisans Gallery\, 2704 Mount Vernon Avenue\, Alexandria\, VA\, 22301\, United States
CATEGORIES:Program,Workshop
ATTACH;FMTTYPE=image/jpeg:https://delrayartisans.org/wp-content/uploads/2024/02/Venn-Diagram-by-Eileen-M-OBrien-square.jpg
ORGANIZER;CN="Eileen M. O'Brien":MAILTO:artbyeileenm@gmail.com
END:VEVENT
BEGIN:VEVENT
DTSTART;TZID=America/New_York:20230112T180000
DTEND;TZID=America/New_York:20230112T210000
DTSTAMP:20260423T073021
CREATED:20230324T193748Z
LAST-MODIFIED:20230324T211708Z
UID:10000102-1673546400-1673557200@delrayartisans.org
SUMMARY:Mono Printing Fun with Gel Plates Workshop (SOLD OUT)
DESCRIPTION:Instructor: Eileen O’Brien\nDate: Thursday\, January 12 from 6-9pm\nCost: $50 Del Ray Artisans member / $60 non-member\, plus a $15 supply fee\nClass size: 4-8 participants\n(Register by midnight on January 9) \nInterested in print-making? Using a gel plate is a fun and easy way to create one-of-a-kind prints that can be beautiful collage papers or stand on their own. Participants will learn how to pull prints with different papers and paints\, and by using found objects\, stamps\, stencils and natural elements. \nAll materials will be supplied to use during the workshop. Plate kits will be available for purchase directly from the instructor for $20 if you wish to take the tools home. Participants will create multiple pieces in just three hours! \nFace masks are recommended inside the gallery. \nRegister Now \n\nView other upcoming workshops\, information about the facility and policies on the Upcoming Workshops page.
URL:https://delrayartisans.org/event/gel-plates/
LOCATION:Del Ray Artisans Gallery\, 2704 Mount Vernon Avenue\, Alexandria\, VA\, 22301\, United States
CATEGORIES:Program,Workshop
ATTACH;FMTTYPE=image/jpeg:https://delrayartisans.org/wp-content/uploads/2023/01/OBrienEileenGelPrinting-square.jpg
ORGANIZER;CN="Eileen M. O'Brien":MAILTO:artbyeileenm@gmail.com
END:VEVENT
BEGIN:VEVENT
DTSTART;VALUE=DATE:20210402
DTEND;VALUE=DATE:20210502
DTSTAMP:20260423T073021
CREATED:20230323T195721Z
LAST-MODIFIED:20230324T165143Z
UID:10000009-1617321600-1619913599@delrayartisans.org
SUMMARY:Unfinished/Finished (4/2-5/1)
DESCRIPTION:Unfinished/Finished Art Exhibit\nApril 2 – May 1\, 2021\n“Beauty and the Background” by Michael Green (left\, starting artist) and Eileen M. O’Brien (right\, finishing artist)\nView Online: Photo Album | Video Tour \nMany artists are notorious for having oodles of unfinished pieces hidden in their workspaces. In preparation for this exhibit\, unfinished works were given to different artists to complete. The Unfinished/Finished art exhibit showcases how these partnerships yield impressive finished artworks by local artists and high school students. Come explore the notion of when and how a work of art is “finished.” Note how the “start” inspired the “finished” piece. The overall concept offered a fun and safe way for artists to collaborate\, given the isolation we have all experienced due to the pandemic. Some of the artists paired up with an artist they knew\, while others signed up to be randomly paired with another artist. All artists brought a “started” piece to a “finished” state. \nReserve a ticket for a half-hour viewing during the extended hours on opening day: Friday\, April 2 between 12-8pm. Opening day tickets are not required\, but ticket holders have priority entry. The gallery capacity is limited to 10 people at any one time in order to facilitate social distancing. \nOpening Day Tickets \nThree special events are held in conjunction with this exhibit: \nSpeed-Painting with Friends on Sunday\, March 14 between 3-6pm. In this free activity\, artists will use small canvas boards and take turns painting\, with each artist building on the prior artist’s work. No art experience necessary! The artwork created during this event will be displayed as part of Del Ray Artisans’ April exhibit\, Unfinished/Finished\, with proceeds supporting our non-profit arts organization. Due to pandemic restrictions\, registration is required. The event is currently full; check the registration page for last-minute openings. \nSketchy: How to Not Finish a Drawing Workshop on Saturday\, April 17 from 10am-Noon. Instructor Margaret Wohler will lead participants through a series of short\, fast\, drawing techniques that will enhance observational skills and focus on natural subjects. Participants will explore blind contour\, gesture\, and drawing-by-feel techniques along with meditative mindful drawing. The workshop is $25 for Del Ray Artisans members and $35 for non-members; plus drawing kits will be available for purchase for $25. This workshop will be held outside the gallery\, weather permitting. Register at sketchy-workshop.eventbrite.com \nMusic As Muse: Inspired Painting Workshop on Saturday\, April 24 from 2-4pm. Join us for a day of painting inspired by music led by Nancy Ramsey! We will create loose abstract acrylics\, painting along to music. We’ll create gestural movements in time to the music and create a record of them in paint. Working with three small canvases simultaneously\, we’ll do a rotation by removing one of the paintings and continuing to work on the remaining ones. Then we’ll pick a final painting to continue to work on. At the end\, we will have a series of three paintings in a progression of completion—some left more “unfinished” than others. This workshop will be held outside the gallery\, weather permitting. Register at music-as-muse.eventbrite.com \n.\nThe Unfinished/Finished art exhibit runs April 2 – May 1\, 2021 at Del Ray Artisans gallery in the Colasanto Center\, 2704 Mount Vernon Avenue\, Alexandria\, Virginia 22301. The gallery is free\, open to the public\, and accessible. \nRegular gallery hours are Thursdays 12-6pm\, Fridays 12-6pm\, and Saturdays 12-4pm. Del Ray Artisans is ALX Promise certified and is committed to the health and safety of our visitors. Please wear a face mask and maintain 6′ of personal space. \nFor more information\, contact the curator Eileen O’Brien (artbyeileenm@gmail.com) or Director of Curating Kelly Postula (Curating@DelRayArtisans.org).
URL:https://delrayartisans.org/event/unfinished-finished/
LOCATION:Del Ray Artisans Gallery\, 2704 Mount Vernon Avenue\, Alexandria\, VA\, 22301\, United States
CATEGORIES:Art Exhibit,Del Ray Artisans Gallery
ATTACH;FMTTYPE=image/jpeg:https://delrayartisans.org/wp-content/uploads/2020/09/Art-by-Michael-Green-and-Eileen-OBrien.jpg
ORGANIZER;CN="Eileen M. O'Brien":MAILTO:artbyeileenm@gmail.com
END:VEVENT
END:VCALENDAR