BEGIN:VCALENDAR
VERSION:2.0
PRODID:-//Del Ray Artisans - ECPv6.15.20//NONSGML v1.0//EN
CALSCALE:GREGORIAN
METHOD:PUBLISH
X-WR-CALNAME:Del Ray Artisans
X-ORIGINAL-URL:https://delrayartisans.org
X-WR-CALDESC:Events for Del Ray Artisans
REFRESH-INTERVAL;VALUE=DURATION:PT1H
X-Robots-Tag:noindex
X-PUBLISHED-TTL:PT1H
BEGIN:VTIMEZONE
TZID:America/New_York
BEGIN:DAYLIGHT
TZOFFSETFROM:-0500
TZOFFSETTO:-0400
TZNAME:EDT
DTSTART:20230312T070000
END:DAYLIGHT
BEGIN:STANDARD
TZOFFSETFROM:-0400
TZOFFSETTO:-0500
TZNAME:EST
DTSTART:20231105T060000
END:STANDARD
BEGIN:DAYLIGHT
TZOFFSETFROM:-0500
TZOFFSETTO:-0400
TZNAME:EDT
DTSTART:20240310T070000
END:DAYLIGHT
BEGIN:STANDARD
TZOFFSETFROM:-0400
TZOFFSETTO:-0500
TZNAME:EST
DTSTART:20241103T060000
END:STANDARD
BEGIN:DAYLIGHT
TZOFFSETFROM:-0500
TZOFFSETTO:-0400
TZNAME:EDT
DTSTART:20250309T070000
END:DAYLIGHT
BEGIN:STANDARD
TZOFFSETFROM:-0400
TZOFFSETTO:-0500
TZNAME:EST
DTSTART:20251102T060000
END:STANDARD
END:VTIMEZONE
BEGIN:VEVENT
DTSTART;TZID=America/New_York:20240202T190000
DTEND;TZID=America/New_York:20240202T210000
DTSTAMP:20260423T042306
CREATED:20231127T211322Z
LAST-MODIFIED:20240130T154749Z
UID:10001297-1706900400-1706907600@delrayartisans.org
SUMMARY:"Visible Touch: A Look at Texture" Art Exhibit Opening Reception
DESCRIPTION:Visible Touch: A Look at Texture Art Exhibit\nFebruary 2–24\, 2024\nOpening Reception: Friday\, February 2 from 7–9pm\nCome see the Visible Touch: A Look at Texture exhibit featuring works by local artists that explore texture through physical form and visual illusion. Join us for the opening reception on Friday\, February 2 between 7-9pm at Del Ray Artisans gallery to meet the curators and the artists and hear live guitar music by Bob Graboyes. Mark your calendar now or set a reminder through Eventbrite. \nTexture is one of the fundamental elements of art. In anticipation of how texture can prompt a desire to touch\, visitors are allowed to touch some of the art. (Pieces that allow touching are marked.) Artists have also shared statements on how they created the various textures. Enjoy the visual and the tactile experience of this exhibit! \nIn the mood to create? Drop-in to the free\, fun\, “I Likey” Card Making Party on Saturday\, February 3 between 4-8pm to make cards to benefit our nonprofit art organization. Donations appreciated for any cards you make that you are taking home. Come solo\, with friends or your Valentine. The event is open to all ages and skill levels. \nInterested in more hands-on activities? Register in advance for these creative workshops: \n\nNew Year\, New Flow: A Creative Reset Workshop on Thursday\, February 8\, 6-8pm\nPlaying with Resin Workshop on Monday\, February 12\, 6-9pm\nFlowers Everywhere Workshop on Saturday\, February 17\, 6-7:30pm\nCeramic Turtle Workshop on Saturday\, February 24\, 5-8pm\n\n“Floral Bust” by Lesley Hall\nDel Ray Artisans also offers many drop-in drawing programs (Life Drawing\, Del Ray Urban Sketchers\, and Nature Journaling Club). You may also RSVP to our Partners in Art artist support group or Creative Book Club. Details on all Del Ray Artisans programs can be found at DelRayArtisans.org/programs. \nThe Visible Touch: A Look at Texture exhibit runs February 2–24\, 2024 at Del Ray Artisans gallery in the Colasanto Center\, 2704 Mount Vernon Avenue\, Alexandria\, Virginia 22301. Gallery hours are Thursday 12-6pm\, Friday 12-9pm\, Saturday 12-6pm\, and Sunday 12-6pm (closed on February 25\, 2024). \nThe gallery is free\, open to the public\, and accessible. Del Ray Artisans\, a 501(3)(c) nonprofit organization whose mission is to promote art for the benefit of artists and the community. \nFor more information\, contact curators Dawn Wyse Hurto at dawnhurto@gmail.com and Lesley Hall at lesley.ruthless@gmail.com or Director of Curating Amy Kitchin Hower at curating@delrayartisans.org.
URL:https://delrayartisans.org/event/visible-touch-reception/
LOCATION:Del Ray Artisans Gallery\, 2704 Mount Vernon Avenue\, Alexandria\, VA\, 22301\, United States
ATTACH;FMTTYPE=image/jpeg:https://delrayartisans.org/wp-content/uploads/2024/01/Floral-Bust-by-Lesley-Hall-square.jpg
ORGANIZER;CN="Dawn Wyse Hurto":MAILTO:dawnhurto@gmail.com
END:VEVENT
BEGIN:VEVENT
DTSTART;VALUE=DATE:20240202
DTEND;VALUE=DATE:20240225
DTSTAMP:20260423T042306
CREATED:20230923T185648Z
LAST-MODIFIED:20240201T152958Z
UID:10001131-1706832000-1708819199@delrayartisans.org
SUMMARY:Visible Touch: A Look at Texture at Del Ray Artisans Gallery
DESCRIPTION:Visible Touch: A Look at Texture Art Exhibit\nFebruary 2–24\, 2024\nOpening Reception: Friday\, February 2 from 7–9pm\nVideo Tour \nCome see the Visible Touch: A Look at Texture exhibit featuring works by local artists that explore texture through physical form and visual illusion. Join us for the opening reception on Friday\, February 2 between 7-9pm at Del Ray Artisans gallery to meet the curators and the artists and hear live guitar music by Bob Graboyes. Mark your calendar now or set a reminder through Eventbrite. \nTexture is one of the fundamental elements of art. In anticipation of how texture can prompt a desire to touch\, visitors are allowed to touch some of the art. (Pieces that allow touching are marked.) Artists have also shared statements on how they created the various textures. Enjoy the visual and the tactile experience of this exhibit! \nIn the mood to create? Drop-in to the free\, fun\, “I Likey” Card Making Party on Saturday\, February 3 between 4-8pm to make cards to benefit our nonprofit art organization. Donations appreciated for any cards you make that you are taking home. Come solo\, with friends or your Valentine. The event is open to all ages and skill levels. \nInterested in more hands-on activities? Register in advance for these creative workshops: \n\nNew Year\, New Flow: A Creative Reset Workshop on Thursday\, February 8\, 6-8pm\nPlaying with Resin Workshop on Monday\, February 12\, 6-9pm\nFlowers Everywhere Workshop on Saturday\, February 17\, 6-7:30pm\nCeramic Turtle Workshop on Saturday\, February 24\, 5-8pm\n\n“Floral Bust” by Lesley Hall\nDel Ray Artisans also offers many drop-in drawing programs (Life Drawing\, Del Ray Urban Sketchers\, and Nature Journaling Club). You may also RSVP to our Partners in Art artist support group or Creative Book Club. Details on all Del Ray Artisans programs can be found at DelRayArtisans.org/programs. \nThe Visible Touch: A Look at Texture exhibit runs February 2–24\, 2024 at Del Ray Artisans gallery in the Colasanto Center\, 2704 Mount Vernon Avenue\, Alexandria\, Virginia 22301. Gallery hours are Thursday 12-6pm\, Friday 12-9pm\, Saturday 12-6pm\, and Sunday 12-6pm (closed on February 25\, 2024). \nThe gallery is free\, open to the public\, and accessible. Del Ray Artisans\, a 501(3)(c) nonprofit organization whose mission is to promote art for the benefit of artists and the community. \nFor more information\, contact curators Dawn Wyse Hurto at dawnhurto@gmail.com and Lesley Hall at lesley.ruthless@gmail.com or Director of Curating Amy Kitchin Hower at curating@delrayartisans.org.
URL:https://delrayartisans.org/event/visible-touch/
LOCATION:Del Ray Artisans Gallery\, 2704 Mount Vernon Avenue\, Alexandria\, VA\, 22301\, United States
CATEGORIES:Art Exhibit,Del Ray Artisans Gallery
ATTACH;FMTTYPE=image/jpeg:https://delrayartisans.org/wp-content/uploads/2024/01/Floral-Bust-by-Lesley-Hall-square.jpg
ORGANIZER;CN="Dawn Wyse Hurto":MAILTO:dawnhurto@gmail.com
END:VEVENT
BEGIN:VEVENT
DTSTART;TZID=America/New_York:20240110T235900
DTEND;TZID=America/New_York:20240110T235900
DTSTAMP:20260423T042306
CREATED:20230923T182334Z
LAST-MODIFIED:20231107T154319Z
UID:10001125-1704931140-1704931140@delrayartisans.org
SUMMARY:“Visible Touch: A Look at Texture” Call for Entry Deadline
DESCRIPTION:Call for Entry ~ Open to area artists\nVisible Touch: A Look at Texture\nExhibit Dates: February 2–24\, 2024\nDigital entry deadline: Wednesday\, January 10\, 2024 by midnight\nArtists are invited to enter 2D or 3D works that explore visual or physical texture. All subject matters\, including abstract works\, are welcome. Texture is one of the fundamental elements of art and refers to the perceived surface quality of the artwork. \nAll media are welcome. The exhibit is open to all area artists. Del Ray Artisans members pay a discounted entry fee. \nEntry Details & Form \n\nArtwork credit: “Touch the Rainbow” by Lesley Hall
URL:https://delrayartisans.org/event/visible-touch-deadline/
CATEGORIES:Entry Deadline
ATTACH;FMTTYPE=image/jpeg:https://delrayartisans.org/wp-content/uploads/2023/10/Touch-the-Rainbow-by-Lesley-Hall.jpg
ORGANIZER;CN="Dawn Wyse Hurto":MAILTO:dawnhurto@gmail.com
END:VEVENT
END:VCALENDAR