BEGIN:VCALENDAR
VERSION:2.0
PRODID:-//Del Ray Artisans - ECPv6.15.20//NONSGML v1.0//EN
CALSCALE:GREGORIAN
METHOD:PUBLISH
X-ORIGINAL-URL:https://delrayartisans.org
X-WR-CALDESC:Events for Del Ray Artisans
REFRESH-INTERVAL;VALUE=DURATION:PT1H
X-Robots-Tag:noindex
X-PUBLISHED-TTL:PT1H
BEGIN:VTIMEZONE
TZID:America/New_York
BEGIN:DAYLIGHT
TZOFFSETFROM:-0500
TZOFFSETTO:-0400
TZNAME:EDT
DTSTART:20200308T070000
END:DAYLIGHT
BEGIN:STANDARD
TZOFFSETFROM:-0400
TZOFFSETTO:-0500
TZNAME:EST
DTSTART:20201101T060000
END:STANDARD
BEGIN:DAYLIGHT
TZOFFSETFROM:-0500
TZOFFSETTO:-0400
TZNAME:EDT
DTSTART:20210314T070000
END:DAYLIGHT
BEGIN:STANDARD
TZOFFSETFROM:-0400
TZOFFSETTO:-0500
TZNAME:EST
DTSTART:20211107T060000
END:STANDARD
BEGIN:DAYLIGHT
TZOFFSETFROM:-0500
TZOFFSETTO:-0400
TZNAME:EDT
DTSTART:20220313T070000
END:DAYLIGHT
BEGIN:STANDARD
TZOFFSETFROM:-0400
TZOFFSETTO:-0500
TZNAME:EST
DTSTART:20221106T060000
END:STANDARD
BEGIN:DAYLIGHT
TZOFFSETFROM:-0500
TZOFFSETTO:-0400
TZNAME:EDT
DTSTART:20230312T070000
END:DAYLIGHT
BEGIN:STANDARD
TZOFFSETFROM:-0400
TZOFFSETTO:-0500
TZNAME:EST
DTSTART:20231105T060000
END:STANDARD
BEGIN:DAYLIGHT
TZOFFSETFROM:-0500
TZOFFSETTO:-0400
TZNAME:EDT
DTSTART:20240310T070000
END:DAYLIGHT
BEGIN:STANDARD
TZOFFSETFROM:-0400
TZOFFSETTO:-0500
TZNAME:EST
DTSTART:20241103T060000
END:STANDARD
END:VTIMEZONE
BEGIN:VEVENT
DTSTART;VALUE=DATE:20231010
DTEND;VALUE=DATE:20231011
DTSTAMP:20260423T102924
CREATED:20230803T174150Z
LAST-MODIFIED:20231004T235622Z
UID:10001108-1696896000-1696982399@delrayartisans.org
SUMMARY:2024 Wall Calendar Pre-order Deadline
DESCRIPTION:Order Now for a Discount!\nDel Ray Artisans’ 2024 Wall Calendar featuring artwork by Del Ray Artisans members is available for pre-order now at just $17/calendar. (Regular price $20/calendar.) \nThe pre-order discount price is only available until October 10. Pre-ordering the calendar helps our organization estimate how many calendars to order. If you pre-order\, you will be notified when the calendars arrive\, so you can come pick up your purchase. Calendars will arrive between Oct 20 – Nov 15\, 2023. \nOrder Now  \nThank you to our 2024 calendar sponsors: Homes of Alexandria Team of Compass (Daniela Spigai and Ellen Patrick)\, Artifacts Inc.\, Let’s Meat on the Avenue\, McD Mateos Community Partners\, and The Zebra Press!
URL:https://delrayartisans.org/event/2024-calendar-preorder-deadline/
LOCATION:Online
CATEGORIES:Fundraising
ATTACH;FMTTYPE=image/jpeg:https://delrayartisans.org/wp-content/uploads/2023/08/calendar-2024-cover-mockup.jpg
ORGANIZER;CN="Dawn Wyse Hurto%2C Technology Director":MAILTO:technology@delrayartisans.org
END:VEVENT
BEGIN:VEVENT
DTSTART;TZID=America/New_York:20230903T235000
DTEND;TZID=America/New_York:20230903T235900
DTSTAMP:20260423T102924
CREATED:20230803T173704Z
LAST-MODIFIED:20230803T173704Z
UID:10001107-1693785000-1693785540@delrayartisans.org
SUMMARY:2024 Wall Calendar Call for Entry Deadline
DESCRIPTION:Call for Entry (Open to Members Only)\nDel Ray Artisans’ 2024 Wall Calendar\nDigital entries due Sunday\, September 3\, 2023\nMembers: Submit your best work to the 11th annual Del Ray Artisans’ wall calendar! All entries are to be received digitally\, and no physical pieces of art will be collected. There is no entry fee\, no theme\, and work previously shown at Del Ray Artisans is acceptable. Your Del Ray Artisans membership must be up-to-date. \nThe Calendar Selection Committee will choose approximately 50-60 pieces of art from Del Ray Artisans members to be included in the 2024 Wall Calendar. This calendar is a fundraiser to benefit Del Ray Artisans\, but also a fun way to show your support for our arts organization and share your talent with the community. \nEntry Details & Form
URL:https://delrayartisans.org/event/2024-calendar-entry-deadline/
LOCATION:Online
CATEGORIES:Entry Deadline
ATTACH;FMTTYPE=image/jpeg:https://delrayartisans.org/wp-content/uploads/2022/07/calendar-2024-preorder-mockup.jpg
ORGANIZER;CN="Dawn Wyse Hurto%2C Technology Director":MAILTO:technology@delrayartisans.org
END:VEVENT
BEGIN:VEVENT
DTSTART;VALUE=DATE:20221010
DTEND;VALUE=DATE:20221011
DTSTAMP:20260423T102925
CREATED:20230323T195938Z
LAST-MODIFIED:20230324T144145Z
UID:10000055-1665360000-1665446399@delrayartisans.org
SUMMARY:2023 Wall Calendar Pre-order Deadline
DESCRIPTION:Order Now for a Discount!\nDel Ray Artisans’ 2023 Wall Calendar featuring artwork by Del Ray Artisans members is available for pre-order now at just $17/calendar. (Regular price $20/calendar.) \nThe pre-order discount price is only available until October 10. Pre-ordering the calendar helps our organization estimate how many calendars to order. If you pre-order\, you will be notified when the calendars arrive\, so you can come pick up your purchase. Calendars will arrive between Oct 20 – Nov 15\, 2022. \nThank you to calendar sponsors Homes of Alexandria Team of Compass (Ellen\, Bobi and Daniela)\, Community Partner McD Mateos McDonald’s\, Cosmopolitan Boat Club\, and Zebra Press! \nThe pre-order period is now over.
URL:https://delrayartisans.org/event/2023-calendar-pre-order-deadline/
LOCATION:Online
ATTACH;FMTTYPE=image/jpeg:https://delrayartisans.org/wp-content/uploads/2022/11/calendar-2023-mockup.jpg
ORGANIZER;CN="Dawn Wyse Hurto%2C Technology Director":MAILTO:technology@delrayartisans.org
END:VEVENT
BEGIN:VEVENT
DTSTART;TZID=America/New_York:20221002T120000
DTEND;TZID=America/New_York:20221002T150000
DTSTAMP:20260423T102925
CREATED:20230329T210602Z
LAST-MODIFIED:20230329T210602Z
UID:10000461-1664712000-1664722800@delrayartisans.org
SUMMARY:“The Big 3-0” Artwork & Alcove Gift Shop Pick Up by Appointment
DESCRIPTION:Time for artists to pick up their unsold artwork from the closing shows (The Big 3-0 and Alcove Gift Shop) by appointment. \nQuestions? Contact The Big 3-0 curators Dawn Wyse Hurto (technology@delrayartisans.org) and Dale Spivey (president@delrayartisans.org) or Alcove Gift Shop curator Stephen Lally (slallypottery@gmail.com). \nArtwork Credit: Detail of “The Big 3-0” by Dawn Wyse Hurto (Mixed media collage of members artwork)
URL:https://delrayartisans.org/event/the-big-3-0-artwork-alcove-gift-shop-pick-up-by-appointment/
LOCATION:Del Ray Artisans Gallery\, 2704 Mount Vernon Avenue\, Alexandria\, VA\, 22301\, United States
CATEGORIES:Administrative
ATTACH;FMTTYPE=image/jpeg:https://delrayartisans.org/wp-content/uploads/2022/06/The-Big-3-0-by-Dawn-Wyse-Hurto-square.jpg
ORGANIZER;CN="Dawn Wyse Hurto%2C Technology Director":MAILTO:technology@delrayartisans.org
END:VEVENT
BEGIN:VEVENT
DTSTART;VALUE=DATE:20220922
DTEND;VALUE=DATE:20220923
DTSTAMP:20260423T102925
CREATED:20230323T195949Z
LAST-MODIFIED:20230324T145237Z
UID:10000057-1663804800-1663891199@delrayartisans.org
SUMMARY:30th Anniversary T-shirt Pre-order Deadline
DESCRIPTION:Order Now for a Discount!\nDel Ray Artisans’ 30th Anniversary T-shirt features “Zoom” portraits by members. Order now to reserve your shirt at the special pre-order price – just $26/shirt! Regular price is $28/shirt. You will be notified when the t-shirts arrive\, so you can come pick up your purchase. T-shirts are expected to arrive before the end of September 2022. The pre-order discount will end as soon as the t-shirts arrive. \nThe base t-shirt is a Comfort Colors Heavyweight T-shirt (100% US ring spun cotton) in graphite (dark gray). The design (printed with black & white ink) may vary slightly from what is shown above. All proceeds support Del Ray Artisans. \nThank you for supporting Del Ray Artisans! \nThe pre-order period has ended.
URL:https://delrayartisans.org/event/30th-tshirt-preorder/
LOCATION:Online
ATTACH;FMTTYPE=image/jpeg:https://delrayartisans.org/wp-content/uploads/2022/09/30th-tshirt-design-sq.jpg
ORGANIZER;CN="Dawn Wyse Hurto%2C Technology Director":MAILTO:technology@delrayartisans.org
END:VEVENT
BEGIN:VEVENT
DTSTART;TZID=America/New_York:20220903T150000
DTEND;TZID=America/New_York:20220903T180000
DTSTAMP:20260423T102925
CREATED:20230329T210450Z
LAST-MODIFIED:20230406T133954Z
UID:10000439-1662217200-1662228000@delrayartisans.org
SUMMARY:30th Anniversary Party & "The Big 3-0" Exhibit Reception
DESCRIPTION:Del Ray Artisans\, founded in 1992\, celebrates its 30th Anniversary this year with a members art exhibit\, anniversary party & reception\, and programs that rhyme with THIRTY. The Big 3-0 members showcase features stunning artwork in a variety of media and themes. Member artists share their favorite works\, as well as memories of Del Ray Artisans nonprofit in this exhibit. \nJoin us for The Big 3-0 exhibit reception and 30th Anniversary Party on Saturday\, September 3 from 3-6pm. The party will be inside and outside (rain date is September 10). Curators Dawn Wyse Hurto and Dale Spivey will announce artist awards\, special volunteers will be recognized\, and a good time is planned for all. Thank you to local restaurants Alexandria Cupcake\, Del Ray Pizzeria\, Los Tios Grill\, McD Mateos McDonald’s\, and Tsim Yung for sponsoring the event and to Bill Cabrera for the live music. Mark your calendar or set a reminder through Eventbrite. \nAlso save the date for these programs that rhyme with THIRTY: \n\nWHIRLY TWIRLY: “Show Your Spirit” First Thursday on Sept 1 starting at 6pm\nPURTY: Life Drawing Session (Gestures & Short Poses) on Tuesday\, Sept 6 from 7-9pm (drop in with your art supplies; no oils or acrylics)\nFUR-DY: Pet Portrait in Glass workshop on Saturday\, Sept 10 from 9:30am-12pm and pick up on Wednesday\, Sept 14 from 7-8pm (register by Sept 6)\nEARTHY: Garden volunteers pulling weeds and sharing laughter on Saturday\, Sept 17 from 9-11:30am (help keep the gallery grounds looking great!)\nWORDY: Creative Book Club discusses “Amazing Grace: The Life of Beauford Delaney” by Davy Leeming on Saturday\, Sept 17 from 10am-12pm\nJOURNEY: Del Ray Urban Sketchers meets Sunday\, Sept 18 from 1-3pm at St Elmo’s Coffee Pub (drop in with your sketchbook & supplies)\nQWERTY: Playing with Resin workshop (upcycle old keyboard keys into art while learning the ins and outs of resin!) on Sunday\, Sept 18 from 6-9pm (register by Sept 14)\nSHOW-ME: Partners in Art Evening on Tuesday\, Sept 20 from 7-9pm (Bring 1-2 artworks for feedback; RSVP to the coordinator before the day of the meeting)\nHURDY GURDY: Build your own medieval musical instrument on Saturday\, Sept 24 from 5:30-8:30pm and Sunday\, Sept 25 from 10am-1pm (register by Sept 10)\nNERDY: Tessellation workshop on Wednesday\, Sept 28 from 12-3pm (learn how to make mathematically inspired art like M.C. Escher)\n\nPLUS\, join us for our first outdoor HalloWEIRD Art Market on Saturday\, September 24 from 10am-4pm in the park adjoining the gallery\, as well as for the annual community festival Art on the Avenue on Saturday\, October 1 from 10am-6pm all along Mount Vernon Avenue. \nFor more information on all these events\, visit DelRayArtisans.org/calendar \nYear-round Del Ray Artisans carries one-of-a-kind handcrafted greeting cards created by local artists to benefit our nonprofit. During this exhibit\, you’ll find EVEN MORE CARDS extending beyond the merchandise area into the gallery space and sorted by a word that rhymes with THIRTY\, such as flirty\, earthy\, wordy\, purty\, and more. Card making has been an ongoing part of Del Ray Artisans’ history. Even prior to having our own physical gallery\, cards were made for sale by individual members for fundraising purposes. This tradition has continued for thirty years! \nMore recently\, in 2020\, the Creative Card Swap was started to keep artists connected to each other during the pandemic. The activity was so popular it became an ongoing\, recurring Del Ray Artisans program. In conjunction with The Big 3-0 exhibit\, we’ll launch an online exhibit of special cards traded in the Creative Card Swap. View this collection to witness the great breadth\, creativity\, and joy of handcrafted cards. \nThe Big 3-0 members showcase runs September 2 – October 1\, 2022 at Del Ray Artisans gallery in the Colasanto Center\, 2704 Mount Vernon Avenue\, Alexandria\, Virginia 22301. Gallery hours are Thursday 12-6pm\, Friday 12-9pm\, Saturday 12-6pm\, and Sunday 12-6pm (closed on Sunday\, October 2\, 2022). \nFace masks are recommended inside the gallery. The gallery is free\, open to the public\, and accessible. Del Ray Artisans\, a 501(3)(c) nonprofit organization whose mission is to promote art for the benefit of artists and the community. \nFor more information\, contact the curators Dawn Wyse Hurto (Technology@DelRayArtisans.org) and Dale Spivey (President@DelRayArtisans.org). \n\nArtwork Credit: Detail of “The Big 3-0” by Dawn Wyse Hurto (Mixed media collage of members artwork)
URL:https://delrayartisans.org/event/30th-anniversary-party/
LOCATION:Del Ray Artisans Gallery\, 2704 Mount Vernon Avenue\, Alexandria\, VA\, 22301\, United States
CATEGORIES:Program
ATTACH;FMTTYPE=image/jpeg:https://delrayartisans.org/wp-content/uploads/2022/06/The-Big-3-0-by-Dawn-Wyse-Hurto-square.jpg
ORGANIZER;CN="Dawn Wyse Hurto%2C Technology Director":MAILTO:technology@delrayartisans.org
END:VEVENT
BEGIN:VEVENT
DTSTART;VALUE=DATE:20220902
DTEND;VALUE=DATE:20221002
DTSTAMP:20260423T102925
CREATED:20230323T195849Z
LAST-MODIFIED:20230406T133759Z
UID:10000037-1662076800-1664668799@delrayartisans.org
SUMMARY:The Big 3-0: 30th Anniversary (9/2-10/1)
DESCRIPTION:The Big 3-0: 30th Anniversary Art Exhibit\nSeptember 2 – October 1\, 2022\nReception: Saturday\, September 3 from 3-6pm\nView Photo Album \nDel Ray Artisans\, founded in 1992\, celebrates its 30th Anniversary this year with a members art exhibit\, anniversary party & reception\, and programs that rhyme with THIRTY. The Big 3-0 members showcase features stunning artwork in a variety of media and themes. Member artists share their favorite works\, as well as memories of Del Ray Artisans nonprofit in this exhibit. \nJoin us for The Big 3-0 exhibit reception and 30th Anniversary Party on Saturday\, September 3 from 3-6pm. The party will be inside and outside (rain date is September 10). Curators Dawn Wyse Hurto and Dale Spivey will announce artist awards\, special volunteers will be recognized\, and a good time is planned for all. Thank you to local restaurants Alexandria Cupcake\, Del Ray Pizzeria\, Los Tios Grill\, McD Mateos McDonald’s\, and Tsim Yung for sponsoring the event and to Bill Cabrera for the live music. Mark your calendar or set a reminder through Eventbrite. \nAlso save the date for these programs that rhyme with THIRTY: \n\nWHIRLY TWIRLY: “Show Your Spirit” First Thursday on Sept 1 starting at 6pm\nPURTY: Life Drawing Session (Gestures & Short Poses) on Tuesday\, Sept 6 from 7-9pm (drop in with your art supplies; no oils or acrylics)\nFUR-DY: Pet Portrait in Glass workshop on Saturday\, Sept 10 from 9:30am-12pm and pick up on Wednesday\, Sept 14 from 7-8pm (register by Sept 6)\nEARTHY: Garden volunteers pulling weeds and sharing laughter on Saturday\, Sept 17 from 9-11:30am (help keep the gallery grounds looking great!)\nWORDY: Creative Book Club discusses “Amazing Grace: The Life of Beauford Delaney” by Davy Leeming on Saturday\, Sept 17 from 10am-12pm\nJOURNEY: Del Ray Urban Sketchers meets Sunday\, Sept 18 from 1-3pm at St Elmo’s Coffee Pub (drop in with your sketchbook & supplies)\nQWERTY: Playing with Resin workshop (upcycle old keyboard keys into art while learning the ins and outs of resin!) on Sunday\, Sept 18 from 6-9pm (register by Sept 14)\nSHOW-ME: Partners in Art Evening on Tuesday\, Sept 20 from 7-9pm (Bring 1-2 artworks for feedback; RSVP to the coordinator before the day of the meeting)\nHURDY GURDY: Build your own medieval musical instrument on Saturday\, Sept 24 from 5:30-8:30pm and Sunday\, Sept 25 from 10am-1pm (register by Sept 10)\nNERDY: Tessellation workshop on Wednesday\, Sept 28 from 12-3pm (learn how to make mathematically inspired art like M.C. Escher)\n\nPLUS\, join us for our first outdoor HalloWEIRD Art Market on Saturday\, September 24 from 10am-4pm in the park adjoining the gallery\, as well as for the annual community festival Art on the Avenue on Saturday\, October 1 from 10am-6pm all along Mount Vernon Avenue. \nFor more information on all these events\, visit DelRayArtisans.org/calendar \nYear-round Del Ray Artisans carries one-of-a-kind handcrafted greeting cards created by local artists to benefit our nonprofit. During this exhibit\, you’ll find EVEN MORE CARDS extending beyond the merchandise area into the gallery space and sorted by a word that rhymes with THIRTY\, such as flirty\, earthy\, wordy\, purty\, and more. Card making has been an ongoing part of Del Ray Artisans’ history. Even prior to having our own physical gallery\, cards were made for sale by individual members for fundraising purposes. This tradition has continued for thirty years! \nMore recently\, in 2020\, the Creative Card Swap was started to keep artists connected to each other during the pandemic. The activity was so popular it became an ongoing\, recurring Del Ray Artisans program. In conjunction with The Big 3-0 exhibit\, we’ll launch an online exhibit of special cards traded in the Creative Card Swap. View this collection to witness the great breadth\, creativity\, and joy of handcrafted cards. \nThe Big 3-0 members showcase runs September 2 – October 1\, 2022 at Del Ray Artisans gallery in the Colasanto Center\, 2704 Mount Vernon Avenue\, Alexandria\, Virginia 22301. Gallery hours are Thursday 12-6pm\, Friday 12-9pm\, Saturday 12-6pm\, and Sunday 12-6pm (closed on Sunday\, October 2\, 2022). \nFace masks are recommended inside the gallery. The gallery is free\, open to the public\, and accessible. Del Ray Artisans\, a 501(3)(c) nonprofit organization whose mission is to promote art for the benefit of artists and the community. \nFor more information\, contact the curators Dawn Wyse Hurto (Technology@DelRayArtisans.org) and Dale Spivey (President@DelRayArtisans.org). \n\nArtwork Credit: Detail of “The Big 3-0” by Dawn Wyse Hurto (Mixed media collage of members artwork)
URL:https://delrayartisans.org/event/the-big-3-0/
LOCATION:Del Ray Artisans Gallery\, 2704 Mount Vernon Avenue\, Alexandria\, VA\, 22301\, United States
CATEGORIES:Art Exhibit,Del Ray Artisans Gallery
ATTACH;FMTTYPE=image/jpeg:https://delrayartisans.org/wp-content/uploads/2022/06/The-Big-3-0-by-Dawn-Wyse-Hurto-square.jpg
ORGANIZER;CN="Dawn Wyse Hurto%2C Technology Director":MAILTO:technology@delrayartisans.org
END:VEVENT
BEGIN:VEVENT
DTSTART;VALUE=DATE:20220902
DTEND;VALUE=DATE:20220903
DTSTAMP:20260423T102925
CREATED:20230323T195948Z
LAST-MODIFIED:20230324T150058Z
UID:10000056-1662076800-1662163199@delrayartisans.org
SUMMARY:Creative Card Swap Online Exhibit (opens 9/2/22)
DESCRIPTION:Discover the great breadth\, creativity\, and joy of handcrafted cards in this online collection. Creative Card Swap Online Exhibit opens Friday\, September 2\, 2022. We hope it inspires you to sign up to participate in our Creative Card Swap. \n \nIn 2020 the “We’re all in this Together” Card Swap was started to keep artists connected to each other during the pandemic. The activity was so popular it became an ongoing\, recurring Del Ray Artisans program now called Creative Card Swap. Two years after we began to swap and with over seventy-five artists around the country having participated\, the 40th swap group is now forming. \nArtists sign up for a one-time exchange (or “swap”) of handmade cards within a group of four participants. There is no cost to participate—except for the 3 postage stamps you’ll need to send your cards to the artists in your group.  In exchange you’ll receive three delightfully different handcrafted cards from different artists. Sign Up to swap at DelRayArtisans.org/card-swap \nView Online Exhibit | Sign Up to Swap
URL:https://delrayartisans.org/event/card-swap-online-exhibit/
LOCATION:Online
CATEGORIES:Art Exhibit
ATTACH;FMTTYPE=image/jpeg:https://delrayartisans.org/wp-content/uploads/2022/09/card-swap-online-exhibit.jpg
ORGANIZER;CN="Dawn Wyse Hurto%2C Technology Director":MAILTO:technology@delrayartisans.org
END:VEVENT
BEGIN:VEVENT
DTSTART;TZID=America/New_York:20220828T120000
DTEND;TZID=America/New_York:20220828T180000
DTSTAMP:20260423T102925
CREATED:20230329T210448Z
LAST-MODIFIED:20230329T210448Z
UID:10000437-1661688000-1661709600@delrayartisans.org
SUMMARY:“The Big 3-0” Artwork Drop Off by Appointment
DESCRIPTION:Time for artists to drop off their accepted artwork for the upcoming exhibit\, The Big 3-0. Artwork drop off is Sunday\, August 28 from 12-6pm by appointment only. \nArtwork must be ready to hang (with screw eyes and wire) or ready for display (with mounting and/or a display stand if necessary). Review the standard artwork presentation guidelines and the Call for Entry for show specific information. \nQuestions? Contact the curators: Dawn Wyse Hurto (technology@delrayartisans.org) and Dale Spivey (president@delrayartisans.org) \nArtwork Credit: Detail of “The Big 3-0” by Dawn Wyse Hurto (Mixed media collage of members artwork)
URL:https://delrayartisans.org/event/the-big-3-0-artwork-drop-off-by-appointment/
LOCATION:Del Ray Artisans Gallery\, 2704 Mount Vernon Avenue\, Alexandria\, VA\, 22301\, United States
CATEGORIES:Administrative
ATTACH;FMTTYPE=image/jpeg:https://delrayartisans.org/wp-content/uploads/2022/06/The-Big-3-0-by-Dawn-Wyse-Hurto-square.jpg
ORGANIZER;CN="Dawn Wyse Hurto%2C Technology Director":MAILTO:technology@delrayartisans.org
END:VEVENT
BEGIN:VEVENT
DTSTART;TZID=America/New_York:20220821T235000
DTEND;TZID=America/New_York:20220821T235900
DTSTAMP:20260423T102925
CREATED:20230329T210433Z
LAST-MODIFIED:20230329T210433Z
UID:10000432-1661125800-1661126340@delrayartisans.org
SUMMARY:2023 Wall Calendar Call for Entry Deadline
DESCRIPTION:Call for Entry (Open to Members Only)Del Ray Artisans’ 2023 Wall Calendar\nDigital entries due Sunday\, August 21\, 2022\nMembers: Submit your best work to the 10th annual Del Ray Artisans’ wall calendar! All entries are to be received digitally\, and no physical pieces of art will be collected. There is no entry fee\, no theme\, and work previously shown at Del Ray Artisans is acceptable. Your Del Ray Artisans membership must be up-to-date. \nThe Calendar Selection Committee will choose approximately 50-60 pieces of art from Del Ray Artisans members to be included in the 2023 Wall Calendar. This calendar is a fundraiser to benefit Del Ray Artisans\, but also a fun way to show your support for our arts organization and share your talent with the community. \nEntry Details & Form  
URL:https://delrayartisans.org/event/2023-wall-calendar-call-for-entry-deadline/
LOCATION:Online
CATEGORIES:Entry Deadline
ATTACH;FMTTYPE=image/jpeg:https://delrayartisans.org/wp-content/uploads/2022/07/2023-calendar-coming-soon-square.jpg
ORGANIZER;CN="Dawn Wyse Hurto%2C Technology Director":MAILTO:technology@delrayartisans.org
END:VEVENT
BEGIN:VEVENT
DTSTART;TZID=America/New_York:20220813T235000
DTEND;TZID=America/New_York:20220813T235900
DTSTAMP:20260423T102925
CREATED:20230329T210419Z
LAST-MODIFIED:20230329T210419Z
UID:10000428-1660434600-1660435140@delrayartisans.org
SUMMARY:“The Big 3-0: 30th Anniversary” Call for Entry Deadline
DESCRIPTION:Call for Entry ~ Open to Del Ray Artisans members only\nThe Big 3-0: Del Ray Artisans 30th Anniversary Members ShowcaseExhibit Dates: September 2 – October 1\, 2022\nEntry deadline extended to Saturday\, August 13\, 2022 by midnight\nThis is an open theme\, members only\, art exhibit in celebration of Del Ray Artisans’ 30th Anniversary. Make new art or enter three of your past favorites. In addition\, please share a fond memory of an experience at Del Ray Artisans. Memories will be posted in the gallery during the exhibit. \nIf you are not a member\, you may join Del Ray Artisans now and then enter. \nEntry Details & Form \nArtwork Credit: Detail of “The Big 3-0” by Dawn Wyse Hurto (Mixed media collage of members artwork)
URL:https://delrayartisans.org/event/the-big-3-0-30th-anniversary-call-for-entry-deadline/
LOCATION:Online
CATEGORIES:Entry Deadline
ATTACH;FMTTYPE=image/jpeg:https://delrayartisans.org/wp-content/uploads/2022/06/The-Big-3-0-by-Dawn-Wyse-Hurto-square.jpg
ORGANIZER;CN="Dawn Wyse Hurto%2C Technology Director":MAILTO:technology@delrayartisans.org
END:VEVENT
BEGIN:VEVENT
DTSTART;TZID=America/New_York:20220807T235000
DTEND;TZID=America/New_York:20220807T235900
DTSTAMP:20260423T102925
CREATED:20230329T210405Z
LAST-MODIFIED:20230329T210405Z
UID:10000424-1659916200-1659916740@delrayartisans.org
SUMMARY:Creative Card Swap Online Exhibit Call for Entry Deadline
DESCRIPTION:Call for Entry ~ Open to Card Swap ArtistsCreative Card Swap Online Exhibit\nDigital entry deadline: Sunday\, August 7\, 2022 by midnight\nAll previous and current Card Swap artists (2020-present) are invited to participate in the Creative Card Swap online exhibit. \nThis online collection documenting the handcrafted cards from the Card Swap will open with and be a part of Del Ray Artisans 30th Anniversary Show\, The Big 3-0\, which runs from September 2 to October 1\, 2022 at Del Ray Artisans gallery. \nEntry Details & Form \nPhoto Info: Some of the artful cards exchanged in the Creative Card Swap
URL:https://delrayartisans.org/event/creative-card-swap-online-exhibit-call-for-entry-deadline/
LOCATION:Online
CATEGORIES:Entry Deadline
ATTACH;FMTTYPE=image/jpeg:https://delrayartisans.org/wp-content/uploads/2021/03/card-swap-2021.jpg
ORGANIZER;CN="Dawn Wyse Hurto%2C Technology Director":MAILTO:technology@delrayartisans.org
END:VEVENT
BEGIN:VEVENT
DTSTART;VALUE=DATE:20211010
DTEND;VALUE=DATE:20211011
DTSTAMP:20260423T102925
CREATED:20230323T195750Z
LAST-MODIFIED:20230324T163102Z
UID:10000018-1633824000-1633910399@delrayartisans.org
SUMMARY:Pre-order Del Ray Artisans 2022 Wall Calendar Deadline
DESCRIPTION:Del Ray Artisans’ 2022 Wall Calendar featuring artwork by Del Ray Artisans members is available for pre-order now for just $17/calendar. (Regular price $20/calendar.) \nThe pre-order discount price is only available until October 10. Pre-ordering the calendar helps our organization estimate how many calendars to order. If you pre-order\, you will be notified when the calendars arrive\, so you can come pick up your purchase. \nPLEASE NOTE: Calendars will NOT be shipped. You will be notified when your order is ready to be picked up\, and then come pick it up at your convenience! \nThank you to to the calendar sponsors: Homes of Alexandria Team of Compass (Ellen\, Bobi and Daniela)\, Cooley LLP\, Community Partner McD Mateos and Cosmopolitan Boat Club; thank you to all the artists for the use of their work in the calendar; and thank you to everyone who purchases a calendar! \nPre-populated events in the calendar include Del Ray Artisans events\, community events\, national holidays\, and major religious holidays. \nThe pre-order period has ended.
URL:https://delrayartisans.org/event/2022-calendar-preorder-deadline/
LOCATION:Online
CATEGORIES:Fundraising
ATTACH;FMTTYPE=image/jpeg:https://delrayartisans.org/wp-content/uploads/2020/07/cover-2022-mockup.jpg
ORGANIZER;CN="Dawn Wyse Hurto%2C Technology Director":MAILTO:technology@delrayartisans.org
END:VEVENT
BEGIN:VEVENT
DTSTART;VALUE=DATE:20210414
DTEND;VALUE=DATE:20210429
DTSTAMP:20260423T102925
CREATED:20230323T195719Z
LAST-MODIFIED:20230324T165529Z
UID:10000007-1618358400-1619654399@delrayartisans.org
SUMMARY:Spring2ACTion 2021
DESCRIPTION:Donate April 14–28 \nStarting Wednesday\, April 14 through Wednesday\, April 28\, 2021 (Giving Day) our community comes together to support the amazing work of Alexandria nonprofits through Spring2ACTion\, hosted by ACT for Alexandria. Please remember Del Ray Artisans is one of those worthy causes! \nDuring Spring2ACTion 2021\, please give your support to Del Ray Artisans’ exhibits\, programs\, youth and outreach activities which help members of our community grow as individuals and as artists. \nIf you are in a position to do so\, please donate to Del Ray Artisans nonprofit today. Other ways to support: \n\nJoin us for a Facebook Live event on Wednesday\, April 28 at 7pm to celebrate Del Ray Artisans nonprofit arts organization. Watch live at facebook.com/DelRayArtisans\nBuy artwork from local artists in the Unfinished/Finished art exhibit at the gallery or from members websites.\nDesignate Del Ray Artisans as your AmazonSmile charity of choice\, or order your BLICK art materials through this link and Del Ray Artisans will receive a donation from BLICK.\nShare our Spring2ACTion fundraising page with your network. Crowdsourcing adds up\, and we absolutely appreciate every single donation.\n\nPlease consider a tax-deductible donation and spread the word to friends and family. Every donation is appreciated. Thank you for supporting the arts! \nDonate April 14–28
URL:https://delrayartisans.org/event/spring2action-2021/
LOCATION:Online
CATEGORIES:Community Event,Fundraising,Program
ATTACH;FMTTYPE=image/png:https://delrayartisans.org/wp-content/uploads/1992/12/spring2action-logo-2018-XMMS3P.tmp.png
ORGANIZER;CN="Dawn Wyse Hurto%2C Technology Director":MAILTO:technology@delrayartisans.org
END:VEVENT
END:VCALENDAR