BEGIN:VCALENDAR
VERSION:2.0
PRODID:-//Del Ray Artisans - ECPv6.15.20//NONSGML v1.0//EN
CALSCALE:GREGORIAN
METHOD:PUBLISH
X-ORIGINAL-URL:https://delrayartisans.org
X-WR-CALDESC:Events for Del Ray Artisans
REFRESH-INTERVAL;VALUE=DURATION:PT1H
X-Robots-Tag:noindex
X-PUBLISHED-TTL:PT1H
BEGIN:VTIMEZONE
TZID:America/New_York
BEGIN:DAYLIGHT
TZOFFSETFROM:-0500
TZOFFSETTO:-0400
TZNAME:EDT
DTSTART:20210314T070000
END:DAYLIGHT
BEGIN:STANDARD
TZOFFSETFROM:-0400
TZOFFSETTO:-0500
TZNAME:EST
DTSTART:20211107T060000
END:STANDARD
BEGIN:DAYLIGHT
TZOFFSETFROM:-0500
TZOFFSETTO:-0400
TZNAME:EDT
DTSTART:20220313T070000
END:DAYLIGHT
BEGIN:STANDARD
TZOFFSETFROM:-0400
TZOFFSETTO:-0500
TZNAME:EST
DTSTART:20221106T060000
END:STANDARD
BEGIN:DAYLIGHT
TZOFFSETFROM:-0500
TZOFFSETTO:-0400
TZNAME:EDT
DTSTART:20230312T070000
END:DAYLIGHT
BEGIN:STANDARD
TZOFFSETFROM:-0400
TZOFFSETTO:-0500
TZNAME:EST
DTSTART:20231105T060000
END:STANDARD
END:VTIMEZONE
BEGIN:VEVENT
DTSTART;TZID=America/New_York:20220827T160000
DTEND;TZID=America/New_York:20220827T200000
DTSTAMP:20260423T041005
CREATED:20230329T210436Z
LAST-MODIFIED:20230329T210436Z
UID:10000435-1661616000-1661630400@delrayartisans.org
SUMMARY:“A Space Between” Artwork Pick Up by Appointment
DESCRIPTION:Time for artists to pick up their unsold artwork from the closing show\, A Space Between\, by appointment only. \nQuestions? Contact the curator: Brittany Baron (calypso137@gmail.com).
URL:https://delrayartisans.org/event/a-space-between-artwork-pick-up-by-appointment/
LOCATION:Del Ray Artisans Gallery\, 2704 Mount Vernon Avenue\, Alexandria\, VA\, 22301\, United States
CATEGORIES:Administrative
ATTACH;FMTTYPE=image/jpeg:https://delrayartisans.org/wp-content/uploads/1992/12/Shadows-by-Kelly-Postula-scaled-3yQJiw.tmp.jpg
ORGANIZER;CN="Brittany Baron":MAILTO:calypso137@gmail.com
END:VEVENT
BEGIN:VEVENT
DTSTART;TZID=America/New_York:20220805T120000
DTEND;TZID=America/New_York:20220805T210000
DTSTAMP:20260423T041005
CREATED:20230329T210401Z
LAST-MODIFIED:20230329T223710Z
UID:10000421-1659700800-1659733200@delrayartisans.org
SUMMARY:“A Space Between” Exhibit Opening Day
DESCRIPTION:A Space Between Art Exhibit\nAugust 5-27\, 2022\nThe A Space Between art exhibit at Del Ray Artisans gallery focuses on shadows\, negative space\, and often overlooked components of a scene. After two years separated by literally six feet—and many centuries of burying loved ones six feet under—the concept of space gave artists a chance to explore themes of isolation beyond the physical separations of our shared experience. \nJoin us on opening day\, Friday\, August 5 between 12-9pm for the widest selection of artwork. Mark your calendar or set a reminder through Eventbrite. The artworks feature the shadows cast on subjects and the negative spaces revealing previously unseen images to help us visualize empathy and compassion for seeing the same thing differently. \nFitting beautifully into the space during the exhibit are several workshops\, including: \n\n“A Space to Clean” Soap-making Workshop on Saturday\, August 6 from 10am-1pm;\nEveryday Abstracts a la El Anatsui Workshop on Saturday\, August 13 from 6-8pm;\nQuilt Patch Mosaic Workshop on Tuesday\, August 16 from 6:30-8:30pm;\nPlaying with Resin Workshop on Sunday\, August 21 from 6-9pm; and\nVictorian Inspired Earrings Workshop on Saturday\, August 27 from 10am-12pm.\n\nRegister in advance for workshops at DelRayArtisans.org/workshops. \nThe A Space Between exhibit runs August 5-27\, 2022 at Del Ray Artisans gallery in the Colasanto Center\, 2704 Mount Vernon Avenue\, Alexandria\, Virginia 22301. Gallery hours are First Thursday (Apr-Sept) 12-9pm\, Thursday 12-6pm\, Friday 12-9pm\, Saturday 12-6pm\, and Sunday 12-6pm (closed on Sunday\, August 28\, 2022). Face masks are recommended inside the gallery. The gallery is free\, open to the public\, and accessible. \nFace masks are recommended inside the gallery. The gallery is free\, open to the public\, and accessible. \nFor more information\, contact the curator Brittany Baron (calypso137@gmail.com) or Director of Curating Kelly Postula (Curating@DelRayArtisans.org). \n\nArtwork credit: “Shadows” by Kelly Postula
URL:https://delrayartisans.org/event/a-space-between-opens/
LOCATION:Del Ray Artisans Gallery\, 2704 Mount Vernon Avenue\, Alexandria\, VA\, 22301\, United States
ATTACH;FMTTYPE=image/jpeg:https://delrayartisans.org/wp-content/uploads/1992/12/Shadows-by-Kelly-Postula-scaled-3yQJiw.tmp.jpg
ORGANIZER;CN="Brittany Baron":MAILTO:calypso137@gmail.com
END:VEVENT
BEGIN:VEVENT
DTSTART;VALUE=DATE:20220805
DTEND;VALUE=DATE:20220828
DTSTAMP:20260423T041005
CREATED:20230323T195848Z
LAST-MODIFIED:20230329T223722Z
UID:10000036-1659657600-1661644799@delrayartisans.org
SUMMARY:A Space Between (8/5-8/27)
DESCRIPTION:A Space Between Art Exhibit\nAugust 5-27\, 2022\nPhoto Album \nThe A Space Between art exhibit at Del Ray Artisans gallery focuses on shadows\, negative space\, and often overlooked components of a scene. After two years separated by literally six feet—and many centuries of burying loved ones six feet under—the concept of space gave artists a chance to explore themes of isolation beyond the physical separations of our shared experience. \nJoin us on opening day\, Friday\, August 5 between 12-9pm for the widest selection of artwork. Mark your calendar or set a reminder through Eventbrite. The artworks feature the shadows cast on subjects and the negative spaces revealing previously unseen images to help us visualize empathy and compassion for seeing the same thing differently. \nFitting beautifully into the space during the exhibit are several workshops\, including: \n\n“A Space to Clean” Soap-making Workshop on Saturday\, August 6 from 10am-1pm;\nEveryday Abstracts a la El Anatsui Workshop on Saturday\, August 13 from 6-8pm;\nQuilt Patch Mosaic Workshop on Tuesday\, August 16 from 6:30-8:30pm;\nPlaying with Resin Workshop on Sunday\, August 21 from 6-9pm; and\nVictorian Inspired Earrings Workshop on Saturday\, August 27 from 10am-12pm.\n\nRegister in advance for workshops at DelRayArtisans.org/workshops. \nThe A Space Between exhibit runs August 5-27\, 2022 at Del Ray Artisans gallery in the Colasanto Center\, 2704 Mount Vernon Avenue\, Alexandria\, Virginia 22301. Gallery hours are First Thursday (Apr-Sept) 12-9pm\, Thursday 12-6pm\, Friday 12-9pm\, Saturday 12-6pm\, and Sunday 12-6pm (closed on Sunday\, August 28\, 2022). Face masks are recommended inside the gallery. The gallery is free\, open to the public\, and accessible. \nFace masks are recommended inside the gallery. The gallery is free\, open to the public\, and accessible. \nFor more information\, contact the curator Brittany Baron (calypso137@gmail.com) or Director of Curating Kelly Postula (Curating@DelRayArtisans.org). \n\nArtwork credit: “Shadows” by Kelly Postula
URL:https://delrayartisans.org/event/a-space-between/
LOCATION:Del Ray Artisans Gallery\, 2704 Mount Vernon Avenue\, Alexandria\, VA\, 22301\, United States
CATEGORIES:Art Exhibit,Del Ray Artisans Gallery
ATTACH;FMTTYPE=image/jpeg:https://delrayartisans.org/wp-content/uploads/1992/12/Shadows-by-Kelly-Postula-scaled-3yQJiw.tmp.jpg
ORGANIZER;CN="Brittany Baron":MAILTO:calypso137@gmail.com
END:VEVENT
BEGIN:VEVENT
DTSTART;TZID=America/New_York:20220731T120000
DTEND;TZID=America/New_York:20220731T180000
DTSTAMP:20260423T041005
CREATED:20230329T210349Z
LAST-MODIFIED:20230329T210349Z
UID:10000419-1659268800-1659290400@delrayartisans.org
SUMMARY:Alcove Gift Shop and “A Space Between” Artwork Drop Off by Appointment
DESCRIPTION:Time for artists to drop off their accepted artwork entries for the upcoming exhibit\, A Space Between\, and Alcove Gift Shop. Artwork drop off is Sunday\, July 31 from 12-6pm by appointment only. \nArtwork must be ready to hang (with screw eyes and wire) or ready for display (with mounting and/or a display stand if necessary). Review the standard artwork presentation guidelines and the Call for Entry for show specific information. \nQuestions? Contact the exhibit curator: Brittany Baron (calypso137@gmail.com) or gift shop curator: Stephen Lally (slallypottery@gmail.com)
URL:https://delrayartisans.org/event/alcove-gift-shop-and-a-space-between-artwork-drop-off-by-appointment/
LOCATION:Del Ray Artisans Gallery\, 2704 Mount Vernon Avenue\, Alexandria\, VA\, 22301\, United States
CATEGORIES:Administrative
ATTACH;FMTTYPE=image/jpeg:https://delrayartisans.org/wp-content/uploads/1992/12/Shadows-by-Kelly-Postula-scaled-3yQJiw.tmp.jpg
ORGANIZER;CN="Brittany Baron":MAILTO:calypso137@gmail.com
END:VEVENT
BEGIN:VEVENT
DTSTART;TZID=America/New_York:20220710T235000
DTEND;TZID=America/New_York:20220710T235900
DTSTAMP:20260423T041005
CREATED:20230329T210335Z
LAST-MODIFIED:20230329T210335Z
UID:10000414-1657497000-1657497540@delrayartisans.org
SUMMARY:“A Space Between” Call for Entry Deadline
DESCRIPTION:Call for Entry ~ Open to area artistsA Space BetweenExhibit Dates: August 5-27\, 2022\nDigital entry deadline: Sunday\, July 10\, 2022 by midnight\nSeeking artwork focusing on shadows\, negative space\, and often overlooked components of a scene. Your art may reveal physical separations highlighting hidden always-there isolation\, or shadows and negative space highlighting varied perceptions of “the same thing.” Looking forward to your interpretations of this theme. \nThe exhibit is open to all area artists. Del Ray Artisans members pay a discounted entry fee. \nEntry Details & Form \nArtwork credit: “Shadows” by Kelly Postula
URL:https://delrayartisans.org/event/a-space-between-call-for-entry-deadline/
LOCATION:Online
CATEGORIES:Entry Deadline
ATTACH;FMTTYPE=image/jpeg:https://delrayartisans.org/wp-content/uploads/1992/12/Shadows-by-Kelly-Postula-scaled-3yQJiw.tmp.jpg
ORGANIZER;CN="Brittany Baron":MAILTO:calypso137@gmail.com
END:VEVENT
END:VCALENDAR