BEGIN:VCALENDAR
VERSION:2.0
PRODID:-//Del Ray Artisans - ECPv6.15.20//NONSGML v1.0//EN
CALSCALE:GREGORIAN
METHOD:PUBLISH
X-WR-CALNAME:Del Ray Artisans
X-ORIGINAL-URL:https://delrayartisans.org
X-WR-CALDESC:Events for Del Ray Artisans
REFRESH-INTERVAL;VALUE=DURATION:PT1H
X-Robots-Tag:noindex
X-PUBLISHED-TTL:PT1H
BEGIN:VTIMEZONE
TZID:America/New_York
BEGIN:DAYLIGHT
TZOFFSETFROM:-0500
TZOFFSETTO:-0400
TZNAME:EDT
DTSTART:20200308T070000
END:DAYLIGHT
BEGIN:STANDARD
TZOFFSETFROM:-0400
TZOFFSETTO:-0500
TZNAME:EST
DTSTART:20201101T060000
END:STANDARD
BEGIN:DAYLIGHT
TZOFFSETFROM:-0500
TZOFFSETTO:-0400
TZNAME:EDT
DTSTART:20210314T070000
END:DAYLIGHT
BEGIN:STANDARD
TZOFFSETFROM:-0400
TZOFFSETTO:-0500
TZNAME:EST
DTSTART:20211107T060000
END:STANDARD
BEGIN:DAYLIGHT
TZOFFSETFROM:-0500
TZOFFSETTO:-0400
TZNAME:EDT
DTSTART:20220313T070000
END:DAYLIGHT
BEGIN:STANDARD
TZOFFSETFROM:-0400
TZOFFSETTO:-0500
TZNAME:EST
DTSTART:20221106T060000
END:STANDARD
BEGIN:DAYLIGHT
TZOFFSETFROM:-0500
TZOFFSETTO:-0400
TZNAME:EDT
DTSTART:20230312T070000
END:DAYLIGHT
BEGIN:STANDARD
TZOFFSETFROM:-0400
TZOFFSETTO:-0500
TZNAME:EST
DTSTART:20231105T060000
END:STANDARD
END:VTIMEZONE
BEGIN:VEVENT
DTSTART;TZID=America/New_York:20220914T190000
DTEND;TZID=America/New_York:20220914T200000
DTSTAMP:20260423T020724
CREATED:20230329T210516Z
LAST-MODIFIED:20230329T214032Z
UID:10000446-1663182000-1663185600@delrayartisans.org
SUMMARY:FUR-DY: Pet Portrait Pick Up
DESCRIPTION:Wednesday\, September 14 from 7-8pm is reserved for participants in the FUR-DY: Pet Portrait in Glass Workshop to pick up their fired pieces. \nFace masks are recommended inside the gallery. \n\nView other upcoming workshops\, information about the facility and policies on the Upcoming Workshops page.
URL:https://delrayartisans.org/event/fur-dy-pet-portrait-pick-up/
LOCATION:Del Ray Artisans Gallery\, 2704 Mount Vernon Avenue\, Alexandria\, VA\, 22301\, United States
CATEGORIES:Program
ATTACH;FMTTYPE=image/jpeg:https://delrayartisans.org/wp-content/uploads/2022/08/Pet-Portrait-in-Glass-square.jpg
ORGANIZER;CN="Betsy Mead":MAILTO:egmead@gmail.com
END:VEVENT
BEGIN:VEVENT
DTSTART;TZID=America/New_York:20220910T093000
DTEND;TZID=America/New_York:20220910T120000
DTSTAMP:20260423T020724
CREATED:20230329T210503Z
LAST-MODIFIED:20230329T210503Z
UID:10000442-1662802200-1662811200@delrayartisans.org
SUMMARY:FUR-DY: Pet Portrait in Glass Workshop
DESCRIPTION:Instructor: Betsy MeadDate/Time: Saturday\, September 10 from 9:30am-12pm\, plus pick up on Wednesday\, September 14 from 7-8pmCost: $65 DRA member / $75 Non-member; plus $30 Supply FeeClass size: 9 participants maximum(Register by September 6) \nDel Ray Artisans turns THIRTY this year. To celebrate\, take one or more of our rhyming programs in September! \nDuring the FUR-DY: Pet Portrait in Glass Workshop honor your favorite pet by creating a portrait with powdered glass! Following the “sgraffito” technique\, students will use glass powder to create black and white portraits of their favorite pets on an 8” x 8″ fusible glass square. (The instructor may be able to bring additional limited colors such as brown\, beige\, and orange. This is TBD.) \nStudents will create their portraits and get them “ready to fire” on Saturday\, September 10 from 9:30am-12pm. After the class the instructor will take the portraits to her studio\, kiln-fire them\, and then return the finished\, framed portraits to students on Wednesday\, September 14 from 7-8pm for a class discussion. \nAll supplies are provided. No experience is needed. Students should bring at least 2 black and white photos of their pet printed on computer paper. The photos should fit nicely on an 8″ x 8″ square. If you need assistance in sizing your image\, please contact instructor Betsy Mead at egmead@gmail.com. \nFace masks are recommended inside the gallery. \nRegister Now \n\nView other upcoming workshops\, information about the facility and policies on the Upcoming Workshops page.
URL:https://delrayartisans.org/event/fur-dy-pet-portrait-in-glass-workshop/
LOCATION:Del Ray Artisans Gallery\, 2704 Mount Vernon Avenue\, Alexandria\, VA\, 22301\, United States
CATEGORIES:Program,Workshop
ATTACH;FMTTYPE=image/jpeg:https://delrayartisans.org/wp-content/uploads/2022/08/Pet-Portrait-in-Glass-square.jpg
ORGANIZER;CN="Betsy Mead":MAILTO:egmead@gmail.com
END:VEVENT
BEGIN:VEVENT
DTSTART;TZID=America/New_York:20220129T160000
DTEND;TZID=America/New_York:20220129T200000
DTSTAMP:20260423T020724
CREATED:20230329T210016Z
LAST-MODIFIED:20230329T210016Z
UID:10000346-1643472000-1643486400@delrayartisans.org
SUMMARY:“Little Monsters” Artwork Pick Up by Appointment
DESCRIPTION:Time for artists to pick up their unsold artwork from the closing show\, Little Monsters\, by appointment only. \nQuestions? Contact the curator: Betsy Mead (egmead@gmail.com). \nArtwork credit: “Little Monsters” by Betsy Mead
URL:https://delrayartisans.org/event/little-monsters-artwork-pick-up-by-appointment/
LOCATION:Del Ray Artisans Gallery\, 2704 Mount Vernon Avenue\, Alexandria\, VA\, 22301\, United States
CATEGORIES:Administrative
ATTACH;FMTTYPE=image/jpeg:https://delrayartisans.org/wp-content/uploads/2021/10/Little-Monsters-by-Betsy-Mead.jpg
ORGANIZER;CN="Betsy Mead":MAILTO:egmead@gmail.com
END:VEVENT
BEGIN:VEVENT
DTSTART;TZID=America/New_York:20220108T110000
DTEND;TZID=America/New_York:20220108T120000
DTSTAMP:20260423T020724
CREATED:20230329T205949Z
LAST-MODIFIED:20230329T205949Z
UID:10000338-1641639600-1641643200@delrayartisans.org
SUMMARY:Boy Scout Visit (Private Event)
DESCRIPTION:This is a one-hour private event from 11am-noon facilitated by the exhibit curator Betsy Mead. \nThe gallery opens to the public at noon.
URL:https://delrayartisans.org/event/boy-scout-visit-private-event/
LOCATION:Del Ray Artisans Gallery\, 2704 Mount Vernon Avenue\, Alexandria\, VA\, 22301\, United States
ATTACH;FMTTYPE=image/jpeg:https://delrayartisans.org/wp-content/uploads/2021/10/Postcard-Little-Monsters-front.jpg
ORGANIZER;CN="Betsy Mead":MAILTO:egmead@gmail.com
END:VEVENT
BEGIN:VEVENT
DTSTART;TZID=America/New_York:20220107T120000
DTEND;TZID=America/New_York:20220107T210000
DTSTAMP:20260423T020724
CREATED:20230329T205947Z
LAST-MODIFIED:20230329T205947Z
UID:10000337-1641556800-1641589200@delrayartisans.org
SUMMARY:“Little Monsters” Art Exhibit Opening Day
DESCRIPTION:Little Monsters Art ExhibitJanuary 7–29\, 2022\n“Little Monsters” byElizabeth Guerry Mead\nWe all know them—the little monsters that haunt\, terrorize\, or cause us to giggle endlessly. These tiny beings emerge from fantasy as well as the real world. Come and see how artists have interpreted their little monsters in the Little Monsters exhibit at Del Ray Artisans gallery. You’ll find that little monsters can range from the dark and mysterious to the cute and whimsical. Come choose your favorite! \nJoin us on opening day\, Friday\, January 7 between 12-9pm for the widest selection of artwork. Mark your calendar now or set a reminder through Eventbrite. While you’re visiting\, be sure to check out the “Little Monster” awards highlighting outstanding artworks selected by the curator. \nSpecial workshops held in conjunction with the exhibit include: \n\nPlaying with Resin workshop on Monday\, January 17 from 6-9pm\nMonster Fantasy Soap-making workshop on Saturday\, January 22 from 10am-1pm\nSnowy Trees in Watercolor workshop via Zoom on Friday\, January 28 from 6-8pm\n\nTo attend the workshops\, register in advance at DelRayArtisans.org/workshops \nThe Little Monsters exhibit runs January 7-29\, 2022 at Del Ray Artisans gallery in the Colasanto Center\, 2704 Mount Vernon Avenue\, Alexandria\, Virginia 22301. Gallery hours are Thursday 12-6pm\, Friday 12-9pm\, Saturday 12-6pm\, and Sunday 12-6pm (closed the last Sunday of the month). \nDel Ray Artisans has taken the ALX Promise pledge and is committed to the health and safety of our visitors. The gallery capacity is limited to 15 people at any one time. Face masks must be worn by all while visiting the gallery. The gallery is free\, open to the public\, and accessible. \nFor more information\, contact the curator Betsy Mead (egmead@gmail.com) or Director of Curating Kelly Postula (Curating@DelRayArtisans.org).
URL:https://delrayartisans.org/event/little-monsters-art-exhibit-opening-day/
LOCATION:Del Ray Artisans Gallery\, 2704 Mount Vernon Avenue\, Alexandria\, VA\, 22301\, United States
ATTACH;FMTTYPE=image/jpeg:https://delrayartisans.org/wp-content/uploads/2021/10/Little-Monsters-by-Betsy-Mead.jpg
ORGANIZER;CN="Betsy Mead":MAILTO:egmead@gmail.com
END:VEVENT
BEGIN:VEVENT
DTSTART;VALUE=DATE:20220107
DTEND;VALUE=DATE:20220130
DTSTAMP:20260423T020724
CREATED:20230323T195819Z
LAST-MODIFIED:20230324T160432Z
UID:10000027-1641513600-1643500799@delrayartisans.org
SUMMARY:Little Monsters (1/7-1/29)
DESCRIPTION:Little Monsters Art Exhibit\nJanuary 7–29\, 2022\nWe all know them—the little monsters that haunt\, terrorize\, or cause us to giggle endlessly. These tiny beings emerge from fantasy as well as the real world. Come and see how artists have interpreted their little monsters in the Little Monsters exhibit at Del Ray Artisans gallery. You’ll find that little monsters can range from the dark and mysterious to the cute and whimsical. Come choose your favorite! \nJoin us on opening day\, Friday\, January 7 between 12-9pm for the widest selection of artwork. Mark your calendar now or set a reminder through Eventbrite. While you’re visiting\, be sure to check out the “Little Monster” awards highlighting outstanding artworks selected by the curator. \nSpecial workshops held in conjunction with the exhibit include: \n\nPlaying with Resin workshop on Monday\, January 17 from 6-9pm\nMonster Fantasy Soap-making workshop on Saturday\, January 22 from 10am-1pm\nSnowy Trees in Watercolor workshop via Zoom on Friday\, January 28 from 6-8pm\n\nTo attend the workshops\, register in advance at DelRayArtisans.org/workshops \nThe Little Monsters exhibit runs January 7-29\, 2022 at Del Ray Artisans gallery in the Colasanto Center\, 2704 Mount Vernon Avenue\, Alexandria\, Virginia 22301. Gallery hours are Thursday 12-6pm\, Friday 12-9pm\, Saturday 12-6pm\, and Sunday 12-6pm (closed the last Sunday of the month). \nDel Ray Artisans has taken the ALX Promise pledge and is committed to the health and safety of our visitors. The gallery capacity is limited to 15 people at any one time. Face masks must be worn by all while visiting the gallery. The gallery is free\, open to the public\, and accessible. \nFor more information\, contact the curator Betsy Mead (egmead@gmail.com) or Director of Curating Kelly Postula (Curating@DelRayArtisans.org). \n\n \n\nArtwork credit: “Little Monsters” by Elizabeth Guerry Mead
URL:https://delrayartisans.org/event/little-monsters/
LOCATION:Del Ray Artisans Gallery\, 2704 Mount Vernon Avenue\, Alexandria\, VA\, 22301\, United States
CATEGORIES:Art Exhibit,Del Ray Artisans Gallery
ATTACH;FMTTYPE=image/jpeg:https://delrayartisans.org/wp-content/uploads/2021/10/Little-Monsters-by-Betsy-Mead.jpg
ORGANIZER;CN="Betsy Mead":MAILTO:egmead@gmail.com
END:VEVENT
BEGIN:VEVENT
DTSTART;TZID=America/New_York:20220102T120000
DTEND;TZID=America/New_York:20220102T180000
DTSTAMP:20260423T020724
CREATED:20230329T205946Z
LAST-MODIFIED:20230329T205946Z
UID:10000336-1641124800-1641146400@delrayartisans.org
SUMMARY:“Little Monters” Artwork Drop Off by Appointment
DESCRIPTION:Time for artists to drop off their accepted artwork and marketplace entries for the upcoming exhibit\, Little Monsters. Artwork drop off is Sunday\, January 2 from 12-6pm by appointment only. \nArtwork must be ready to hang (with screw eyes and wire) or ready for display (with mounting and/or a display stand if necessary). Review the standard artwork presentation guidelines and the Call for Entry for show specific information. \nQuestions? Contact the curator Betsy Mead (egmead@gmail.com). \nArtwork credit: “Little Monsters” by Betsy Mead
URL:https://delrayartisans.org/event/little-monters-artwork-drop-off-by-appointment/
LOCATION:Del Ray Artisans Gallery\, 2704 Mount Vernon Avenue\, Alexandria\, VA\, 22301\, United States
CATEGORIES:Administrative
ATTACH;FMTTYPE=image/jpeg:https://delrayartisans.org/wp-content/uploads/2021/10/Little-Monsters-by-Betsy-Mead.jpg
ORGANIZER;CN="Betsy Mead":MAILTO:egmead@gmail.com
END:VEVENT
BEGIN:VEVENT
DTSTART;TZID=America/New_York:20211219T235000
DTEND;TZID=America/New_York:20211219T235900
DTSTAMP:20260423T020724
CREATED:20230329T205935Z
LAST-MODIFIED:20230329T205935Z
UID:10000334-1639957800-1639958340@delrayartisans.org
SUMMARY:“Little Monsters” Call for Entry Deadline
DESCRIPTION:Call for Entry ~ Open to area artistsLittle Monsters\nExhibit Dates: January 7-29\, 2022\nDigital entry deadline extended to Sunday\, December 19\, 2021 by midnight\n“Little Monsters” by Elizabeth Guerry Mead\nWe all know them—those little monsters that haunt\, terrorize\, or make us giggle. Maybe they’re tiny things with a million legs\, green ogres from fairy tales\, furry friends\, or owls that go “hooooo” in the night. Perhaps your monster lives inside your head or is your next door neighbor. Let your imagination go wild and represent your monsters in the medium of your choice. \nThe Little Monsters art exhibit is open to all area artists. Del Ray Artisans members pay a discounted entry fee. \nEntry Details & Form
URL:https://delrayartisans.org/event/little-monsters-call-for-entry-deadline/
LOCATION:Online
CATEGORIES:Entry Deadline
ATTACH;FMTTYPE=image/jpeg:https://delrayartisans.org/wp-content/uploads/2021/10/Little-Monsters-by-Betsy-Mead.jpg
ORGANIZER;CN="Betsy Mead":MAILTO:egmead@gmail.com
END:VEVENT
END:VCALENDAR