BEGIN:VCALENDAR
VERSION:2.0
PRODID:-//Del Ray Artisans - ECPv6.15.20//NONSGML v1.0//EN
CALSCALE:GREGORIAN
METHOD:PUBLISH
X-WR-CALNAME:Del Ray Artisans
X-ORIGINAL-URL:https://delrayartisans.org
X-WR-CALDESC:Events for Del Ray Artisans
REFRESH-INTERVAL;VALUE=DURATION:PT1H
X-Robots-Tag:noindex
X-PUBLISHED-TTL:PT1H
BEGIN:VTIMEZONE
TZID:America/New_York
BEGIN:DAYLIGHT
TZOFFSETFROM:-0500
TZOFFSETTO:-0400
TZNAME:EDT
DTSTART:20200308T070000
END:DAYLIGHT
BEGIN:STANDARD
TZOFFSETFROM:-0400
TZOFFSETTO:-0500
TZNAME:EST
DTSTART:20201101T060000
END:STANDARD
BEGIN:DAYLIGHT
TZOFFSETFROM:-0500
TZOFFSETTO:-0400
TZNAME:EDT
DTSTART:20210314T070000
END:DAYLIGHT
BEGIN:STANDARD
TZOFFSETFROM:-0400
TZOFFSETTO:-0500
TZNAME:EST
DTSTART:20211107T060000
END:STANDARD
BEGIN:DAYLIGHT
TZOFFSETFROM:-0500
TZOFFSETTO:-0400
TZNAME:EDT
DTSTART:20220313T070000
END:DAYLIGHT
BEGIN:STANDARD
TZOFFSETFROM:-0400
TZOFFSETTO:-0500
TZNAME:EST
DTSTART:20221106T060000
END:STANDARD
END:VTIMEZONE
BEGIN:VEVENT
DTSTART;VALUE=DATE:20210806
DTEND;VALUE=DATE:20210829
DTSTAMP:20260423T073445
CREATED:20230323T195737Z
LAST-MODIFIED:20230324T164024Z
UID:10000015-1628208000-1630195199@delrayartisans.org
SUMMARY:Together (8/6-8/28)
DESCRIPTION:Together Art Exhibit\nAugust 6 – 28\, 2021\n“Endangered” by Amy Kitchin\nOnline Album | Video Tour \nTogether is a special exhibit by Del Ray Artisans’ outstanding volunteers and board of directors. These members help make Del Ray Artisans a thriving organization that fosters community and promotes creative expression and artistic endeavors in the visual\, performing\, and applied arts. Come celebrate their dedication and enjoy their artwork. \nThe members who donated the most volunteer hours from January 2019 through April 2021 were invited to enter pieces. The featured works were selected by curators Amy Kitchin Hower and Joshua Oliveira. A big thank you to the exceptional volunteers who qualified for the exhibit: \n2019-2021 Board Members – Currently Serving: Dale Spivey (President)\, Kathryn A Brown (Secretary)\, Rita Schooley (Treasurer)\, Stephen Lally (Assistant Treasurer)\, Bill Cabrera (Archives)\, Kathy Stoner (Communications)\, John Bordner (Community)\, Kelly Postula (Curating)\, Kurt Peterson (Facilities)\, Karen Schmitz (Grants)\, Beth Richardson (Membership)\, Kelly M. MacConomy (Outreach)\, Erica Hughes (Programs)\, Dawn Wyse Hurto (Technology)\, Amy Kitchin Hower (Volunteers)\, Suzan Ok (Youth Programs)\, Marlin G. Lord (Emeritus); Recently Served: Drew Cariaso\, Joe Franklin\, Brittany Gabel\, David Heckman\, Sharon Holland\, Nancy Kline\, Leigh Lafosse\, Judy Lynn\, Milagros Mateu\, Betsy Mead\, David McClure\, Stacy Rausch\, Sophia Suarez\, and Kathy Turner. \nOther Outstanding Volunteers: Cheryl Audet-Lavoie\, Veronica Barker-Barzel Kelly\, Jana Bertucci\, Joan Bickelhaupt\, Mel Bikowski\, Leah Boynton\, Sharon Burton\, Marshall Carolus\, Stephanie Chan\, Chrissy Charboneau\, Sunny Chen\, Sarah Chittenden\, Sean Crumley\, Pamela Day\, Kajal Dhabalia\, Linda Elliff\, Chris Fedderson\, Lynn Fernandez\, Tom Kelly\, Gordon Thomas Frank\, Joyce A. Frank\, Doug Fuller\, Nancy Galib\, Donna Gallo\, Kateri Garcia\, Kate Gibney\, Gale Goldfarb\, Lesley Hall\, Howard Hay\, Mathew Heggem\, Monica Hokeilen\, Hillary Hoffman\, Betsy Jones\, Wendy Leaumont\, Marie Lenker\, Jeff Lodge\, Linda Lowery\, Theresa Kulstad\, Nicole Mahoney\, Liz Martinez\, Jenny Nicholson\, Eileen O’Brien\, Nancy Ramsey\, Katherine Rand\, Michele Reday Cook\, Ellen Rosenthal\, Laura Rush\, Kitty Russell\, Doug Schulte\, Kevin Sherlock\, Kelli Sincock\, Karen Laurie Thomas\, Suzanne Tillman\, Marcia Lynn Toepfer\, Nancy Toni\, Pamela Underhill\, Taly Walsh\, Tamara Wilkerson\, Tracy Wilkerson\, Liz Vance\, Christine Vinh\, Dan Witmeyer\, Margaret Wohler\, and Seth Yavit.\n. \nDel Ray Artisans is extremely grateful to its members who work tirelessly to make our little corner of the art world successful. Our nonprofit arts organization relies on the dedication\, commitment\, and generosity of members to provide the high quality exhibits\, programs\, and special events for which it is well-known. \nReserve a ticket for a half-hour viewing during the extended hours on opening day: Friday\, August 6 between 12-9pm. Opening day tickets are not required\, but ticket holders have priority entry. The gallery capacity is limited to 15 people at any one time in order to facilitate social distancing. \nOpening Day Tickets \nGallery hours are First Thursday (Apr-Sept) 12-9pm\, Thursday 12-6pm\, Friday 12-9pm\, Saturday 12-6pm\, and Sunday 12-6pm (closed the last Sunday of the month). Del Ray Artisans is ALX Promise certified and committed to the health and safety of our visitors. Face masks must be worn by all while visiting the gallery. \nThe Together exhibit runs August 6–28\, 2021 at Del Ray Artisans gallery in the Colasanto Center\, 2704 Mount Vernon Avenue\, Alexandria\, Virginia 22301. The gallery is free\, open to the public\, and accessible. \nFor more information\, contact the curators Amy Kitchin Hower (Volunteers@DelRayArtisans.org ) and Joshua Oliveira (joshua.oliveiramartin@gmail.com) or Director of Curating Kelly Postula (Curating@DelRayArtisans.org). \nOnline Album | Video Tour
URL:https://delrayartisans.org/event/together/
LOCATION:Del Ray Artisans Gallery\, 2704 Mount Vernon Avenue\, Alexandria\, VA\, 22301\, United States
CATEGORIES:Art Exhibit,Del Ray Artisans Gallery
ATTACH;FMTTYPE=image/jpeg:https://delrayartisans.org/wp-content/uploads/2021/05/Endangered-by-Amy-Kitchin.jpg
ORGANIZER;CN="Amy Kitchin Hower%2C Volunteers Director":MAILTO:volunteers@delrayartisans.org
END:VEVENT
END:VCALENDAR