BEGIN:VCALENDAR
VERSION:2.0
PRODID:-//Del Ray Artisans - ECPv6.15.20//NONSGML v1.0//EN
CALSCALE:GREGORIAN
METHOD:PUBLISH
X-WR-CALNAME:Del Ray Artisans
X-ORIGINAL-URL:https://delrayartisans.org
X-WR-CALDESC:Events for Del Ray Artisans
REFRESH-INTERVAL;VALUE=DURATION:PT1H
X-Robots-Tag:noindex
X-PUBLISHED-TTL:PT1H
BEGIN:VTIMEZONE
TZID:America/New_York
BEGIN:DAYLIGHT
TZOFFSETFROM:-0500
TZOFFSETTO:-0400
TZNAME:EDT
DTSTART:20200308T070000
END:DAYLIGHT
BEGIN:STANDARD
TZOFFSETFROM:-0400
TZOFFSETTO:-0500
TZNAME:EST
DTSTART:20201101T060000
END:STANDARD
BEGIN:DAYLIGHT
TZOFFSETFROM:-0500
TZOFFSETTO:-0400
TZNAME:EDT
DTSTART:20210314T070000
END:DAYLIGHT
BEGIN:STANDARD
TZOFFSETFROM:-0400
TZOFFSETTO:-0500
TZNAME:EST
DTSTART:20211107T060000
END:STANDARD
BEGIN:DAYLIGHT
TZOFFSETFROM:-0500
TZOFFSETTO:-0400
TZNAME:EDT
DTSTART:20220313T070000
END:DAYLIGHT
BEGIN:STANDARD
TZOFFSETFROM:-0400
TZOFFSETTO:-0500
TZNAME:EST
DTSTART:20221106T060000
END:STANDARD
BEGIN:DAYLIGHT
TZOFFSETFROM:-0500
TZOFFSETTO:-0400
TZNAME:EDT
DTSTART:20230312T070000
END:DAYLIGHT
BEGIN:STANDARD
TZOFFSETFROM:-0400
TZOFFSETTO:-0500
TZNAME:EST
DTSTART:20231105T060000
END:STANDARD
BEGIN:DAYLIGHT
TZOFFSETFROM:-0500
TZOFFSETTO:-0400
TZNAME:EDT
DTSTART:20240310T070000
END:DAYLIGHT
BEGIN:STANDARD
TZOFFSETFROM:-0400
TZOFFSETTO:-0500
TZNAME:EST
DTSTART:20241103T060000
END:STANDARD
BEGIN:DAYLIGHT
TZOFFSETFROM:-0500
TZOFFSETTO:-0400
TZNAME:EDT
DTSTART:20250309T070000
END:DAYLIGHT
BEGIN:STANDARD
TZOFFSETFROM:-0400
TZOFFSETTO:-0500
TZNAME:EST
DTSTART:20251102T060000
END:STANDARD
BEGIN:DAYLIGHT
TZOFFSETFROM:-0500
TZOFFSETTO:-0400
TZNAME:EDT
DTSTART:20260308T070000
END:DAYLIGHT
BEGIN:STANDARD
TZOFFSETFROM:-0400
TZOFFSETTO:-0500
TZNAME:EST
DTSTART:20261101T060000
END:STANDARD
END:VTIMEZONE
BEGIN:VEVENT
DTSTART;TZID=America/New_York:20250612T180000
DTEND;TZID=America/New_York:20250612T210000
DTSTAMP:20260423T024316
CREATED:20250505T215932Z
LAST-MODIFIED:20250610T162900Z
UID:10001848-1749751200-1749762000@delrayartisans.org
SUMMARY:CANCELED: La Siréne: Bead Embroidery Workshop
DESCRIPTION:Instructor:Amy Castine\nDate/Time: Thursdays\, June 12th and 19th\, 6-9pm\nCost: $90 Del Ray Artisans member / $100 Non-member; plus $15 supply fee\nClass size: 4-8 participants\n(Register by June 9 – No walk-ins allowed) \nAs summer approaches\, many peoples’ thoughts are filled with warm afternoons lounging by the sea. If this visual calls to your inner mermaid\, we have just the creative class for you. \nPlease join us for La Siréne\, an intermediate bead embroidery class. In this class\, you will learn beaded backstitch stitch and brick stitch edging as you make your very own mermaid tail. If you are already comfortable with backstitch\, you can learn how to add a beautiful coil border to your work. \nWe will meet in two class sessions (June 12 and June 19) allowing you to practice the stitches and to complete your personalized mermaid tail. \n \n\nView other upcoming workshops\, information about the facility and policies on the Upcoming Workshops page.
URL:https://delrayartisans.org/event/la-sirene/
LOCATION:Del Ray Artisans Gallery\, 2704 Mount Vernon Avenue\, Alexandria\, VA\, 22301\, United States
CATEGORIES:Creative Summer Programs,Program,Workshop
ATTACH;FMTTYPE=image/jpeg:https://delrayartisans.org/wp-content/uploads/2025/05/MermaidTail-by-AmyCastine.jpg
ORGANIZER;CN="Amy Castine":MAILTO:amy.castine@aim.com
END:VEVENT
BEGIN:VEVENT
DTSTART;TZID=America/New_York:20250608T180000
DTEND;TZID=America/New_York:20250608T210000
DTSTAMP:20260423T024316
CREATED:20250503T163025Z
LAST-MODIFIED:20250607T152948Z
UID:10001845-1749405600-1749416400@delrayartisans.org
SUMMARY:UFO: UnFinished prOjects (Register ASAP; Walk-ins Welcome)
DESCRIPTION:Coordinator: Amy Castine\nDate/Time: Sunday\, June 8\, 6-9pm\nCost: $15 Del Ray Artisans member / $25 Non-member\nClass size: 6-24 participants\n(Register to save your seat; Walk-ins welcome\, space permitting) \nDo you have an unfinished art project that you want to get done but haven’t made time for it yet? Then this is for you! Grab your art project and supplies\, come on down to Del Ray Artisans\, and socialize with others while you work on or finish your project. \nDRA will provide small snacks\, water\, glue (Elmer’s and glue sticks)\, tape\, pens\, and scissors – you bring whatever else you need. \nAlthough we’d love to see everyone\, workspace is limited so please only bring projects that can fit on a table shared with 3 other people AND that is not too messy\, time-consuming\, or sensory-sensitive. \nRegister Now \n\nView other upcoming workshops\, information about the facility and policies on the Upcoming Workshops page.
URL:https://delrayartisans.org/event/ufo/
LOCATION:Del Ray Artisans Gallery\, 2704 Mount Vernon Avenue\, Alexandria\, VA\, 22301\, United States
CATEGORIES:Creative Summer Programs,Program,Workshop
ATTACH;FMTTYPE=image/jpeg:https://delrayartisans.org/wp-content/uploads/2025/04/UFO-AmyCastine.jpg
ORGANIZER;CN="Amy Castine":MAILTO:amy.castine@aim.com
END:VEVENT
BEGIN:VEVENT
DTSTART;TZID=America/New_York:20250123T180000
DTEND;TZID=America/New_York:20250123T210000
DTSTAMP:20260423T024316
CREATED:20241030T222036Z
LAST-MODIFIED:20250119T190556Z
UID:10001700-1737655200-1737666000@delrayartisans.org
SUMMARY:"When Pigs Fly" Bead Embroidery Workshop (Register by 1/22) - NEW DATE!
DESCRIPTION:UPDATE: This workshop was rescheduled from Sunday\, January 19 to Thursday\, January 23 due to the weather. Additional registrations will be accepted until midnight on Wednesday\, January 22. \nInstructor: Amy Castine\, amy.castine@aim.com\nDate/Time: Thursday\, January 23\, 6-9pm\nCost: $50 Del Ray Artisans member / $60 Non-member; plus $15 Supply Fee\nClass size: 4-8 participants\n(Register by midnight on January 22) \nCreate a fun piece of wearable bead art! While bead embroidery may look complicated\, it doesn’t have to be. In this class\, you will learn beginning bead embroidery stitches as you create your own flying pig pin/pendant. Plus\, the skills you learn can be combined and added to all sorts of fiber arts\, giving you a solid foundation to expand your creativity. \nThis workshop is held in conjunction with the Visual Humor art exhibit. \nRegister Now \n\nView other upcoming workshops\, information about the facility\, and policies on the Upcoming Workshops page.
URL:https://delrayartisans.org/event/beaded-flying-pig/
LOCATION:Del Ray Artisans Gallery\, 2704 Mount Vernon Avenue\, Alexandria\, VA\, 22301\, United States
CATEGORIES:Program,Workshop
ATTACH;FMTTYPE=image/jpeg:https://delrayartisans.org/wp-content/uploads/2024/12/WhenPigsFly-materials-AmyCastine.jpg
ORGANIZER;CN="Amy Castine":MAILTO:amy.castine@aim.com
END:VEVENT
BEGIN:VEVENT
DTSTART;TZID=America/New_York:20230605T180000
DTEND;TZID=America/New_York:20230605T210000
DTSTAMP:20260423T024316
CREATED:20230430T160859Z
LAST-MODIFIED:20230807T190819Z
UID:10001066-1685988000-1685998800@delrayartisans.org
SUMMARY:Have a Heart Workshop
DESCRIPTION:Instructor: Amy Castine\nDate/Time: Monday\, June 5 from 6-9pm\nCost: $60 Del Ray Artisans member / $80 Non-member; plus a $20 Supply Fee\nClass size: 4-8 participants\n(Register by midnight on June 2) \nCome and create a fun piece of wearable bead art! While bead embroidery may look complicated\, it doesn’t have to be. In this workshop\, you will learn four beginning bead embroidery stitches as you create your own beautifully embellished heart pendant. Plus\, the skills you learn can be combined and added to all sorts of fiber arts\, giving you a solid foundation to expand your creativity. \nThe $20 supply fee includes all the materials to make a pendant similar—but not identical—to the photo. Each pendant will be one-of-a-kind. \nFace masks are recommended inside the gallery. \nRegister Now \n\nView other upcoming workshops\, information about the facility\, and policies on the Upcoming Workshops page.
URL:https://delrayartisans.org/event/have-a-heart/
LOCATION:Del Ray Artisans Gallery\, 2704 Mount Vernon Avenue\, Alexandria\, VA\, 22301\, United States
CATEGORIES:Creative Summer Programs,Program,Workshop
ATTACH;FMTTYPE=image/jpeg:https://delrayartisans.org/wp-content/uploads/2023/03/heart-pendant.jpg
ORGANIZER;CN="Amy Castine":MAILTO:amy.castine@aim.com
END:VEVENT
BEGIN:VEVENT
DTSTART;TZID=America/New_York:20230424T180000
DTEND;TZID=America/New_York:20230424T210000
DTSTAMP:20260423T024316
CREATED:20230329T135332Z
LAST-MODIFIED:20230430T161031Z
UID:10000210-1682359200-1682370000@delrayartisans.org
SUMMARY:RESCHEDULED: Have a Heart Workshop (New Date: June 5\, 2023)
DESCRIPTION:This workshop has been rescheduled to Monday\, June 5 from 6-9pm. \nInstructor: Amy Castine\nDate/Time: Monday\, April 24 from 6-9pm\nCost: $60 Del Ray Artisans member / $80 Non-member; plus a $20 Supply Fee\nClass size: 4-8 participants\n(Register by midnight on April 21) \nCome and create a fun piece of wearable bead art! While bead embroidery may look complicated\, it doesn’t have to be. In this workshop\, you will learn four beginning bead embroidery stitches as you create your own beautifully embellished heart pendant. Plus\, the skills you learn can be combined and added to all sorts of fiber arts\, giving you a solid foundation to expand your creativity. \nThe $20 supply fee includes all the materials to make a pendant similar—but not identical—to the photo. Each pendant will be one-of-a-kind. \nFace masks are recommended inside the gallery. \n  \n\nView other upcoming workshops\, information about the facility\, and policies on the Upcoming Workshops page.
URL:https://delrayartisans.org/event/have-a-heart-rescheduling/
LOCATION:Del Ray Artisans Gallery\, 2704 Mount Vernon Avenue\, Alexandria\, VA\, 22301\, United States
CATEGORIES:Program,Workshop
ATTACH;FMTTYPE=image/jpeg:https://delrayartisans.org/wp-content/uploads/2023/03/heart-pendant.jpg
ORGANIZER;CN="Amy Castine":MAILTO:amy.castine@aim.com
END:VEVENT
BEGIN:VEVENT
DTSTART;TZID=America/New_York:20220314T180000
DTEND;TZID=America/New_York:20220314T200000
DTSTAMP:20260423T024316
CREATED:20230329T210050Z
LAST-MODIFIED:20230408T161907Z
UID:10000359-1647280800-1647288000@delrayartisans.org
SUMMARY:Pick-a-Daisy: Beaded Daisy Chain Workshop
DESCRIPTION:Instructor: Amy Castine\nDate/Time: Monday\, March 14\, 2022 from 6-8pm\nCost: $10 DRA member and $15 Non-member; Plus bring your own supplies or purchase $10 bead kit\nClass size: 4-8 participants\n(Register by March 11) \nThis is the perfect class for budding young beaders. Kids aged 10 and up are welcome to come out and learn beginning bead weaving as they make a daisy chain bracelet or necklace. Learning the daisy chain stitch is a great way to make a fun project while developing needle handling skills and learning how to manage your thread. \nThe instructor will provide hands-on demonstrations and individual assistance\, as well as instructions with photos and text. Instructions include age and skill appropriate variations. \nNeedles and thread are available to all participants. Bead kits are available upon request (please allow 1 week’s notice to ensure materials availability) or bring your own supplies. \nPurchase a $10 bead kit or bring these supplies: \n\nAt least 2 colors of size 11/0 or size 8/0 seed beads\n\nSelect the most uniform beads you can find for a smoother result.\nSize 8/0 are larger and better for younger kids\, folks who have low vision\, and those with no needlework experience.\nSize 11/0 beads are smaller and will make a more delicate necklace or bracelet.\n\n\nBeading thread\n\nSelect a thinner thread for size 11/0 seed beads.\nIf you use larger beads\, get a thicker thread to help fill the larger hole in the beads.\nRecommend 6 or 8lb Fireline or Wildfire in a color to coordinate with the color of your beads. Fireline is available from fishing and outdoors stores. Wildfire is available from craft stores. Choose 6lb for size 11/0 seed beads and 8lb for size 8/0 seed beads.\n\n\nLobster claw\, toggle\, or magnetic clasp\nJump rings\n\nFace masks must be worn by all while visiting the gallery. \nRegister Now \n\nView other upcoming workshops\, information about the facility and policies on the Upcoming Workshops page.
URL:https://delrayartisans.org/event/daisy-chain/
LOCATION:Del Ray Artisans Gallery\, 2704 Mount Vernon Avenue\, Alexandria\, VA\, 22301\, United States
CATEGORIES:Program,Workshop
ATTACH;FMTTYPE=image/jpeg:https://delrayartisans.org/wp-content/uploads/2022/02/Daisy-1-cropped-scaled.jpg
ORGANIZER;CN="Amy Castine":MAILTO:amy.castine@aim.com
END:VEVENT
BEGIN:VEVENT
DTSTART;TZID=America/New_York:20210626T150000
DTEND;TZID=America/New_York:20210626T170000
DTSTAMP:20260423T024316
CREATED:20230329T205649Z
LAST-MODIFIED:20230329T205649Z
UID:10000279-1624719600-1624726800@delrayartisans.org
SUMMARY:ONLINE: Say Hello to My Lizard Friend
DESCRIPTION:Workshop: ONLINE: Say Hello to My Lizard FriendDate/Time: Saturday\, June 26 from 3-5pm\nInstructor: Amy CastineCost: $15 for Del Ray Artisans members and $25 for non-members\, plus an optional $15 supply kit\nClass size: 4-6 participants \nIf you have your own supplies\, register by 1pm on Saturday 6/26 (2 hours before the workshop!).\nRegister by 7:30pm on Friday 6/25 if ordering the supply kit and pick up at Del Ray Artisans gallery (2704 Mount Vernon Avenue\, Alexandria VA) between 5-8pm on 6/25.\n\nWhile making a three dimensional lizard\, students will learn the basics of wire weaving. We will use a simple template and medium gauge wire to form the base of the lizard and add beads of each student’s choice woven into the frame with thin gauge wire. Everyone can personalize their creature in natural or fantastical colors. This class is a good introduction for anyone who wants to develop their skills as a wire weaver. Ages 12 and up. \nPurchase the $15 supply kit of wire and beads (students will need their own pliers) or make sure you have these supplies to make your lizard friend: \n\n10 yards 18 g wire\n30-40 yards 22 g wire\n24 grams size 8/0 seed beads\n2 fancy beads for eyes\npliers\n\nIf you purchase a supply kit\, please pick it up at the gallery on Friday\, June 25 between 5-8pm. \nThis workshop will be online through the Zoom platform. Registered participants will be sent the connection information via email two days before the workshop and again one hour before the workshop. You may attend on a computer\, tablet\, or smartphone. \nRegister Now \n\nView other upcoming workshops\, information about the facility\, and policies on the Upcoming Workshops page.
URL:https://delrayartisans.org/event/online-say-hello-to-my-lizard-friend/
LOCATION:Online
CATEGORIES:Creative Summer Programs,Program,Workshop
ATTACH;FMTTYPE=image/jpeg:https://delrayartisans.org/wp-content/uploads/2021/05/Lizard-1-Amy-Castine.jpg
ORGANIZER;CN="Amy Castine":MAILTO:amy.castine@aim.com
END:VEVENT
END:VCALENDAR