BEGIN:VCALENDAR
VERSION:2.0
PRODID:-//Del Ray Artisans - ECPv6.15.20//NONSGML v1.0//EN
CALSCALE:GREGORIAN
METHOD:PUBLISH
X-ORIGINAL-URL:https://delrayartisans.org
X-WR-CALDESC:Events for Del Ray Artisans
REFRESH-INTERVAL;VALUE=DURATION:PT1H
X-Robots-Tag:noindex
X-PUBLISHED-TTL:PT1H
BEGIN:VTIMEZONE
TZID:America/New_York
BEGIN:DAYLIGHT
TZOFFSETFROM:-0500
TZOFFSETTO:-0400
TZNAME:EDT
DTSTART:20230312T070000
END:DAYLIGHT
BEGIN:STANDARD
TZOFFSETFROM:-0400
TZOFFSETTO:-0500
TZNAME:EST
DTSTART:20231105T060000
END:STANDARD
BEGIN:DAYLIGHT
TZOFFSETFROM:-0500
TZOFFSETTO:-0400
TZNAME:EDT
DTSTART:20240310T070000
END:DAYLIGHT
BEGIN:STANDARD
TZOFFSETFROM:-0400
TZOFFSETTO:-0500
TZNAME:EST
DTSTART:20241103T060000
END:STANDARD
BEGIN:DAYLIGHT
TZOFFSETFROM:-0500
TZOFFSETTO:-0400
TZNAME:EDT
DTSTART:20250309T070000
END:DAYLIGHT
BEGIN:STANDARD
TZOFFSETFROM:-0400
TZOFFSETTO:-0500
TZNAME:EST
DTSTART:20251102T060000
END:STANDARD
END:VTIMEZONE
BEGIN:VEVENT
DTSTART;TZID=America/New_York:20240802T190000
DTEND;TZID=America/New_York:20240802T210000
DTSTAMP:20260423T042235
CREATED:20231127T213204Z
LAST-MODIFIED:20240711T191914Z
UID:10001303-1722625200-1722632400@delrayartisans.org
SUMMARY:"The Science of our Surroundings" Art Exhibit Opening Reception
DESCRIPTION:The Science of our Surroundings Art Exhibit\nAugust 2–31\, 2024\nOpening Reception: Friday\, August 2 from 7–9pm\nDel Ray Artisans invites you to join us at The Science of Our Surroundings\, a science-themed art exhibit. A cutaway of a cell. The food chain. The visible light spectrum. A dinosaur skeleton. The layers of the Earth\, from the crust to the core. Each of these scientific concepts immediately conjure vivid\, colorful images in our collective minds\, thanks to the diligent and tireless work of science textbook artists. Come see how our artistic community has explored these concepts of science! Expect to see photography\, experiments\, paintings\, sculptures and media that illustrate the science of our surroundings. \nJoin us for the opening reception on Friday\, August 2 between 7-9pm to meet curators Aaron Fletchersmith and Amanda Fletchersmith and the artists. Mark your calendar now or set a reminder through Eventbrite. \nDuring this exhibit\, Del Ray Artisans is launching a new program of free\, interactive classes about Science\, Technology\, Engineering\, Arts and Math (STEAM)\, taught by professionals from each field! Geared toward kids and teens\, each lesson has a short talk or demonstration and a hands-on craft project. Each topic will have two sessions: one for youth ages 6-10 and another for ages 10-15 (10 year olds choose which session to attend). Family members are welcome to attend\, listen\, and learn. Register in advance to ensure your child’s spot\, but drop-ins are welcome space permitting. STEAM-tastic activities include: \n\nPaleolithic Archaeology – Cave Painting for Ages 6-10 on Saturday\, August 3\, 10am-11:30am and Ages 10-15 on Sunday\, August 4\, 10am-11:30am\n \nSatellites in Outer Space – Antenna Pointing for Ages 10-15 on Saturday\, August 17\, 5-7pm and Satellite Construction for Ages 6-10 on Sunday\, August 18\, 10am-12pm\n \nFrom Cells to Biomes – Fluid Pours for Ages 6-10 on Saturday\, August 31\, 9am-11am and Ages 10-15 on Saturday\, August 31\, 11am-1pm\n \n\nIn addition\, our Creative Summer Programs schedule continues until August 31. Mark your calendar for the family-friendly Science Scavenger Hunt on First Thursday\, August 1\, 6:30-8pm (free\, drop-in) and get a sneak peek of the art exhibit. Plus review the summer schedule for creative workshops\, life drawing sessions\, book club\, artist support groups\, and more. \nThe Science of our Surroundings exhibit runs August 2–31\, 2024 at Del Ray Artisans gallery in the Colasanto Center\, 2704 Mount Vernon Avenue\, Alexandria\, Virginia 22301. Gallery hours are Thursday 12-6pm\, Friday 12-9pm\, Saturday 12-6pm\, and Sunday 12-6pm (closed September 1\, 2024). \nThe gallery is free\, open to the public\, and accessible. Del Ray Artisans\, a 501(3)(c) nonprofit organization whose mission is to promote art for the benefit of artists and the community. \nFor more information\, contact curators Aaron Fletchersmith at aaron.fletchersmith@gmail.com and Amanda Fletchersmith at amanda.fletchersmith@gmail.com or Director of Curating Amy Kitchin Hower at curating@delrayartisans.org. \n\nArtwork credit: Artwork by A & A Fletchersmith
URL:https://delrayartisans.org/event/surroundings-reception/
LOCATION:Del Ray Artisans Gallery\, 2704 Mount Vernon Avenue\, Alexandria\, VA\, 22301\, United States
ATTACH;FMTTYPE=image/jpeg:https://delrayartisans.org/wp-content/uploads/2023/11/art-by-a-and-a-fletchersmith.jpg
ORGANIZER;CN="Aaron Fletchersmith":MAILTO:aaron.fletchersmith@gmail.com
END:VEVENT
BEGIN:VEVENT
DTSTART;VALUE=DATE:20240802
DTEND;VALUE=DATE:20240901
DTSTAMP:20260423T042235
CREATED:20231127T212930Z
LAST-MODIFIED:20240711T191948Z
UID:10001302-1722556800-1725148799@delrayartisans.org
SUMMARY:The Science of our Surroundings at Del Ray Artisans Gallery
DESCRIPTION:The Science of our Surroundings Art Exhibit\nAugust 2–31\, 2024\nOpening Reception: Friday\, August 2 from 7–9pm\nDel Ray Artisans invites you to join us at The Science of Our Surroundings\, a science-themed art exhibit. A cutaway of a cell. The food chain. The visible light spectrum. A dinosaur skeleton. The layers of the Earth\, from the crust to the core. Each of these scientific concepts immediately conjure vivid\, colorful images in our collective minds\, thanks to the diligent and tireless work of science textbook artists. Come see how our artistic community has explored these concepts of science! Expect to see photography\, experiments\, paintings\, sculptures and media that illustrate the science of our surroundings. \nJoin us for the opening reception on Friday\, August 2 between 7-9pm to meet curators Aaron Fletchersmith and Amanda Fletchersmith and the artists. Mark your calendar now or set a reminder through Eventbrite. \nDuring this exhibit\, Del Ray Artisans is launching a new program of free\, interactive classes about Science\, Technology\, Engineering\, Arts and Math (STEAM)\, taught by professionals from each field! Geared toward kids and teens\, each lesson has a short talk or demonstration and a hands-on craft project. Each topic will have two sessions: one for youth ages 6-10 and another for ages 10-15 (10 year olds choose which session to attend). Family members are welcome to attend\, listen\, and learn. Register in advance to ensure your child’s spot\, but drop-ins are welcome space permitting. STEAM-tastic activities include: \n\nPaleolithic Archaeology – Cave Painting for Ages 6-10 on Saturday\, August 3\, 10am-11:30am and Ages 10-15 on Sunday\, August 4\, 10am-11:30am\n \nSatellites in Outer Space – Antenna Pointing for Ages 10-15 on Saturday\, August 17\, 5-7pm and Satellite Construction for Ages 6-10 on Sunday\, August 18\, 10am-12pm\n \nFrom Cells to Biomes – Fluid Pours for Ages 6-10 on Saturday\, August 31\, 9am-11am and Ages 10-15 on Saturday\, August 31\, 11am-1pm\n \n\nIn addition\, our Creative Summer Programs schedule continues until August 31. Mark your calendar for the family-friendly Science Scavenger Hunt on First Thursday\, August 1\, 6:30-8pm (free\, drop-in) and get a sneak peek of the art exhibit. Plus review the summer schedule for creative workshops\, life drawing sessions\, book club\, artist support groups\, and more. \nThe Science of our Surroundings exhibit runs August 2–31\, 2024 at Del Ray Artisans gallery in the Colasanto Center\, 2704 Mount Vernon Avenue\, Alexandria\, Virginia 22301. Gallery hours are Thursday 12-6pm\, Friday 12-9pm\, Saturday 12-6pm\, and Sunday 12-6pm (closed September 1\, 2024). \nThe gallery is free\, open to the public\, and accessible. Del Ray Artisans\, a 501(3)(c) nonprofit organization whose mission is to promote art for the benefit of artists and the community. \nFor more information\, contact curators Aaron Fletchersmith at aaron.fletchersmith@gmail.com and Amanda Fletchersmith at amanda.fletchersmith@gmail.com or Director of Curating Amy Kitchin Hower at curating@delrayartisans.org. \n\nArtwork credit: Artwork by A & A Fletchersmith
URL:https://delrayartisans.org/event/surroundings/
LOCATION:Del Ray Artisans Gallery\, 2704 Mount Vernon Avenue\, Alexandria\, VA\, 22301\, United States
CATEGORIES:Art Exhibit,Del Ray Artisans Gallery
ATTACH;FMTTYPE=image/jpeg:https://delrayartisans.org/wp-content/uploads/2023/11/art-by-a-and-a-fletchersmith.jpg
ORGANIZER;CN="Aaron Fletchersmith":MAILTO:aaron.fletchersmith@gmail.com
END:VEVENT
BEGIN:VEVENT
DTSTART;TZID=America/New_York:20240715T235900
DTEND;TZID=America/New_York:20240715T235900
DTSTAMP:20260423T042235
CREATED:20240515T160314Z
LAST-MODIFIED:20240711T155117Z
UID:10001412-1721087940-1721087940@delrayartisans.org
SUMMARY:“The Science of our Surroundings” Call for Entry Deadline
DESCRIPTION:Call for Entry ~ Open to area artists\nThe Science of our Surroundings\nExhibit Dates: August 2-31\, 2024\nDigital entry deadline extended to Monday\, July 15\, 2024 by midnight\nScience is in everything we do and see. Create something that celebrates your favorite part of this expansive subject. What science inspires you? Diagrams\, vocabulary\, photography\, scientific illustration\, contraptions\, etc. Share your favorite elements of science\, be it current or nostalgic—and the sky’s the limit! \nThe exhibit is open to all area artists. Del Ray Artisans members pay a discounted entry fee. \nEntry Details & Form
URL:https://delrayartisans.org/event/surroundings-deadline/
LOCATION:Online
CATEGORIES:Entry Deadline
ORGANIZER;CN="Aaron Fletchersmith":MAILTO:aaron.fletchersmith@gmail.com
END:VEVENT
END:VCALENDAR