BEGIN:VCALENDAR
VERSION:2.0
PRODID:-//Del Ray Artisans - ECPv6.15.20//NONSGML v1.0//EN
CALSCALE:GREGORIAN
METHOD:PUBLISH
X-WR-CALNAME:Del Ray Artisans
X-ORIGINAL-URL:https://delrayartisans.org
X-WR-CALDESC:Events for Del Ray Artisans
REFRESH-INTERVAL;VALUE=DURATION:PT1H
X-Robots-Tag:noindex
X-PUBLISHED-TTL:PT1H
BEGIN:VTIMEZONE
TZID:America/New_York
BEGIN:DAYLIGHT
TZOFFSETFROM:-0500
TZOFFSETTO:-0400
TZNAME:EDT
DTSTART:20180311T070000
END:DAYLIGHT
BEGIN:STANDARD
TZOFFSETFROM:-0400
TZOFFSETTO:-0500
TZNAME:EST
DTSTART:20181104T060000
END:STANDARD
BEGIN:DAYLIGHT
TZOFFSETFROM:-0500
TZOFFSETTO:-0400
TZNAME:EDT
DTSTART:20190310T070000
END:DAYLIGHT
BEGIN:STANDARD
TZOFFSETFROM:-0400
TZOFFSETTO:-0500
TZNAME:EST
DTSTART:20191103T060000
END:STANDARD
BEGIN:DAYLIGHT
TZOFFSETFROM:-0500
TZOFFSETTO:-0400
TZNAME:EDT
DTSTART:20200308T070000
END:DAYLIGHT
BEGIN:STANDARD
TZOFFSETFROM:-0400
TZOFFSETTO:-0500
TZNAME:EST
DTSTART:20201101T060000
END:STANDARD
BEGIN:DAYLIGHT
TZOFFSETFROM:-0500
TZOFFSETTO:-0400
TZNAME:EDT
DTSTART:20210314T070000
END:DAYLIGHT
BEGIN:STANDARD
TZOFFSETFROM:-0400
TZOFFSETTO:-0500
TZNAME:EST
DTSTART:20211107T060000
END:STANDARD
BEGIN:DAYLIGHT
TZOFFSETFROM:-0500
TZOFFSETTO:-0400
TZNAME:EDT
DTSTART:20220313T070000
END:DAYLIGHT
BEGIN:STANDARD
TZOFFSETFROM:-0400
TZOFFSETTO:-0500
TZNAME:EST
DTSTART:20221106T060000
END:STANDARD
BEGIN:DAYLIGHT
TZOFFSETFROM:-0500
TZOFFSETTO:-0400
TZNAME:EDT
DTSTART:20230312T070000
END:DAYLIGHT
BEGIN:STANDARD
TZOFFSETFROM:-0400
TZOFFSETTO:-0500
TZNAME:EST
DTSTART:20231105T060000
END:STANDARD
END:VTIMEZONE
BEGIN:VEVENT
DTSTART;TZID=America/New_York:20220618T080000
DTEND;TZID=America/New_York:20220618T103000
DTSTAMP:20260423T091602
CREATED:20230329T232318Z
LAST-MODIFIED:20230329T232343Z
UID:10000518-1655539200-1655548200@delrayartisans.org
SUMMARY:Volunteer in the Gardens
DESCRIPTION:Our gardens have a great start for this year thanks to all the March and April volunteers who helped clear away the winter blahs.  A huge thank you goes to Pamela Underhill for her vision\, green thumb\, and many years of work transforming the gardens to what they look like today. To be a part of this effort\, join the committee on the third Saturday morning of every month: \n\nMay 21\, 9-11:30am\nJune 18\, 8-10:30am (starting at 8am!)\nJuly 16\, 8-10:30am (starting at 8am!)\nAugust 20\, 8-10:30am (starting at 8am!)\nSeptember 17\, 9-11:30am\nOctober 15\, 9-11:30am\n\nBring gloves\, knee pads (if desired)\, and laughter. Even if you don’t know what a weed is\, we can teach you. Volunteer for 1 hour or the whole 2.5 hours. If you have any questions\, please email Kurt and Jenny at Gardens@DelRayArtisans.org. \nMEMBERS: This task counts towards your annual membership volunteer hours. \nNON-MEMBERS: You are welcome to come help and learn too. \nThank you for your volunteer time! \nNOTE: All plantings and transplantings must be approved by the Garden Committee. The Garden Committee approval is important to make sure the plants that get chosen are great for nature\, located properly for the right amount of sun or shade\, don’t conflict with other plants or facility needs\, and fit into the overall garden plan with maintenance in mind.
URL:https://delrayartisans.org/event/volunteer-in-the-gardens-2022/2022-06-18/
LOCATION:Del Ray Artisans Gallery\, 2704 Mount Vernon Avenue\, Alexandria\, VA\, 22301\, United States
CATEGORIES:Volunteer
ATTACH;FMTTYPE=image/jpeg:https://delrayartisans.org/wp-content/uploads/2022/08/garden-volunteers.jpg
ORGANIZER;CN="Facilities Director":MAILTO:Facilities@DelRayArtisans.org
END:VEVENT
BEGIN:VEVENT
DTSTART;TZID=America/New_York:20220521T090000
DTEND;TZID=America/New_York:20220521T113000
DTSTAMP:20260423T091602
CREATED:20230329T232318Z
LAST-MODIFIED:20230329T232343Z
UID:10000517-1653123600-1653132600@delrayartisans.org
SUMMARY:Volunteer in the Gardens
DESCRIPTION:Our gardens have a great start for this year thanks to all the March and April volunteers who helped clear away the winter blahs.  A huge thank you goes to Pamela Underhill for her vision\, green thumb\, and many years of work transforming the gardens to what they look like today. To be a part of this effort\, join the committee on the third Saturday morning of every month: \n\nMay 21\, 9-11:30am\nJune 18\, 8-10:30am (starting at 8am!)\nJuly 16\, 8-10:30am (starting at 8am!)\nAugust 20\, 8-10:30am (starting at 8am!)\nSeptember 17\, 9-11:30am\nOctober 15\, 9-11:30am\n\nBring gloves\, knee pads (if desired)\, and laughter. Even if you don’t know what a weed is\, we can teach you. Volunteer for 1 hour or the whole 2.5 hours. If you have any questions\, please email Kurt and Jenny at Gardens@DelRayArtisans.org. \nMEMBERS: This task counts towards your annual membership volunteer hours. \nNON-MEMBERS: You are welcome to come help and learn too. \nThank you for your volunteer time! \nNOTE: All plantings and transplantings must be approved by the Garden Committee. The Garden Committee approval is important to make sure the plants that get chosen are great for nature\, located properly for the right amount of sun or shade\, don’t conflict with other plants or facility needs\, and fit into the overall garden plan with maintenance in mind.
URL:https://delrayartisans.org/event/volunteer-in-the-gardens-2022/2022-05-21/
LOCATION:Del Ray Artisans Gallery\, 2704 Mount Vernon Avenue\, Alexandria\, VA\, 22301\, United States
CATEGORIES:Volunteer
ATTACH;FMTTYPE=image/jpeg:https://delrayartisans.org/wp-content/uploads/2022/08/garden-volunteers.jpg
ORGANIZER;CN="Facilities Director":MAILTO:Facilities@DelRayArtisans.org
END:VEVENT
BEGIN:VEVENT
DTSTART;TZID=America/New_York:20220423T090000
DTEND;TZID=America/New_York:20220423T113000
DTSTAMP:20260423T091602
CREATED:20230329T231748Z
LAST-MODIFIED:20230329T232116Z
UID:10000514-1650704400-1650713400@delrayartisans.org
SUMMARY:Volunteer in the Gardens
DESCRIPTION:Help clear away the winter blahs in preparation for spring blooms! It’s time again to give the garden some love and a good cleaning\, so please come out and join us. Bring gloves\, knee pads\, and laughter. Even if you don’t know what a weed is\, we can teach you. Volunteer for 1 hour or 2.5 hours on: \n\nSaturday\, March 26 from 9am-11:30am\nSaturday\, April 23 from 9-11:30am\n\nDONATION REQUEST: We are looking for a 50′ heavy duty garden hose. Any questions\, please contact Kurt at Facilities@DelRayArtisans.org. \nMEMBERS: This task counts towards your annual membership volunteer hours. \nNON-MEMBERS: You are welcome to come help and learn too. \nThank you for your volunteer time! \nNOTE: All plantings must be approved by the Garden Committee.
URL:https://delrayartisans.org/event/volunteer-in-the-gardens-spring-2022/2022-04-23/
LOCATION:Del Ray Artisans Gallery\, 2704 Mount Vernon Avenue\, Alexandria\, VA\, 22301\, United States
CATEGORIES:Volunteer
ATTACH;FMTTYPE=image/jpeg:https://delrayartisans.org/wp-content/uploads/2022/08/garden-volunteers.jpg
ORGANIZER;CN="Facilities Director":MAILTO:Facilities@DelRayArtisans.org
END:VEVENT
BEGIN:VEVENT
DTSTART;TZID=America/New_York:20220326T090000
DTEND;TZID=America/New_York:20220326T113000
DTSTAMP:20260423T091602
CREATED:20230329T231748Z
LAST-MODIFIED:20230329T232116Z
UID:10000513-1648285200-1648294200@delrayartisans.org
SUMMARY:Volunteer in the Gardens
DESCRIPTION:Help clear away the winter blahs in preparation for spring blooms! It’s time again to give the garden some love and a good cleaning\, so please come out and join us. Bring gloves\, knee pads\, and laughter. Even if you don’t know what a weed is\, we can teach you. Volunteer for 1 hour or 2.5 hours on: \n\nSaturday\, March 26 from 9am-11:30am\nSaturday\, April 23 from 9-11:30am\n\nDONATION REQUEST: We are looking for a 50′ heavy duty garden hose. Any questions\, please contact Kurt at Facilities@DelRayArtisans.org. \nMEMBERS: This task counts towards your annual membership volunteer hours. \nNON-MEMBERS: You are welcome to come help and learn too. \nThank you for your volunteer time! \nNOTE: All plantings must be approved by the Garden Committee.
URL:https://delrayartisans.org/event/volunteer-in-the-gardens-spring-2022/2022-03-26/
LOCATION:Del Ray Artisans Gallery\, 2704 Mount Vernon Avenue\, Alexandria\, VA\, 22301\, United States
CATEGORIES:Volunteer
ATTACH;FMTTYPE=image/jpeg:https://delrayartisans.org/wp-content/uploads/2022/08/garden-volunteers.jpg
ORGANIZER;CN="Facilities Director":MAILTO:Facilities@DelRayArtisans.org
END:VEVENT
BEGIN:VEVENT
DTSTART;TZID=America/New_York:20210430T120000
DTEND;TZID=America/New_York:20210430T200000
DTSTAMP:20260423T091602
CREATED:20230329T205519Z
LAST-MODIFIED:20230329T205519Z
UID:10000249-1619784000-1619812800@delrayartisans.org
SUMMARY:Special Extended Hours Today – open 12-8pm!
DESCRIPTION:Come see the Unfinished/Finished art exhibit today (Friday\, April 30\, 2021) during the special extended hours: Open Noon-8pm! \nThis is the last day of the full exhibit! The art exhibit starts coming down on Saturday\, May 1\, but you can still see many of the artworks on display during Saturday gallery hours (12-4pm).
URL:https://delrayartisans.org/event/special-extended-hours-today-open-12-8pm/
LOCATION:Del Ray Artisans Gallery\, 2704 Mount Vernon Avenue\, Alexandria\, VA\, 22301\, United States
CATEGORIES:Volunteer
ATTACH;FMTTYPE=image/png:https://delrayartisans.org/wp-content/uploads/2021/03/Unfinished_Finished-Postcard_Front.png
END:VEVENT
BEGIN:VEVENT
DTSTART;TZID=America/New_York:20210424T140000
DTEND;TZID=America/New_York:20210424T160000
DTSTAMP:20260423T091602
CREATED:20230329T205516Z
LAST-MODIFIED:20230329T205516Z
UID:10000246-1619272800-1619280000@delrayartisans.org
SUMMARY:Gallery Closed for Workshop
DESCRIPTION:The gallery will be closed to the public from 2-4pm on Saturday\, April 24\, 2021 for the Music as Muse workshop. \nThis workshop has been moved indoors due to the expected rain. Workshop participants must have registered in advance. This workshop is full. \nCome see the Unfinished/Finished art exhibit during the special extended hours on Friday\, April 23\, 2021: Open Noon-9pm!
URL:https://delrayartisans.org/event/gallery-closed-for-workshop/
LOCATION:Del Ray Artisans Gallery\, 2704 Mount Vernon Avenue\, Alexandria\, VA\, 22301\, United States
CATEGORIES:Volunteer
ATTACH;FMTTYPE=image/jpeg:https://delrayartisans.org/wp-content/uploads/2021/03/dra-petalporchparade.jpg
END:VEVENT
BEGIN:VEVENT
DTSTART;TZID=America/New_York:20210423T120000
DTEND;TZID=America/New_York:20210423T210000
DTSTAMP:20260423T091602
CREATED:20230329T205506Z
LAST-MODIFIED:20230329T205506Z
UID:10000245-1619179200-1619211600@delrayartisans.org
SUMMARY:Special Extended Hours Today – open 12-9pm!
DESCRIPTION:Come see the Unfinished/Finished art exhibit today (Friday\, April 23\, 2021) during the special extended hours: Open Noon-9pm!
URL:https://delrayartisans.org/event/special-extended-hours-today-open-12-9pm/
LOCATION:Del Ray Artisans Gallery\, 2704 Mount Vernon Avenue\, Alexandria\, VA\, 22301\, United States
CATEGORIES:Volunteer
ATTACH;FMTTYPE=image/png:https://delrayartisans.org/wp-content/uploads/2021/03/Unfinished_Finished-Postcard_Front.png
END:VEVENT
BEGIN:VEVENT
DTSTART;TZID=America/New_York:20210418T090000
DTEND;TZID=America/New_York:20210418T120000
DTSTAMP:20260423T091602
CREATED:20230329T205503Z
LAST-MODIFIED:20230329T211624Z
UID:10000243-1618736400-1618747200@delrayartisans.org
SUMMARY:Volunteer in the Garden
DESCRIPTION:Spring is here! Del Ray Artisans’ gardens need some TLC.Join the Facilities Director\, Kurt Peterson\, on Saturday\, April 17 from 9am-11am or Sunday\, April 18 from 9am-noon (or both days!) to help clean the gardens. Please bring garden gloves\, laughter and a mask. See you there! \nMEMBERS: This task counts towards your annual membership volunteer hours. \nNON-MEMBERS: You are welcome to come help too! \nThank you for your volunteer time.
URL:https://delrayartisans.org/event/volunteer-in-the-garden-4-18-2021/
LOCATION:VA
CATEGORIES:Volunteer
ATTACH;FMTTYPE=image/jpeg:https://delrayartisans.org/wp-content/uploads/1992/12/5937817427_c844d5b6a7_z-coszqu.tmp.jpg
ORGANIZER;CN="Facilities Director":MAILTO:Facilities@DelRayArtisans.org
END:VEVENT
BEGIN:VEVENT
DTSTART;TZID=America/New_York:20210417T090000
DTEND;TZID=America/New_York:20210417T110000
DTSTAMP:20260423T091602
CREATED:20230329T205501Z
LAST-MODIFIED:20230329T211638Z
UID:10000241-1618650000-1618657200@delrayartisans.org
SUMMARY:Volunteer in the Garden
DESCRIPTION:Spring is here! Del Ray Artisans’ gardens need some TLC.Join the Facilities Director\, Kurt Peterson\, on Saturday\, April 17 from 9am-11am or Sunday\, April 18 from 9am-noon (or both days!) to help clean the gardens. Please bring garden gloves\, laughter and a mask. See you there! \nMEMBERS: This task counts towards your annual membership volunteer hours. \nNON-MEMBERS: You are welcome to come help too! \nThank you for your volunteer time.
URL:https://delrayartisans.org/event/volunteer-in-the-garden-4-17-2021/
LOCATION:VA
CATEGORIES:Volunteer
ATTACH;FMTTYPE=image/jpeg:https://delrayartisans.org/wp-content/uploads/1992/12/5937817427_c844d5b6a7_z-coszqu.tmp.jpg
ORGANIZER;CN="Facilities Director":MAILTO:Facilities@DelRayArtisans.org
END:VEVENT
BEGIN:VEVENT
DTSTART;TZID=America/New_York:20200104T133000
DTEND;TZID=America/New_York:20200104T163000
DTSTAMP:20260423T091602
CREATED:20230410T144445Z
LAST-MODIFIED:20230410T165540Z
UID:10001046-1578144600-1578155400@delrayartisans.org
SUMMARY:Gallery Painting
DESCRIPTION:Get your annual membership 12+ hours of volunteering completed before the year’s end by helping fellow members paint the gallery. Over the Holiday break we will be painting the gallery\, kitchen\, and bathrooms. Contact Kurt Peterson at Facilities@DelRayArtisans.org to sign up. Here are the shifts to volunteer: \n\n\nSaturday\, December 28\, 9am-12pm and 1:30-4:30pm\nSunday\, December 29\, 12-4pm\nFriday\, January 3\, 9am-12pm and 1:30pm-4:30pm\nSaturday\, January 4\, 9am-12pm and 1:30-4:30pm
URL:https://delrayartisans.org/event/gallery-painting-2019-2020/2020-01-04/2/
LOCATION:Del Ray Artisans Gallery\, 2704 Mount Vernon Avenue\, Alexandria\, VA\, 22301\, United States
CATEGORIES:Volunteer
ATTACH;FMTTYPE=image/jpeg:https://delrayartisans.org/wp-content/uploads/1992/12/event-archive-image.jpg
ORGANIZER;CN="Facilities Director":MAILTO:Facilities@DelRayArtisans.org
END:VEVENT
BEGIN:VEVENT
DTSTART;TZID=America/New_York:20200104T090000
DTEND;TZID=America/New_York:20200104T120000
DTSTAMP:20260423T091602
CREATED:20230410T144445Z
LAST-MODIFIED:20230410T165540Z
UID:10001045-1578128400-1578139200@delrayartisans.org
SUMMARY:Gallery Painting
DESCRIPTION:Get your annual membership 12+ hours of volunteering completed before the year’s end by helping fellow members paint the gallery. Over the Holiday break we will be painting the gallery\, kitchen\, and bathrooms. Contact Kurt Peterson at Facilities@DelRayArtisans.org to sign up. Here are the shifts to volunteer: \n\n\nSaturday\, December 28\, 9am-12pm and 1:30-4:30pm\nSunday\, December 29\, 12-4pm\nFriday\, January 3\, 9am-12pm and 1:30pm-4:30pm\nSaturday\, January 4\, 9am-12pm and 1:30-4:30pm
URL:https://delrayartisans.org/event/gallery-painting-2019-2020/2020-01-04/1/
LOCATION:Del Ray Artisans Gallery\, 2704 Mount Vernon Avenue\, Alexandria\, VA\, 22301\, United States
CATEGORIES:Volunteer
ATTACH;FMTTYPE=image/jpeg:https://delrayartisans.org/wp-content/uploads/1992/12/event-archive-image.jpg
ORGANIZER;CN="Facilities Director":MAILTO:Facilities@DelRayArtisans.org
END:VEVENT
BEGIN:VEVENT
DTSTART;TZID=America/New_York:20200103T133000
DTEND;TZID=America/New_York:20200103T163000
DTSTAMP:20260423T091602
CREATED:20230410T144445Z
LAST-MODIFIED:20230410T165540Z
UID:10001044-1578058200-1578069000@delrayartisans.org
SUMMARY:Gallery Painting
DESCRIPTION:Get your annual membership 12+ hours of volunteering completed before the year’s end by helping fellow members paint the gallery. Over the Holiday break we will be painting the gallery\, kitchen\, and bathrooms. Contact Kurt Peterson at Facilities@DelRayArtisans.org to sign up. Here are the shifts to volunteer: \n\n\nSaturday\, December 28\, 9am-12pm and 1:30-4:30pm\nSunday\, December 29\, 12-4pm\nFriday\, January 3\, 9am-12pm and 1:30pm-4:30pm\nSaturday\, January 4\, 9am-12pm and 1:30-4:30pm
URL:https://delrayartisans.org/event/gallery-painting-2019-2020/2020-01-03/2/
LOCATION:Del Ray Artisans Gallery\, 2704 Mount Vernon Avenue\, Alexandria\, VA\, 22301\, United States
CATEGORIES:Volunteer
ATTACH;FMTTYPE=image/jpeg:https://delrayartisans.org/wp-content/uploads/1992/12/event-archive-image.jpg
ORGANIZER;CN="Facilities Director":MAILTO:Facilities@DelRayArtisans.org
END:VEVENT
BEGIN:VEVENT
DTSTART;TZID=America/New_York:20200103T090000
DTEND;TZID=America/New_York:20200103T120000
DTSTAMP:20260423T091602
CREATED:20230410T144445Z
LAST-MODIFIED:20230410T165540Z
UID:10001043-1578042000-1578052800@delrayartisans.org
SUMMARY:Gallery Painting
DESCRIPTION:Get your annual membership 12+ hours of volunteering completed before the year’s end by helping fellow members paint the gallery. Over the Holiday break we will be painting the gallery\, kitchen\, and bathrooms. Contact Kurt Peterson at Facilities@DelRayArtisans.org to sign up. Here are the shifts to volunteer: \n\n\nSaturday\, December 28\, 9am-12pm and 1:30-4:30pm\nSunday\, December 29\, 12-4pm\nFriday\, January 3\, 9am-12pm and 1:30pm-4:30pm\nSaturday\, January 4\, 9am-12pm and 1:30-4:30pm
URL:https://delrayartisans.org/event/gallery-painting-2019-2020/2020-01-03/1/
LOCATION:Del Ray Artisans Gallery\, 2704 Mount Vernon Avenue\, Alexandria\, VA\, 22301\, United States
CATEGORIES:Volunteer
ATTACH;FMTTYPE=image/jpeg:https://delrayartisans.org/wp-content/uploads/1992/12/event-archive-image.jpg
ORGANIZER;CN="Facilities Director":MAILTO:Facilities@DelRayArtisans.org
END:VEVENT
BEGIN:VEVENT
DTSTART;TZID=America/New_York:20191229T120000
DTEND;TZID=America/New_York:20191229T160000
DTSTAMP:20260423T091602
CREATED:20230410T144445Z
LAST-MODIFIED:20230410T165540Z
UID:10001042-1577620800-1577635200@delrayartisans.org
SUMMARY:Gallery Painting
DESCRIPTION:Get your annual membership 12+ hours of volunteering completed before the year’s end by helping fellow members paint the gallery. Over the Holiday break we will be painting the gallery\, kitchen\, and bathrooms. Contact Kurt Peterson at Facilities@DelRayArtisans.org to sign up. Here are the shifts to volunteer: \n\n\nSaturday\, December 28\, 9am-12pm and 1:30-4:30pm\nSunday\, December 29\, 12-4pm\nFriday\, January 3\, 9am-12pm and 1:30pm-4:30pm\nSaturday\, January 4\, 9am-12pm and 1:30-4:30pm
URL:https://delrayartisans.org/event/gallery-painting-2019-2020/2019-12-29/
LOCATION:Del Ray Artisans Gallery\, 2704 Mount Vernon Avenue\, Alexandria\, VA\, 22301\, United States
CATEGORIES:Volunteer
ATTACH;FMTTYPE=image/jpeg:https://delrayartisans.org/wp-content/uploads/1992/12/event-archive-image.jpg
ORGANIZER;CN="Facilities Director":MAILTO:Facilities@DelRayArtisans.org
END:VEVENT
BEGIN:VEVENT
DTSTART;TZID=America/New_York:20191228T133000
DTEND;TZID=America/New_York:20191228T163000
DTSTAMP:20260423T091602
CREATED:20230410T144445Z
LAST-MODIFIED:20230410T165540Z
UID:10001041-1577539800-1577550600@delrayartisans.org
SUMMARY:Gallery Painting
DESCRIPTION:Get your annual membership 12+ hours of volunteering completed before the year’s end by helping fellow members paint the gallery. Over the Holiday break we will be painting the gallery\, kitchen\, and bathrooms. Contact Kurt Peterson at Facilities@DelRayArtisans.org to sign up. Here are the shifts to volunteer: \n\n\nSaturday\, December 28\, 9am-12pm and 1:30-4:30pm\nSunday\, December 29\, 12-4pm\nFriday\, January 3\, 9am-12pm and 1:30pm-4:30pm\nSaturday\, January 4\, 9am-12pm and 1:30-4:30pm
URL:https://delrayartisans.org/event/gallery-painting-2019-2020/2019-12-28/2/
LOCATION:Del Ray Artisans Gallery\, 2704 Mount Vernon Avenue\, Alexandria\, VA\, 22301\, United States
CATEGORIES:Volunteer
ATTACH;FMTTYPE=image/jpeg:https://delrayartisans.org/wp-content/uploads/1992/12/event-archive-image.jpg
ORGANIZER;CN="Facilities Director":MAILTO:Facilities@DelRayArtisans.org
END:VEVENT
BEGIN:VEVENT
DTSTART;TZID=America/New_York:20191228T090000
DTEND;TZID=America/New_York:20191228T120000
DTSTAMP:20260423T091602
CREATED:20230410T144445Z
LAST-MODIFIED:20230410T165540Z
UID:10001000-1577523600-1577534400@delrayartisans.org
SUMMARY:Gallery Painting
DESCRIPTION:Get your annual membership 12+ hours of volunteering completed before the year’s end by helping fellow members paint the gallery. Over the Holiday break we will be painting the gallery\, kitchen\, and bathrooms. Contact Kurt Peterson at Facilities@DelRayArtisans.org to sign up. Here are the shifts to volunteer: \n\n\nSaturday\, December 28\, 9am-12pm and 1:30-4:30pm\nSunday\, December 29\, 12-4pm\nFriday\, January 3\, 9am-12pm and 1:30pm-4:30pm\nSaturday\, January 4\, 9am-12pm and 1:30-4:30pm
URL:https://delrayartisans.org/event/gallery-painting-2019-2020/2019-12-28/1/
LOCATION:Del Ray Artisans Gallery\, 2704 Mount Vernon Avenue\, Alexandria\, VA\, 22301\, United States
CATEGORIES:Volunteer
ATTACH;FMTTYPE=image/jpeg:https://delrayartisans.org/wp-content/uploads/1992/12/event-archive-image.jpg
ORGANIZER;CN="Facilities Director":MAILTO:Facilities@DelRayArtisans.org
END:VEVENT
BEGIN:VEVENT
DTSTART;TZID=America/New_York:20191109T090000
DTEND;TZID=America/New_York:20191109T110000
DTSTAMP:20260423T091602
CREATED:20230410T144154Z
LAST-MODIFIED:20230410T164358Z
UID:10000979-1573290000-1573297200@delrayartisans.org
SUMMARY:Volunteer: Garden TLC Meet-Up
DESCRIPTION:Come join our garden leaders: Pamela Underhill\, Jenny Nicholson\, and Jeff Lodge\, as we work in the garden learning tips on weeding\, trimming\, etc. Wear appropriate clothing. If you want to bring your own tools\, you may. Come join us (even if it’s only an hour) to create a blooming success next Spring! Thank you for your volunteer time.  \nMEMBERS: This task counts towards your annual membership volunteer hours. \nNON-MEMBERS: You are welcome to come help and learn too!
URL:https://delrayartisans.org/event/volunteer-garden-nov-2019/
LOCATION:Del Ray Artisans Gallery\, 2704 Mount Vernon Avenue\, Alexandria\, VA\, 22301\, United States
CATEGORIES:Volunteer
ATTACH;FMTTYPE=image/jpeg:https://delrayartisans.org/wp-content/uploads/1992/12/event-archive-image.jpg
END:VEVENT
BEGIN:VEVENT
DTSTART;TZID=America/New_York:20191012T080000
DTEND;TZID=America/New_York:20191012T230000
DTSTAMP:20260423T091602
CREATED:20230410T144111Z
LAST-MODIFIED:20230410T163834Z
UID:10000965-1570867200-1570921200@delrayartisans.org
SUMMARY:Volunteer: Garden TLC Meet-Up
DESCRIPTION:Come join our garden leaders: Pamela Underhill\, Jenny Nicholson\, and Jeff Lodge\, as we work in the garden learning tips on weeding\, trimming\, etc. Wear appropriate clothing. If you want to bring your own tools\, you may. Come join us (even if it’s only an hour) to create a blooming success next Spring! Thank you for your volunteer time.  \nMEMBERS: This task counts towards your annual membership volunteer hours. \nNON-MEMBERS: You are welcome to come help and learn too!
URL:https://delrayartisans.org/event/volunteer-garden-oct-2019/
LOCATION:Del Ray Artisans Gallery\, 2704 Mount Vernon Avenue\, Alexandria\, VA\, 22301\, United States
CATEGORIES:Volunteer
ATTACH;FMTTYPE=image/jpeg:https://delrayartisans.org/wp-content/uploads/1992/12/event-archive-image.jpg
END:VEVENT
BEGIN:VEVENT
DTSTART;TZID=America/New_York:20190920T200000
DTEND;TZID=America/New_York:20190920T213000
DTSTAMP:20260423T091602
CREATED:20230410T144019Z
LAST-MODIFIED:20230410T163252Z
UID:10000948-1569009600-1569015000@delrayartisans.org
SUMMARY:Benefit Concert for Friends of ROAM
DESCRIPTION:Join us at Del Ray Artisans gallery on Friday\, September 20 at 8pm for an evening of local music to benefit the Friends of ROAM featuring Jones Point with Modern Relics and The Derds! \nFriends of ROAM is a volunteer-run\, Del Ray-based organization that helps community youth access music lessons that might otherwise be unavailable to them due to costs. Since 2011\, Rock of Ages Music’s (ROAM) private instruction\, “rock school” ensembles\, and summer camp programs have enriched the lives of hundreds of local students\, creating new music fans and building a supportive arts community. Friends of ROAM works to make sure more local kids have a chance to reap these benefits. \nTo read more about Friends of ROAM\, check out their website at www.friendsofroam.org. \nEnjoy live music\, meet local artists\, and help Friends of ROAM bring music to kids’ lives! \nThis concert is free for the community\, but the suggested donation is $10.
URL:https://delrayartisans.org/event/friends-of-roam-concert/
LOCATION:Del Ray Artisans Gallery\, 2704 Mount Vernon Avenue\, Alexandria\, VA\, 22301\, United States
CATEGORIES:Volunteer
ATTACH;FMTTYPE=image/jpeg:https://delrayartisans.org/wp-content/uploads/1992/12/event-archive-image.jpg
END:VEVENT
BEGIN:VEVENT
DTSTART;TZID=America/New_York:20190914T090000
DTEND;TZID=America/New_York:20190914T233000
DTSTAMP:20260423T091602
CREATED:20230410T144009Z
LAST-MODIFIED:20230410T163207Z
UID:10000944-1568451600-1568503800@delrayartisans.org
SUMMARY:Volunteer: Garden TLC Meet-Up
DESCRIPTION:Come join our garden leaders\, Pamela E Underhill\, Jenny Nicholson\, and Jeff Lodge\, as we work in the garden learning tips on weeding\, trimming\, etc. Wear appropriate clothing. If you want to bring your own tools\, you may. Come join us to create a blooming success! Thank you for your volunteer time!  \nMEMBERS: This counts towards your annual membership volunteer hours. \nNON-MEMBERS: You are welcome to come help too!
URL:https://delrayartisans.org/event/volunteer-garden-sept-2019/
LOCATION:Del Ray Artisans Gallery\, 2704 Mount Vernon Avenue\, Alexandria\, VA\, 22301\, United States
CATEGORIES:Volunteer
ATTACH;FMTTYPE=image/jpeg:https://delrayartisans.org/wp-content/uploads/1992/12/event-archive-image.jpg
END:VEVENT
END:VCALENDAR