BEGIN:VCALENDAR
VERSION:2.0
PRODID:-//Del Ray Artisans - ECPv6.15.20//NONSGML v1.0//EN
CALSCALE:GREGORIAN
METHOD:PUBLISH
X-ORIGINAL-URL:https://delrayartisans.org
X-WR-CALDESC:Events for Del Ray Artisans
REFRESH-INTERVAL;VALUE=DURATION:PT1H
X-Robots-Tag:noindex
X-PUBLISHED-TTL:PT1H
BEGIN:VTIMEZONE
TZID:America/New_York
BEGIN:DAYLIGHT
TZOFFSETFROM:-0500
TZOFFSETTO:-0400
TZNAME:EDT
DTSTART:20250309T070000
END:DAYLIGHT
BEGIN:STANDARD
TZOFFSETFROM:-0400
TZOFFSETTO:-0500
TZNAME:EST
DTSTART:20251102T060000
END:STANDARD
BEGIN:DAYLIGHT
TZOFFSETFROM:-0500
TZOFFSETTO:-0400
TZNAME:EDT
DTSTART:20260308T070000
END:DAYLIGHT
BEGIN:STANDARD
TZOFFSETFROM:-0400
TZOFFSETTO:-0500
TZNAME:EST
DTSTART:20261101T060000
END:STANDARD
BEGIN:DAYLIGHT
TZOFFSETFROM:-0500
TZOFFSETTO:-0400
TZNAME:EDT
DTSTART:20270314T070000
END:DAYLIGHT
BEGIN:STANDARD
TZOFFSETFROM:-0400
TZOFFSETTO:-0500
TZNAME:EST
DTSTART:20271107T060000
END:STANDARD
END:VTIMEZONE
BEGIN:VEVENT
DTSTART;TZID=America/New_York:20260301T120000
DTEND;TZID=America/New_York:20260301T180000
DTSTAMP:20260422T224241
CREATED:20251115T130317Z
LAST-MODIFIED:20251115T130317Z
UID:10002105-1772366400-1772388000@delrayartisans.org
SUMMARY:Closed to the Public: Artist Appointments Only
DESCRIPTION:The gallery is closed to the public today while the exhibit is taken down. This time is reserved for artists to pick up and drop off artwork. Contact the outgoing or incoming curators with any questions (contact info in the call for entry). \nUnsold Artwork Pick Up\nTime for artists to pick up their unsold artwork from the closing exhibit\, Lunar New Year: Year of the Horse. \n\nAccepted Artwork Drop Off\nTime for artists to drop off their accepted artwork entries for the upcoming exhibit\, Assembly: Together We Grow. Artwork must be ready to hang (with screw eyes and wire) or ready for display (with mounting and/or a display stand if necessary). Review the standard artwork presentation guidelines and the call for entry for show specific information. \n\nVolunteer\nAll artists participating in the exhibit are required to volunteer a minimum of 3 hours towards managing the show. Those hours can be filled by gallery hosting during the month of exhibit\, assisting with show hanging or take down\, and volunteering to help with other show-specific activities as needed by the curators. Any hours in excess of 3 hours will count towards the membership requirement. DRA members are reminded to report their volunteer hours monthly.
URL:https://delrayartisans.org/event/feb-mar-2026-artist-appointments/
LOCATION:Del Ray Artisans Gallery\, 2704 Mount Vernon Avenue\, Alexandria\, VA\, 22301\, United States
CATEGORIES:Administrative,Volunteer
END:VEVENT
END:VCALENDAR