BEGIN:VCALENDAR
VERSION:2.0
PRODID:-//Del Ray Artisans - ECPv6.15.20//NONSGML v1.0//EN
CALSCALE:GREGORIAN
METHOD:PUBLISH
X-ORIGINAL-URL:https://delrayartisans.org
X-WR-CALDESC:Events for Del Ray Artisans
REFRESH-INTERVAL;VALUE=DURATION:PT1H
X-Robots-Tag:noindex
X-PUBLISHED-TTL:PT1H
BEGIN:VTIMEZONE
TZID:America/New_York
BEGIN:DAYLIGHT
TZOFFSETFROM:-0500
TZOFFSETTO:-0400
TZNAME:EDT
DTSTART:20240310T070000
END:DAYLIGHT
BEGIN:STANDARD
TZOFFSETFROM:-0400
TZOFFSETTO:-0500
TZNAME:EST
DTSTART:20241103T060000
END:STANDARD
BEGIN:DAYLIGHT
TZOFFSETFROM:-0500
TZOFFSETTO:-0400
TZNAME:EDT
DTSTART:20250309T070000
END:DAYLIGHT
BEGIN:STANDARD
TZOFFSETFROM:-0400
TZOFFSETTO:-0500
TZNAME:EST
DTSTART:20251102T060000
END:STANDARD
BEGIN:DAYLIGHT
TZOFFSETFROM:-0500
TZOFFSETTO:-0400
TZNAME:EDT
DTSTART:20260308T070000
END:DAYLIGHT
BEGIN:STANDARD
TZOFFSETFROM:-0400
TZOFFSETTO:-0500
TZNAME:EST
DTSTART:20261101T060000
END:STANDARD
END:VTIMEZONE
BEGIN:VEVENT
DTSTART;TZID=America/New_York:20251221T180000
DTEND;TZID=America/New_York:20251221T210000
DTSTAMP:20260423T012614
CREATED:20250916T212200Z
LAST-MODIFIED:20251212T204211Z
UID:10001938-1766340000-1766350800@delrayartisans.org
SUMMARY:Gallery Painting: Seeking Volunteers
DESCRIPTION:The gallery will be closed during this time for maintenance. \nSeeking Volunteers\nHelp prepare to paint on Sunday\, December 21 between 6-9pm. \nHelp paint the gallery on Monday\, December 22 between 1-4pm and 5:30-8pm\, as well as on Tuesday\, December 23 between 5:30-8pm. Come for a three-hour shift or just part of the shift. \nPlease contact Ellen at Facilities@DelRayArtisans.org and Morgan at Volunteers@DelRayArtisans.org to let us know which date/time you plan to help. Thank you!
URL:https://delrayartisans.org/event/2025-gallery-painting/2025-12-21/
LOCATION:Del Ray Artisans Gallery\, 2704 Mount Vernon Avenue\, Alexandria\, VA\, 22301\, United States
CATEGORIES:Volunteer
ORGANIZER;CN="Facilities Director":MAILTO:Facilities@DelRayArtisans.org
END:VEVENT
BEGIN:VEVENT
DTSTART;TZID=America/New_York:20251222T130000
DTEND;TZID=America/New_York:20251222T160000
DTSTAMP:20260423T012614
CREATED:20250916T212200Z
LAST-MODIFIED:20251212T204211Z
UID:10001939-1766408400-1766419200@delrayartisans.org
SUMMARY:Gallery Painting: Seeking Volunteers
DESCRIPTION:The gallery will be closed during this time for maintenance. \nSeeking Volunteers\nHelp prepare to paint on Sunday\, December 21 between 6-9pm. \nHelp paint the gallery on Monday\, December 22 between 1-4pm and 5:30-8pm\, as well as on Tuesday\, December 23 between 5:30-8pm. Come for a three-hour shift or just part of the shift. \nPlease contact Ellen at Facilities@DelRayArtisans.org and Morgan at Volunteers@DelRayArtisans.org to let us know which date/time you plan to help. Thank you!
URL:https://delrayartisans.org/event/2025-gallery-painting/2025-12-22/1/
LOCATION:Del Ray Artisans Gallery\, 2704 Mount Vernon Avenue\, Alexandria\, VA\, 22301\, United States
CATEGORIES:Volunteer
ORGANIZER;CN="Facilities Director":MAILTO:Facilities@DelRayArtisans.org
END:VEVENT
BEGIN:VEVENT
DTSTART;TZID=America/New_York:20251222T173000
DTEND;TZID=America/New_York:20251222T200000
DTSTAMP:20260423T012614
CREATED:20250916T212200Z
LAST-MODIFIED:20251212T204211Z
UID:10002132-1766424600-1766433600@delrayartisans.org
SUMMARY:Gallery Painting: Seeking Volunteers
DESCRIPTION:The gallery will be closed during this time for maintenance. \nSeeking Volunteers\nHelp prepare to paint on Sunday\, December 21 between 6-9pm. \nHelp paint the gallery on Monday\, December 22 between 1-4pm and 5:30-8pm\, as well as on Tuesday\, December 23 between 5:30-8pm. Come for a three-hour shift or just part of the shift. \nPlease contact Ellen at Facilities@DelRayArtisans.org and Morgan at Volunteers@DelRayArtisans.org to let us know which date/time you plan to help. Thank you!
URL:https://delrayartisans.org/event/2025-gallery-painting/2025-12-22/2/
LOCATION:Del Ray Artisans Gallery\, 2704 Mount Vernon Avenue\, Alexandria\, VA\, 22301\, United States
CATEGORIES:Volunteer
ORGANIZER;CN="Facilities Director":MAILTO:Facilities@DelRayArtisans.org
END:VEVENT
BEGIN:VEVENT
DTSTART;TZID=America/New_York:20251223T173000
DTEND;TZID=America/New_York:20251223T200000
DTSTAMP:20260423T012614
CREATED:20250916T212200Z
LAST-MODIFIED:20251212T204211Z
UID:10002133-1766511000-1766520000@delrayartisans.org
SUMMARY:Gallery Painting: Seeking Volunteers
DESCRIPTION:The gallery will be closed during this time for maintenance. \nSeeking Volunteers\nHelp prepare to paint on Sunday\, December 21 between 6-9pm. \nHelp paint the gallery on Monday\, December 22 between 1-4pm and 5:30-8pm\, as well as on Tuesday\, December 23 between 5:30-8pm. Come for a three-hour shift or just part of the shift. \nPlease contact Ellen at Facilities@DelRayArtisans.org and Morgan at Volunteers@DelRayArtisans.org to let us know which date/time you plan to help. Thank you!
URL:https://delrayartisans.org/event/2025-gallery-painting/2025-12-23/
LOCATION:Del Ray Artisans Gallery\, 2704 Mount Vernon Avenue\, Alexandria\, VA\, 22301\, United States
CATEGORIES:Volunteer
ORGANIZER;CN="Facilities Director":MAILTO:Facilities@DelRayArtisans.org
END:VEVENT
BEGIN:VEVENT
DTSTART;TZID=America/New_York:20251228T120000
DTEND;TZID=America/New_York:20251228T160000
DTSTAMP:20260423T012614
CREATED:20251028T222946Z
LAST-MODIFIED:20251028T222946Z
UID:10002016-1766923200-1766937600@delrayartisans.org
SUMMARY:"Toy Stories" Artwork Drop Off
DESCRIPTION:Time for artists to drop off their accepted artwork entries for the upcoming exhibit\, Toy Stories\, and for the next Alcove Gift Shop. \nArtwork must be ready to hang (with screw eyes and wire) or ready for display (with mounting and/or a display stand if necessary). Review the standard artwork presentation guidelines and the Call for Entry for show specific information. Contact the curator with any questions. \n\nVolunteer\nAll artists participating in the exhibit are required to volunteer a minimum of 3 hours towards managing the show. Those hours can be filled by gallery hosting during the month of exhibit\, assisting with show hanging or take down\, and volunteering to help with other show-specific activities as needed by the curators. Any hours in excess of 3 hours will count towards the membership requirement. DRA members are reminded to report their volunteer hours monthly.
URL:https://delrayartisans.org/event/toy-stories-drop-off/
LOCATION:Del Ray Artisans Gallery\, 2704 Mount Vernon Avenue\, Alexandria\, VA\, 22301\, United States
CATEGORIES:Administrative,Volunteer
ORGANIZER;CN="Gordon Thomas Frank":MAILTO:gordonfrank666@gmail.com
END:VEVENT
END:VCALENDAR