BEGIN:VCALENDAR
VERSION:2.0
PRODID:-//Del Ray Artisans - ECPv6.15.20//NONSGML v1.0//EN
CALSCALE:GREGORIAN
METHOD:PUBLISH
X-WR-CALNAME:Del Ray Artisans
X-ORIGINAL-URL:https://delrayartisans.org
X-WR-CALDESC:Events for Del Ray Artisans
REFRESH-INTERVAL;VALUE=DURATION:PT1H
X-Robots-Tag:noindex
X-PUBLISHED-TTL:PT1H
BEGIN:VTIMEZONE
TZID:America/New_York
BEGIN:DAYLIGHT
TZOFFSETFROM:-0500
TZOFFSETTO:-0400
TZNAME:EDT
DTSTART:20240310T070000
END:DAYLIGHT
BEGIN:STANDARD
TZOFFSETFROM:-0400
TZOFFSETTO:-0500
TZNAME:EST
DTSTART:20241103T060000
END:STANDARD
BEGIN:DAYLIGHT
TZOFFSETFROM:-0500
TZOFFSETTO:-0400
TZNAME:EDT
DTSTART:20250309T070000
END:DAYLIGHT
BEGIN:STANDARD
TZOFFSETFROM:-0400
TZOFFSETTO:-0500
TZNAME:EST
DTSTART:20251102T060000
END:STANDARD
BEGIN:DAYLIGHT
TZOFFSETFROM:-0500
TZOFFSETTO:-0400
TZNAME:EDT
DTSTART:20260308T070000
END:DAYLIGHT
BEGIN:STANDARD
TZOFFSETFROM:-0400
TZOFFSETTO:-0500
TZNAME:EST
DTSTART:20261101T060000
END:STANDARD
END:VTIMEZONE
BEGIN:VEVENT
DTSTART;TZID=America/New_York:20250302T120000
DTEND;TZID=America/New_York:20250302T180000
DTSTAMP:20260423T181000
CREATED:20241025T135808Z
LAST-MODIFIED:20250220T184827Z
UID:10001535-1740916800-1740938400@delrayartisans.org
SUMMARY:Artist Appointments
DESCRIPTION:The gallery is closed to the public today while the exhibit is taken down. This time is reserved for artists to pick up and drop off artwork. Contact the outgoing or incoming curators with any questions (contact info in the call for entry). \nUnsold Artwork Pick Up\nTime for artists to pick up their unsold artwork from the closing exhibit\, MeWOW: Fabulous Felines. \n\nAccepted Artwork Drop Off\nTime for artists to drop off their accepted artwork entries for the upcoming exhibit\, Fairy Tales Around the World. Artwork must be ready to hang (with screw eyes and wire) or ready for display (with mounting and/or a display stand if necessary). Review the standard artwork presentation guidelines and the call for entry for show specific information. \n\nVolunteer\nAll artists participating in the exhibit are required to volunteer a minimum of 3 hours towards managing the show. Those hours can be filled by gallery hosting during the month of exhibit\, assisting with show hanging or take down\, and volunteering to help with other show-specific activities as needed by the curators. Any hours in excess of 3 hours will count towards the membership requirement. DRA members are reminded to report their volunteer hours monthly.
URL:https://delrayartisans.org/event/feb-mar-2025-artist-appointments/
LOCATION:Del Ray Artisans Gallery\, 2704 Mount Vernon Avenue\, Alexandria\, VA\, 22301\, United States
CATEGORIES:Administrative,Volunteer
END:VEVENT
BEGIN:VEVENT
DTSTART;TZID=America/New_York:20250315T090000
DTEND;TZID=America/New_York:20250315T110000
DTSTAMP:20260423T181000
CREATED:20250422T160617Z
LAST-MODIFIED:20250422T163000Z
UID:10001819-1742029200-1742036400@delrayartisans.org
SUMMARY:Volunteer in the Gardens
DESCRIPTION:Give some TLC to Del Ray Artisans’ gardens! Join the Gardens Committee to spruce up the landscaping around the gallery. \nBring gloves\, knee pads (if desired)\, and laughter. Even if you don’t know what a weed is\, we can teach you. Volunteer for 1 hour or the whole 2.5 hours. If you have any questions\, please email Kurt at Gardens@DelRayArtisans.org. \nMEMBERS: This task counts towards your annual membership volunteer hours (record your hours). \nNON-MEMBERS: You are welcome to come help and learn too. \nSave the Dates: During the season (March-October)\, the committee typically meets the third Saturday of the month from 9am-11am. In June\, July\, and August\, we’ll meet an hour earlier (8am-10am) to avoid the heat. The June session will be a week earlier on Saturday\, June 14th; and the September session has been rescheduled to Sunday\, September 21st to avoid conflict with the HalloWEIRD art market. Thank you for your volunteer time! \n\nNOTE: All plantings and transplantings must be approved by the Garden Committee. The Garden Committee approval is important to make sure the plants that get chosen are great for nature\, located properly for the right amount of sun or shade\, don’t conflict with other plants or facility needs\, and fit into the overall garden plan with maintenance in mind.
URL:https://delrayartisans.org/event/garden-volunteers-2025/2025-03-15/
LOCATION:Del Ray Artisans Gallery\, 2704 Mount Vernon Avenue\, Alexandria\, VA\, 22301\, United States
CATEGORIES:Volunteer
ORGANIZER;CN="Gardens Committee":MAILTO:gardens@delrayartisans.org
END:VEVENT
BEGIN:VEVENT
DTSTART;TZID=America/New_York:20250330T120000
DTEND;TZID=America/New_York:20250330T180000
DTSTAMP:20260423T181000
CREATED:20241025T135932Z
LAST-MODIFIED:20250220T193010Z
UID:10001536-1743336000-1743357600@delrayartisans.org
SUMMARY:Artist Appointments
DESCRIPTION:The gallery is closed to the public today while the exhibit is taken down. This time is reserved for artists to pick up and drop off artwork. Contact the outgoing or incoming curators with any questions (contact info in the call for entry). \nUnsold Artwork Pick Up\nTime for artists to pick up their unsold artwork from the closing exhibit\, Fairy Tales Around the World. \n\nAccepted Artwork Drop Off\nTime for artists to drop off their accepted artwork entries for the upcoming exhibit\, Synchronous. Artwork must be ready to hang (with screw eyes and wire) or ready for display (with mounting and/or a display stand if necessary). Review the standard artwork presentation guidelines and the call for entry for show specific information. \n\nVolunteer\nAll artists participating in the exhibit are required to volunteer a minimum of 3 hours towards managing the show. Those hours can be filled by gallery hosting during the month of exhibit\, assisting with show hanging or take down\, and volunteering to help with other show-specific activities as needed by the curators. Any hours in excess of 3 hours will count towards the membership requirement. DRA members are reminded to report their volunteer hours monthly.
URL:https://delrayartisans.org/event/mar-apr-2025-artist-appointments/
LOCATION:Del Ray Artisans Gallery\, 2704 Mount Vernon Avenue\, Alexandria\, VA\, 22301\, United States
CATEGORIES:Administrative,Volunteer
END:VEVENT
END:VCALENDAR