BEGIN:VCALENDAR
VERSION:2.0
PRODID:-//Del Ray Artisans - ECPv6.15.20//NONSGML v1.0//EN
CALSCALE:GREGORIAN
METHOD:PUBLISH
X-WR-CALNAME:Del Ray Artisans
X-ORIGINAL-URL:https://delrayartisans.org
X-WR-CALDESC:Events for Del Ray Artisans
REFRESH-INTERVAL;VALUE=DURATION:PT1H
X-Robots-Tag:noindex
X-PUBLISHED-TTL:PT1H
BEGIN:VTIMEZONE
TZID:America/New_York
BEGIN:DAYLIGHT
TZOFFSETFROM:-0500
TZOFFSETTO:-0400
TZNAME:EDT
DTSTART:20220313T070000
END:DAYLIGHT
BEGIN:STANDARD
TZOFFSETFROM:-0400
TZOFFSETTO:-0500
TZNAME:EST
DTSTART:20221106T060000
END:STANDARD
BEGIN:DAYLIGHT
TZOFFSETFROM:-0500
TZOFFSETTO:-0400
TZNAME:EDT
DTSTART:20230312T070000
END:DAYLIGHT
BEGIN:STANDARD
TZOFFSETFROM:-0400
TZOFFSETTO:-0500
TZNAME:EST
DTSTART:20231105T060000
END:STANDARD
BEGIN:DAYLIGHT
TZOFFSETFROM:-0500
TZOFFSETTO:-0400
TZNAME:EDT
DTSTART:20240310T070000
END:DAYLIGHT
BEGIN:STANDARD
TZOFFSETFROM:-0400
TZOFFSETTO:-0500
TZNAME:EST
DTSTART:20241103T060000
END:STANDARD
END:VTIMEZONE
BEGIN:VEVENT
DTSTART;TZID=America/New_York:20230617T080000
DTEND;TZID=America/New_York:20230617T100000
DTSTAMP:20260425T233356
CREATED:20230608T185307Z
LAST-MODIFIED:20230608T185307Z
UID:10001087-1686988800-1686996000@delrayartisans.org
SUMMARY:Volunteer in the Gardens
DESCRIPTION:Del Ray Artisans’ gardens need some TLC. Join the Gardens Committee on Saturday\, June 17 from 8am-10am to help in the gardens. We will be focusing on watering and tying plants back from sidewalks. \nPlease bring gloves\, knee protection (if desired)\, and love of plants. Volunteer for 1 hour or 2 hours. If you have any questions\, please email Kurt and Jenny at Gardens@DelRayArtisans.org. \nMEMBERS: This task counts towards your annual membership volunteer hours. \nNON-MEMBERS: You are welcome to come help and learn too. \nThank you for your volunteer time! \n\nNOTE: All plantings and transplantings must be approved by the Garden Committee. The Garden Committee approval is important to make sure the plants that get chosen are great for nature\, located properly for the right amount of sun or shade\, don’t conflict with other plants or facility needs\, and fit into the overall garden plan with maintenance in mind.
URL:https://delrayartisans.org/event/volunteer-in-the-garden-6-17-2023/
LOCATION:Del Ray Artisans Gallery\, 2704 Mount Vernon Avenue\, Alexandria\, VA\, 22301\, United States
CATEGORIES:Volunteer
ATTACH;FMTTYPE=image/jpeg:https://delrayartisans.org/wp-content/uploads/2022/08/garden-volunteers.jpg
ORGANIZER;CN="Gardens Committee":MAILTO:gardens@delrayartisans.org
END:VEVENT
END:VCALENDAR