BEGIN:VCALENDAR
VERSION:2.0
PRODID:-//Del Ray Artisans - ECPv6.15.20//NONSGML v1.0//EN
CALSCALE:GREGORIAN
METHOD:PUBLISH
X-WR-CALNAME:Del Ray Artisans
X-ORIGINAL-URL:https://delrayartisans.org
X-WR-CALDESC:Events for Del Ray Artisans
REFRESH-INTERVAL;VALUE=DURATION:PT1H
X-Robots-Tag:noindex
X-PUBLISHED-TTL:PT1H
BEGIN:VTIMEZONE
TZID:America/New_York
BEGIN:DAYLIGHT
TZOFFSETFROM:-0500
TZOFFSETTO:-0400
TZNAME:EDT
DTSTART:20240310T070000
END:DAYLIGHT
BEGIN:STANDARD
TZOFFSETFROM:-0400
TZOFFSETTO:-0500
TZNAME:EST
DTSTART:20241103T060000
END:STANDARD
BEGIN:DAYLIGHT
TZOFFSETFROM:-0500
TZOFFSETTO:-0400
TZNAME:EDT
DTSTART:20250309T070000
END:DAYLIGHT
BEGIN:STANDARD
TZOFFSETFROM:-0400
TZOFFSETTO:-0500
TZNAME:EST
DTSTART:20251102T060000
END:STANDARD
BEGIN:DAYLIGHT
TZOFFSETFROM:-0500
TZOFFSETTO:-0400
TZNAME:EDT
DTSTART:20260308T070000
END:DAYLIGHT
BEGIN:STANDARD
TZOFFSETFROM:-0400
TZOFFSETTO:-0500
TZNAME:EST
DTSTART:20261101T060000
END:STANDARD
END:VTIMEZONE
BEGIN:VEVENT
DTSTART;TZID=America/New_York:20251005T100000
DTEND;TZID=America/New_York:20251005T120000
DTSTAMP:20260423T061217
CREATED:20250611T194523Z
LAST-MODIFIED:20251003T205046Z
UID:10001888-1759658400-1759665600@delrayartisans.org
SUMMARY:RESCHEDULED to 11/29 - STEAM-tastic: Gaudi Mosaic Lizard (All Ages)
DESCRIPTION:This workshop has been rescheduled to Saturday\, November 29. \nInstructor: Morgan Parr\nDate/Time: Sunday\, October 5\, 10am-12pm\nCost: $30 child / $40 adult; plus a $20 Supply Fee\nClass size: 3-15 participants\n(Register by October 1) \nCelebrate Hispanic Heritage Month through a unique STEAM-based art experience! Inspired by Antoni Gaudí’s famous mosaic lizard in Park Güell\, Barcelona\, this activity blends art\, architecture\, and math. \nParticipants will design a cardboard lizard\, apply joint compound to sculpt a 3D form\, and create a mosaic using patterns\, colors\, and repetition—just like Gaudí’s iconic style. Along the way\, explore form\, texture\, symmetry\, and the mathematical principles of tessellation used in mosaic design. \nLearn how cultural heritage and creative engineering combine in Gaudí’s work\, and make your own masterpiece using provided materials—or bring your own mosaic tiles and rhinestones to personalize it! \nThis hands-on\, family-friendly workshop is perfect for all ages and experience levels—including children under 12. \nRegister Now \n  \n\nSTEAM-tastic @ DRA – Come join us at Del Ray Artisans for interactive classes about Science\, Technology\, Engineering\, Arts and Math (STEAM)\, taught by professionals from each field! Geared toward youth\, each lesson has a short talk or demonstration and a hands-on craft project. Del Ray Artisans’ STEAM-tastic workshops are made possible with support from the City of Alexandria through the FY2026 Annual Arts Program Grant.\n \n\nView other upcoming workshops\, information about the facility\, and policies on the Upcoming Workshops page.
URL:https://delrayartisans.org/event/steam-gaudi-mosaic-lizard-rescheduled/
LOCATION:Del Ray Artisans Gallery\, 2704 Mount Vernon Avenue\, Alexandria\, VA\, 22301\, United States
CATEGORIES:Program,Workshop,Youth
ATTACH;FMTTYPE=image/jpeg:https://delrayartisans.org/wp-content/uploads/2025/06/STEAM-Gaudi-Mosaic-Lizard-Morgan-Parr.jpg
ORGANIZER;CN="Morgan Parr":MAILTO:rmorganparr@gmail.com
END:VEVENT
END:VCALENDAR