BEGIN:VCALENDAR
VERSION:2.0
PRODID:-//Del Ray Artisans - ECPv6.15.20//NONSGML v1.0//EN
CALSCALE:GREGORIAN
METHOD:PUBLISH
X-WR-CALNAME:Del Ray Artisans
X-ORIGINAL-URL:https://delrayartisans.org
X-WR-CALDESC:Events for Del Ray Artisans
REFRESH-INTERVAL;VALUE=DURATION:PT1H
X-Robots-Tag:noindex
X-PUBLISHED-TTL:PT1H
BEGIN:VTIMEZONE
TZID:America/New_York
BEGIN:DAYLIGHT
TZOFFSETFROM:-0500
TZOFFSETTO:-0400
TZNAME:EDT
DTSTART:20240310T070000
END:DAYLIGHT
BEGIN:STANDARD
TZOFFSETFROM:-0400
TZOFFSETTO:-0500
TZNAME:EST
DTSTART:20241103T060000
END:STANDARD
BEGIN:DAYLIGHT
TZOFFSETFROM:-0500
TZOFFSETTO:-0400
TZNAME:EDT
DTSTART:20250309T070000
END:DAYLIGHT
BEGIN:STANDARD
TZOFFSETFROM:-0400
TZOFFSETTO:-0500
TZNAME:EST
DTSTART:20251102T060000
END:STANDARD
BEGIN:DAYLIGHT
TZOFFSETFROM:-0500
TZOFFSETTO:-0400
TZNAME:EDT
DTSTART:20260308T070000
END:DAYLIGHT
BEGIN:STANDARD
TZOFFSETFROM:-0400
TZOFFSETTO:-0500
TZNAME:EST
DTSTART:20261101T060000
END:STANDARD
END:VTIMEZONE
BEGIN:VEVENT
DTSTART;TZID=America/New_York:20250904T183000
DTEND;TZID=America/New_York:20250904T200000
DTSTAMP:20260423T080452
CREATED:20250910T223522Z
LAST-MODIFIED:20250910T223639Z
UID:10001930-1757010600-1757016000@delrayartisans.org
SUMMARY:RESCHEDULED: First Thursday: Make a picture frame inspired by Matisse's decoupages 6:30-8pm (Gallery Open 12-9pm)
DESCRIPTION:This neighborhood event has been postponed to Thursday\, September 11 due to the weather. \nJoin us inside Del Ray Artisans gallery from 6:30-8pm on the first Thursday of the month from April through September for our family-friendly activity! The activity is free of charge and all ages are welcome. \nOn the last First Thursday of the year\, come make your own picture frame using puzzle pieces. This activity is inspired by mosaic artists and cut paper collages (decoupages) by Matisse. \nPlus get a sneak peek of the upcoming art exhibit\, Second Time Around. Del Ray Artisans gallery is open 12-9pm on First Thursdays from April through September.\n  \n\nEvery year from April through September Del Ray Business Association celebrates First Thursday\, a Del Ray community event along Mount Vernon Avenue from 6pm until dusk on the first Thursday of the month. \nJoin the Del Ray community each First Thursday for themed activities\, a donation drive to support a local nonprofit\, and live music. The theme and nonprofit will be announced in advance\, and donations will be collected at the Pat Miller Neighborhood Square at the intersection of Mount Vernon and Oxford Avenues. Join us for the neighborhood themes: \n\nApril 3\, 2025 – Music & Dance on the Avenue\nMay 1\, 2025 – Dog Days in Del Ray\nJune 5\, 2025 – Rep Your Team\nJuly 3\, 2025 – Red\, White\, And Bloom\nAugust 7\, 2025 – Surf’s Up\nRescheduled to September 11\, 2025 – Antique Appraisals on the Avenue\n\nDel Ray Artisans is a member of Del Ray Business Association.
URL:https://delrayartisans.org/event/first-thursday-sept-2025-postponed/
LOCATION:Del Ray Artisans Gallery\, 2704 Mount Vernon Avenue\, Alexandria\, VA\, 22301\, United States
CATEGORIES:Community Event,Program,Youth
ATTACH;FMTTYPE=image/jpeg:https://delrayartisans.org/wp-content/uploads/2023/05/DRBA-FirstThursday-2024.jpg
ORGANIZER;CN="Kelly MacConomy%2C Outreach Director":MAILTO:outreach@delrayartisans.org
END:VEVENT
END:VCALENDAR