BEGIN:VCALENDAR
VERSION:2.0
PRODID:-//Del Ray Artisans - ECPv6.15.20//NONSGML v1.0//EN
CALSCALE:GREGORIAN
METHOD:PUBLISH
X-WR-CALNAME:Del Ray Artisans
X-ORIGINAL-URL:https://delrayartisans.org
X-WR-CALDESC:Events for Del Ray Artisans
REFRESH-INTERVAL;VALUE=DURATION:PT1H
X-Robots-Tag:noindex
X-PUBLISHED-TTL:PT1H
BEGIN:VTIMEZONE
TZID:America/New_York
BEGIN:DAYLIGHT
TZOFFSETFROM:-0500
TZOFFSETTO:-0400
TZNAME:EDT
DTSTART:20240310T070000
END:DAYLIGHT
BEGIN:STANDARD
TZOFFSETFROM:-0400
TZOFFSETTO:-0500
TZNAME:EST
DTSTART:20241103T060000
END:STANDARD
BEGIN:DAYLIGHT
TZOFFSETFROM:-0500
TZOFFSETTO:-0400
TZNAME:EDT
DTSTART:20250309T070000
END:DAYLIGHT
BEGIN:STANDARD
TZOFFSETFROM:-0400
TZOFFSETTO:-0500
TZNAME:EST
DTSTART:20251102T060000
END:STANDARD
BEGIN:DAYLIGHT
TZOFFSETFROM:-0500
TZOFFSETTO:-0400
TZNAME:EDT
DTSTART:20260308T070000
END:DAYLIGHT
BEGIN:STANDARD
TZOFFSETFROM:-0400
TZOFFSETTO:-0500
TZNAME:EST
DTSTART:20261101T060000
END:STANDARD
END:VTIMEZONE
BEGIN:VEVENT
DTSTART;TZID=America/New_York:20250621T100000
DTEND;TZID=America/New_York:20250621T120000
DTSTAMP:20260423T131536
CREATED:20250509T170252Z
LAST-MODIFIED:20250622T194649Z
UID:10001854-1750500000-1750507200@delrayartisans.org
SUMMARY:CANCELED: Pirate Ships and Mermaids Workshop
DESCRIPTION:This workshop has been canceled. \nInstructor: Morgan Parr\nDate/Time: Saturday\, June 21\, 10am-12pm\nCost: $30 Del Ray Artisans member / $40 Non-member; plus a $5 Supply Fee\nClass size: 3-15 participants\n(Register by June 18) \nCreate your own textured paper to make a pirate ship seascape or a mermaid. We will create a seascape\, including a pirate ship collage\, using cardboard\, paper\, and crayons. \nWhile geared towards a younger audience\, all ages and experience levels are welcome to join in this whimsical family-friendly adventure. \n \n  \n\nView other upcoming workshops\, information about the facility\, and policies on the Upcoming Workshops page.
URL:https://delrayartisans.org/event/pirate-ships-and-mermaids/
LOCATION:Del Ray Artisans Gallery\, 2704 Mount Vernon Avenue\, Alexandria\, VA\, 22301\, United States
CATEGORIES:Creative Summer Programs,Program,Workshop,Youth
ATTACH;FMTTYPE=image/jpeg:https://delrayartisans.org/wp-content/uploads/2025/05/PirateShipsAndMermaids-MorganParr.jpg
ORGANIZER;CN="Morgan Parr":MAILTO:rmorganparr@gmail.com
END:VEVENT
END:VCALENDAR