BEGIN:VCALENDAR
VERSION:2.0
PRODID:-//Del Ray Artisans - ECPv6.15.20//NONSGML v1.0//EN
CALSCALE:GREGORIAN
METHOD:PUBLISH
X-WR-CALNAME:Del Ray Artisans
X-ORIGINAL-URL:https://delrayartisans.org
X-WR-CALDESC:Events for Del Ray Artisans
REFRESH-INTERVAL;VALUE=DURATION:PT1H
X-Robots-Tag:noindex
X-PUBLISHED-TTL:PT1H
BEGIN:VTIMEZONE
TZID:America/New_York
BEGIN:DAYLIGHT
TZOFFSETFROM:-0500
TZOFFSETTO:-0400
TZNAME:EDT
DTSTART:20230312T070000
END:DAYLIGHT
BEGIN:STANDARD
TZOFFSETFROM:-0400
TZOFFSETTO:-0500
TZNAME:EST
DTSTART:20231105T060000
END:STANDARD
BEGIN:DAYLIGHT
TZOFFSETFROM:-0500
TZOFFSETTO:-0400
TZNAME:EDT
DTSTART:20240310T070000
END:DAYLIGHT
BEGIN:STANDARD
TZOFFSETFROM:-0400
TZOFFSETTO:-0500
TZNAME:EST
DTSTART:20241103T060000
END:STANDARD
BEGIN:DAYLIGHT
TZOFFSETFROM:-0500
TZOFFSETTO:-0400
TZNAME:EDT
DTSTART:20250309T070000
END:DAYLIGHT
BEGIN:STANDARD
TZOFFSETFROM:-0400
TZOFFSETTO:-0500
TZNAME:EST
DTSTART:20251102T060000
END:STANDARD
END:VTIMEZONE
BEGIN:VEVENT
DTSTART;TZID=America/New_York:20240411T183000
DTEND;TZID=America/New_York:20240411T200000
DTSTAMP:20260425T131407
CREATED:20240313T141424Z
LAST-MODIFIED:20240417T194253Z
UID:10001356-1712860200-1712865600@delrayartisans.org
SUMMARY:Gallery Open 12-9pm; First Thursday Activity Cancelled
DESCRIPTION:This event has been cancelled due to the weather. \nJoin us outside Del Ray Artisans gallery from 6:30-8pm for our family-friendly activity. We are decorating upcycled flower containers! Each person will receive a container to decorate at the gallery and a small bag of potting soil & seeds to take home for planting and watering. \nAlso pop into the gallery to see the Same But Different art exhibit. Del Ray Artisans gallery is open 12-9pm on First Thursdays from April through September. Please be considerate of the workshop that is happening tonight. \nFrom March 20–April 14\, check out Del Ray Artisans’ gallery exterior decorations for the 2024 National Cherry Blossom Festival: Petal Porches. Our theme is Cherry Bomb! \n\nFor the first First Thursday of 2024 on April 11th (rain date)\, the Del Ray Business Association has chosen the theme: Del Ray in Bloom to celebrate National Gardening Month. Join the Del Ray community for live music and themed activities. Donations to this First Thursday’s selected nonprofit\, the Dunbar Alexandria-Olympic Boys & Girls Club\, will be collected at the Pat Miller Neighborhood Square (Oxford & Mt. Vernon Avenues). \n\nEvery year from April through September Del Ray Business Association celebrates First Thursday\, a Del Ray community event along Mount Vernon Avenue from 6pm until dusk on the first Thursday of the month. Del Ray Artisans is a member of Del Ray Business Association. Join us for the neighborhood themes: \n\nApril 11\, 2024 (Postponed\, then cancelled due to the weather) – Del Ray in Bloom\nMay 2\, 2024 – Dog Days in Del Ray\nJune 6\, 2024 – Jump into Summer\nJuly 11\, 2024 – Red\, White and Blue (Gallery is closed to host Figure Drawing Bootcamp; no First Thursday activity)\nAugust 1\, 2024 – Olympics or Carnival (TBD)\nSeptember 5\, 2024 – Saddle Up
URL:https://delrayartisans.org/event/first-thursday-april-2024/
LOCATION:Del Ray Artisans Gallery\, 2704 Mount Vernon Avenue\, Alexandria\, VA\, 22301\, United States
CATEGORIES:Community Event,Program,Youth
ATTACH;FMTTYPE=image/jpeg:https://delrayartisans.org/wp-content/uploads/2023/05/DRBA-FirstThursday-2024.jpg
ORGANIZER;CN="Kelly MacConomy%2C Outreach Director":MAILTO:outreach@delrayartisans.org
END:VEVENT
END:VCALENDAR