BEGIN:VCALENDAR
VERSION:2.0
PRODID:-//Del Ray Artisans - ECPv6.15.20//NONSGML v1.0//EN
CALSCALE:GREGORIAN
METHOD:PUBLISH
X-ORIGINAL-URL:https://delrayartisans.org
X-WR-CALDESC:Events for Del Ray Artisans
REFRESH-INTERVAL;VALUE=DURATION:PT1H
X-Robots-Tag:noindex
X-PUBLISHED-TTL:PT1H
BEGIN:VTIMEZONE
TZID:America/New_York
BEGIN:DAYLIGHT
TZOFFSETFROM:-0500
TZOFFSETTO:-0400
TZNAME:EDT
DTSTART:20250309T070000
END:DAYLIGHT
BEGIN:STANDARD
TZOFFSETFROM:-0400
TZOFFSETTO:-0500
TZNAME:EST
DTSTART:20251102T060000
END:STANDARD
BEGIN:DAYLIGHT
TZOFFSETFROM:-0500
TZOFFSETTO:-0400
TZNAME:EDT
DTSTART:20260308T070000
END:DAYLIGHT
BEGIN:STANDARD
TZOFFSETFROM:-0400
TZOFFSETTO:-0500
TZNAME:EST
DTSTART:20261101T060000
END:STANDARD
BEGIN:DAYLIGHT
TZOFFSETFROM:-0500
TZOFFSETTO:-0400
TZNAME:EDT
DTSTART:20270314T070000
END:DAYLIGHT
BEGIN:STANDARD
TZOFFSETFROM:-0400
TZOFFSETTO:-0500
TZNAME:EST
DTSTART:20271107T060000
END:STANDARD
END:VTIMEZONE
BEGIN:VEVENT
DTSTART;TZID=America/New_York:20260308T100000
DTEND;TZID=America/New_York:20260308T120000
DTSTAMP:20260422T211328
CREATED:20260127T221707Z
LAST-MODIFIED:20260303T215449Z
UID:10002183-1772964000-1772971200@delrayartisans.org
SUMMARY:STEAM-tastic: Calligraphy - The Art of Writing (Ages 10 to Adult)
DESCRIPTION:Instructor: Jenny Nicholson\nDate/Time: Sunday\, March 8\, 10am-12pm\nCost: $10 per child / $25 per adult\nClass size: 3-15 participants\nWalk-ins welcome\, space permitting. \nJoin members of the Washington Calligraphers Guild to learn the art of calligraphy. Students will explore a variety of letterforms through hands-on practice with markers\, unique writing tools\, and inks. \nWe will view a variety of calligraphy examples along with a brief history of alphabets and scripts\, followed by a demonstration. Students will practice making the basic letter strokes with different writing tools\, papers\, and inks\, and learn tips to continue their practice at home. \nThis is a time to slow down\, use our hands and minds\, and explore the world of making strokes into letters and words. All ages\, beginners and those with experience are welcome. Good handwriting is not necessary\, and practicing calligraphy improves handwriting with consistency and rhythm. \nAll supplies are included. \nRegister Now \n\nSTEAM-tastic @ DRA – Come join us at Del Ray Artisans for interactive classes about Science\, Technology\, Engineering\, Arts and Math (STEAM)\, taught by professionals from each field. The discount ticket price per child is made possible with support from the City of Alexandria through the FY2026 Annual Arts Program Grant.\n \n\nView information about the facility and policies at the bottom of the Youth and Family-Friendly Programs page.
URL:https://delrayartisans.org/event/steam-calligraphy/
LOCATION:Del Ray Artisans Gallery\, 2704 Mount Vernon Avenue\, Alexandria\, VA\, 22301\, United States
CATEGORIES:Program,Workshop,Youth
ATTACH;FMTTYPE=image/jpeg:https://delrayartisans.org/wp-content/uploads/2026/01/Jenny-Calligraphy.jpg
ORGANIZER;CN="Tracy Wilkerson%2C Programs Director":MAILTO:programs@delrayartisans.org
END:VEVENT
BEGIN:VEVENT
DTSTART;TZID=America/New_York:20260322T110000
DTEND;TZID=America/New_York:20260322T120000
DTSTAMP:20260422T211328
CREATED:20260118T235703Z
LAST-MODIFIED:20260316T185150Z
UID:10002149-1774177200-1774180800@delrayartisans.org
SUMMARY:STEAM-tastic: Draw a Fibonacci Spiral (Adults and ages 10+)
DESCRIPTION:Instructor: Linda Gaines\nDate/Time: Sunday\, March 22\, 11am – 12 noon\nCost: $10 child / $20 adult\, plus $5 supplies fee\nClass size: 2-15 participants\n(Register in advance to guarantee a spot. Walk-ins welcome\, space permitting.) \nThe Fibonacci sequence of numbers can be determined using simple math. The sequence can be seen in nature frequently and can be used to draw a series of squares that can be used to draw a Fibonacci spiral (also known as the golden ratio). \nThe program will cover an example of the relationship between math and nature. Learn how to calculate the Fibonacci sequence and draw the squares that relate to it on grid paper with a ruler. The Fibonacci Spiral can then be drawn in the squares. \nAll supplies are included in the supply fee. This workshop is open to adults as well as children 10 years old or older. Children ages 10-14 years old must be accompanied by a participating parent or guardian. \nRegister Now \n\nImage credit: Fibonacci spiral example by Linda Gaines \n\nSTEAM-tastic @ DRA – Come join us at Del Ray Artisans for interactive classes about Science\, Technology\, Engineering\, Arts and Math (STEAM)\, taught by professionals from each field. The discount ticket price per child is made possible with support from the City of Alexandria through the FY2026 Annual Arts Program Grant. \n\nView other upcoming workshops\, information about the facility\, and policies on the Upcoming Workshops page.
URL:https://delrayartisans.org/event/fibonacci-spiral/
LOCATION:Del Ray Artisans Gallery\, 2704 Mount Vernon Avenue\, Alexandria\, VA\, 22301\, United States
CATEGORIES:Program,Workshop,Youth
ATTACH;FMTTYPE=image/jpeg:https://delrayartisans.org/wp-content/uploads/2026/02/Fibonacci-spiral-example-by-Linda-Gaines.jpeg
ORGANIZER;CN="Tracy Wilkerson%2C Programs Director":MAILTO:programs@delrayartisans.org
END:VEVENT
BEGIN:VEVENT
DTSTART;TZID=America/New_York:20260328T180000
DTEND;TZID=America/New_York:20260328T210000
DTSTAMP:20260422T211328
CREATED:20260224T173139Z
LAST-MODIFIED:20260320T132532Z
UID:10002207-1774720800-1774731600@delrayartisans.org
SUMMARY:America 250 City Art Poster Project: Open Studio / Guided Poster Workshop (All Ages)
DESCRIPTION:America 250 Community Poster Workshop\nBuilding Our Third Space \nAs part of the nationwide America 250 City Art Poster Project\, Del Ray Artisans invites artists of all ages to participate in a community poster workshop celebrating the 250th anniversary of the United States. Taking place during the Assembly art exhibit\, this workshop explores the idea of community as something we build together. Participants will reflect on the role of “third spaces”—places beyond home and work where people gather\, connect\, and share experiences. \nThrough guided prompts and an open studio format\, participants will design original posters that imagine the future of our city and the communities we continue to shape together. \nAll experience levels are welcome. Materials will be provided\, and facilitators will guide participants through the creative process and project requirements. Each poster should be 24 inches wide by 32 inches high and include the city name and “America 250” while reflecting civic pride\, shared identity\, and optimism for the future. \nCompleted posters will be officially submitted to the America 250 City Art Poster Project\, representing our community alongside cities across the country. Selected works may be featured in exhibitions\, public displays\, and national publications. Because of this\, posters will remain with the organization for submission and review. Participants are encouraged to photograph their work during the workshop and share it digitally with friends\, family\, and their portfolios. \nCome help imagine what the next 250 years of community could look like. \nInstructor: Morgan Parr\nDate/Time: Saturday\, March 28\, 6-9pm\nLocation: Del Ray Artisans Gallery\nAges: All ages welcome\nCost: FREE\n(Drop-in!) \nThis workshop is made possible with support from the City of Alexandria. It is anticipated that the poster submissions will be on display in the city\, and a digital gallery of all submissions will be created to be shared by residents. Each artist retains all copyrights in and to their original artwork submitted to the City. By submitting an entry\, the artist grants the City a non-exclusive license to use\, reproduce\, publish\, display\, distribute\, and archive images of the submitted artwork. \n\nView other upcoming workshops\, information about the facility\, and policies on the Upcoming Workshops page.
URL:https://delrayartisans.org/event/america-250-poster-workshop/
LOCATION:Del Ray Artisans Gallery\, 2704 Mount Vernon Avenue\, Alexandria\, VA\, 22301\, United States
CATEGORIES:Program,Workshop,Youth
ATTACH;FMTTYPE=image/jpeg:https://delrayartisans.org/wp-content/uploads/2026/03/250-poster-contest.jpg
ORGANIZER;CN="Morgan Parr":MAILTO:rmorganparr@gmail.com
END:VEVENT
END:VCALENDAR