BEGIN:VCALENDAR
VERSION:2.0
PRODID:-//Del Ray Artisans - ECPv6.15.20//NONSGML v1.0//EN
CALSCALE:GREGORIAN
METHOD:PUBLISH
X-WR-CALNAME:Del Ray Artisans
X-ORIGINAL-URL:https://delrayartisans.org
X-WR-CALDESC:Events for Del Ray Artisans
REFRESH-INTERVAL;VALUE=DURATION:PT1H
X-Robots-Tag:noindex
X-PUBLISHED-TTL:PT1H
BEGIN:VTIMEZONE
TZID:America/New_York
BEGIN:DAYLIGHT
TZOFFSETFROM:-0500
TZOFFSETTO:-0400
TZNAME:EDT
DTSTART:20240310T070000
END:DAYLIGHT
BEGIN:STANDARD
TZOFFSETFROM:-0400
TZOFFSETTO:-0500
TZNAME:EST
DTSTART:20241103T060000
END:STANDARD
BEGIN:DAYLIGHT
TZOFFSETFROM:-0500
TZOFFSETTO:-0400
TZNAME:EDT
DTSTART:20250309T070000
END:DAYLIGHT
BEGIN:STANDARD
TZOFFSETFROM:-0400
TZOFFSETTO:-0500
TZNAME:EST
DTSTART:20251102T060000
END:STANDARD
BEGIN:DAYLIGHT
TZOFFSETFROM:-0500
TZOFFSETTO:-0400
TZNAME:EDT
DTSTART:20260308T070000
END:DAYLIGHT
BEGIN:STANDARD
TZOFFSETFROM:-0400
TZOFFSETTO:-0500
TZNAME:EST
DTSTART:20261101T060000
END:STANDARD
END:VTIMEZONE
BEGIN:VEVENT
DTSTART;TZID=America/New_York:20250501T183000
DTEND;TZID=America/New_York:20250501T200000
DTSTAMP:20260423T134445
CREATED:20250408T150548Z
LAST-MODIFIED:20250409T023259Z
UID:10001720-1746124200-1746129600@delrayartisans.org
SUMMARY:First Thursday: Make art inspired by Georgia O’Keeffe 6:30-8pm (Gallery Open 12-9pm)
DESCRIPTION:April showers bring May Day flowers at Del Ray Artisans. Join us for a free\, artful\, family-friendly activity from 6:30-8:00pm on First Thursday\, May 1. Artist Morgan Parr will be exploring the floral expressions of iconic American artist Georgia O’Keeffe. Make your own pretty-in-pastel picture for your home art gallery. \nTo celebrate this Dog Days in Del Ray First Thursday\, humans and dogs are welcome to a sneak peek of the totally terrific Alexandria City High School Titan Student Exhibition. There will be treats available for your canine companions inside the gallery too! \nMake art inspired by Georgia O’Keeffe activity (Photo courtesy of Morgan Parr)\n\nEvery year from April through September Del Ray Business Association celebrates First Thursday\, a Del Ray community event along Mount Vernon Avenue from 6pm until dusk on the first Thursday of the month. \nJoin the Del Ray community each First Thursday for themed activities\, a donation drive to support a local nonprofit\, and live music. The theme and nonprofit will be announced in advance\, and donations will be collected at the Pat Miller Neighborhood Square at the intersection of Mount Vernon and Oxford Avenues. Join us for the neighborhood themes: \n\nApril 3\, 2025 – Music & Dance on the Avenue\nMay 1\, 2025 – Dog Days in Del Ray\nJune 5\, 2025 – theme TBD (2024 theme: Jump into Summer)\nJuly 3\, 2025 – theme TBD (2024 theme: Red\, White and Blue (Gallery is closed)\nAugust 7\, 2025 – theme TBD (2024 theme: Del Ray Olympics)\nSeptember 4\, 2025 – theme TBD (2024 theme: Saddle Up)\n\nDel Ray Artisans is a member of Del Ray Business Association.
URL:https://delrayartisans.org/event/first-thursday-may-2025/
LOCATION:Del Ray Artisans Gallery\, 2704 Mount Vernon Avenue\, Alexandria\, VA\, 22301\, United States
CATEGORIES:Community Event,Program,Youth
ATTACH;FMTTYPE=image/jpeg:https://delrayartisans.org/wp-content/uploads/2023/05/DRBA-FirstThursday-2024.jpg
ORGANIZER;CN="Kelly MacConomy%2C Outreach Director":MAILTO:outreach@delrayartisans.org
END:VEVENT
BEGIN:VEVENT
DTSTART;TZID=America/New_York:20250503T100000
DTEND;TZID=America/New_York:20250503T120000
DTSTAMP:20260423T134445
CREATED:20250410T195520Z
LAST-MODIFIED:20250410T202012Z
UID:10001811-1746266400-1746273600@delrayartisans.org
SUMMARY:STEAM-tastic: Analogous Watercolor Leaves (Ages 6-12)
DESCRIPTION:Instructor Morgan Parr\nInstructor: Morgan Parr\nDate/Time: Saturday\, May 3\, 10am-12pm\nCost: $25/child\nClass size: 3-15 participants\n(Register in advance; walk-ins allowed\, space permitting.) \nGeorgia O’Keeffe’s style of large-scale flowers\, trees\, and leaves that used distortion were inspired by her summer vacations to New Mexico. These beautifully colored leaves are sure to brighten up your home. Join us while we practice drawing organic shapes to create curvy oak leaves while learning about Color Theory and the amazing pioneer of modern art: Georgia O’Keeffe. All the supplies are provided. \nThis workshop is for participants ages 6-12 years old. Family members are welcome to attend\, listen\, and learn. Please contact the Youth Programs Director at youth@delrayartisans.org with any questions. \nRegister Now \n\nSTEAM-tastic @ DRA – Come join us at Del Ray Artisans for interactive classes about Science\, Technology\, Engineering\, Arts and Math (STEAM)\, taught by professionals from each field! Geared toward kids and teens\, each lesson has a short talk or demonstration and a hands-on craft project. Del Ray Artisans’ STEAM-tastic workshops are made possible with support from the City of Alexandria through the FY2025 Annual Arts Program Grant.\n \n\nView all upcoming workshops\, information about the facility\, and policies on the Upcoming Workshops page.
URL:https://delrayartisans.org/event/steam-tastic-analogous-watercolor-leaves/
LOCATION:Del Ray Artisans Gallery\, 2704 Mount Vernon Avenue\, Alexandria\, VA\, 22301\, United States
CATEGORIES:Program,Workshop,Youth
ATTACH;FMTTYPE=image/jpeg:https://delrayartisans.org/wp-content/uploads/2025/04/STEAM-AnalogousLeaves.jpg
ORGANIZER;CN="Morgan Parr":MAILTO:rmorganparr@gmail.com
END:VEVENT
BEGIN:VEVENT
DTSTART;TZID=America/New_York:20250518T090000
DTEND;TZID=America/New_York:20250518T103000
DTSTAMP:20260423T134445
CREATED:20250301T233114Z
LAST-MODIFIED:20250509T163423Z
UID:10001793-1747558800-1747564200@delrayartisans.org
SUMMARY:CANCELED: STEAM-tastic: Have a Voice - Poster for the Planet! (Ages 6-10)
DESCRIPTION:Instructor Ruth Furpahs\nInstructor: Ruth Furpahs\nDate/Time: Sunday\, May 18\, 9-10:30am\nCost: $20/child\nClass size: 1-15 participants\n(Register by May 14) \nCreate a poster with a Punch! To honor the earth\, create a poster emphasizing an environmental problem and/or solution. These may be from personal experience or from any background knowledge you may have. Also the instructor will share some of the leading environmental issues today to help with ideas. Before this workshop\, you can research topics or imagery (on a non-copyrighted site such as Unsplash). \nLet’s hear your voice – create a poster with a positive solution to an environmental issue of today! Using colored soft pastels\, markers\, and other drawing materials you will create a poster that you can display in your home or post online for family and friends to see. \nParticipants will learn how to focus on craftsmanship\, understand the use of color to create a poster and more about the principles and elements of art and design. \nThe hands-on activity is for participants’ ages 6-10. Family members are welcome to attend\, listen\, and learn. Please contact the Youth Programs Director at youth@delrayartisans.org with any questions. \n  \n\nSTEAM-tastic @ DRA – Come join us at Del Ray Artisans for interactive classes about Science\, Technology\, Engineering\, Arts and Math (STEAM)\, taught by professionals from each field! Geared toward kids and teens\, each lesson has a short talk or demonstration and a hands-on craft project. Del Ray Artisans’ STEAM-tastic workshops are made possible with support from the City of Alexandria through the FY2025 Annual Arts Program Grant.\n \n\nView all upcoming workshops\, information about the facility\, and policies on the Upcoming Workshops page.
URL:https://delrayartisans.org/event/steam-earth-poster-ages-6-10/
LOCATION:Del Ray Artisans Gallery\, 2704 Mount Vernon Avenue\, Alexandria\, VA\, 22301\, United States
CATEGORIES:Program,Workshop,Youth
ATTACH;FMTTYPE=image/jpeg:https://delrayartisans.org/wp-content/uploads/2025/03/STEAM-EarthPoster.jpg
ORGANIZER;CN="Suzan Ok Shumate%2C STEAM-tastic Coordinator":MAILTO:steam@delrayartisans.org
END:VEVENT
BEGIN:VEVENT
DTSTART;TZID=America/New_York:20250518T110000
DTEND;TZID=America/New_York:20250518T123000
DTSTAMP:20260423T134445
CREATED:20250301T233332Z
LAST-MODIFIED:20250509T163453Z
UID:10001794-1747566000-1747571400@delrayartisans.org
SUMMARY:CANCELED: STEAM-tastic: Have a Voice - Poster for the Planet! (Ages 11-17)
DESCRIPTION:Instructor Ruth Furpahs\nInstructor: Ruth Furpahs\nDate/Time: Sunday\, May 18\, 11am-12:30pm\nCost: $20/child\nClass size: 1-15 participants\n(Register by May 14) \nCreate a poster with a Punch! To honor the earth\, create a poster emphasizing an environmental problem and/or solution. These may be from personal experience or from any background knowledge you may have. Also the instructor will share some of the leading environmental issues today to help with ideas. Before this workshop\, you can research topics or imagery (on a non-copyrighted site such as Unsplash). \nLet’s hear your voice – create a poster with a positive solution to an environmental issue of today! Using colored soft pastels\, markers\, and other drawing materials you will create a poster that you can display in your home or post online for family and friends to see. \nParticipants will learn how to focus on craftsmanship\, understand the use of color to create a poster and more about the principles and elements of art and design. \nThe hands-on activity is for participants’ ages 11-17. Family members are welcome to attend\, listen\, and learn. Please contact the Youth Programs Director at youth@delrayartisans.org with any questions. \n \n\nSTEAM-tastic @ DRA – Come join us at Del Ray Artisans for interactive classes about Science\, Technology\, Engineering\, Arts and Math (STEAM)\, taught by professionals from each field! Geared toward kids and teens\, each lesson has a short talk or demonstration and a hands-on craft project. Del Ray Artisans’ STEAM-tastic workshops are made possible with support from the City of Alexandria through the FY2025 Annual Arts Program Grant.\n \n\nView all upcoming workshops\, information about the facility\, and policies on the Upcoming Workshops page.
URL:https://delrayartisans.org/event/steam-earth-poster-ages-11-17/
LOCATION:Del Ray Artisans Gallery\, 2704 Mount Vernon Avenue\, Alexandria\, VA\, 22301\, United States
CATEGORIES:Program,Workshop,Youth
ATTACH;FMTTYPE=image/jpeg:https://delrayartisans.org/wp-content/uploads/2025/03/STEAM-EarthPoster.jpg
ORGANIZER;CN="Suzan Ok Shumate%2C STEAM-tastic Coordinator":MAILTO:steam@delrayartisans.org
END:VEVENT
END:VCALENDAR