BEGIN:VCALENDAR
VERSION:2.0
PRODID:-//Del Ray Artisans - ECPv6.15.20//NONSGML v1.0//EN
CALSCALE:GREGORIAN
METHOD:PUBLISH
X-WR-CALNAME:Del Ray Artisans
X-ORIGINAL-URL:https://delrayartisans.org
X-WR-CALDESC:Events for Del Ray Artisans
REFRESH-INTERVAL;VALUE=DURATION:PT1H
X-Robots-Tag:noindex
X-PUBLISHED-TTL:PT1H
BEGIN:VTIMEZONE
TZID:America/New_York
BEGIN:DAYLIGHT
TZOFFSETFROM:-0500
TZOFFSETTO:-0400
TZNAME:EDT
DTSTART:20240310T070000
END:DAYLIGHT
BEGIN:STANDARD
TZOFFSETFROM:-0400
TZOFFSETTO:-0500
TZNAME:EST
DTSTART:20241103T060000
END:STANDARD
BEGIN:DAYLIGHT
TZOFFSETFROM:-0500
TZOFFSETTO:-0400
TZNAME:EDT
DTSTART:20250309T070000
END:DAYLIGHT
BEGIN:STANDARD
TZOFFSETFROM:-0400
TZOFFSETTO:-0500
TZNAME:EST
DTSTART:20251102T060000
END:STANDARD
BEGIN:DAYLIGHT
TZOFFSETFROM:-0500
TZOFFSETTO:-0400
TZNAME:EDT
DTSTART:20260308T070000
END:DAYLIGHT
BEGIN:STANDARD
TZOFFSETFROM:-0400
TZOFFSETTO:-0500
TZNAME:EST
DTSTART:20261101T060000
END:STANDARD
END:VTIMEZONE
BEGIN:VEVENT
DTSTART;TZID=America/New_York:20250403T183000
DTEND;TZID=America/New_York:20250403T200000
DTSTAMP:20260423T152508
CREATED:20250316T002004Z
LAST-MODIFIED:20250330T201404Z
UID:10001801-1743705000-1743710400@delrayartisans.org
SUMMARY:First Thursday: Make art inspired by Alma Thomas 6:30-8pm (Gallery Open 12-9pm)
DESCRIPTION:Join us inside Del Ray Artisans gallery from 6:30-8pm on the first Thursday of the month from April through September for our family-friendly activity! The activity is free of charge and all ages are welcome. \nActivity on Thursday\, April 3: Make your own 5×5-inch artwork inspired by Alma Thomas! Alma Thomas’ art was kindled by what she saw around her and used circles\, stripes and dashes to create brilliantly colored works of art. New York City’s art museum\, The Whitney\, featured her Paintings of Earth and Space in the first solo show by a black woman\, and she spent most of her life working with and teaching youth about art. \nPlus get a sneak peek of the upcoming art exhibit\, Synchronous. Del Ray Artisans gallery is open 12-9pm on First Thursdays from April through September. \nThis activity is a part of STEAM-tastic. Del Ray Artisans’ youth program focusing on Science\, Technology\, Engineering\, Arts\, and Math.\nMake art inspired by Alma Thomas activity (Photo courtesy of Morgan Parr)\n\nEvery year from April through September Del Ray Business Association celebrates First Thursday\, a Del Ray community event along Mount Vernon Avenue from 6pm until dusk on the first Thursday of the month. \nJoin the Del Ray community each First Thursday for themed activities\, a donation drive to support a local nonprofit\, and live music. The theme and nonprofit will be announced in advance\, and donations will be collected at the Pat Miller Neighborhood Square at the intersection of Mount Vernon and Oxford Avenues. Join us for the neighborhood themes: \n\nApril 3\, 2025 – Music & Dance on the Avenue\nMay 1\, 2025 – theme TBD (2024 theme: Dog Days in Del Ray)\nJune 5\, 2025 – theme TBD (2024 theme: Jump into Summer)\nJuly 3\, 2025 – theme TBD (2024 theme: Red\, White and Blue (Gallery is closed)\nAugust 7\, 2025 – theme TBD (2024 theme: Del Ray Olympics)\nSeptember 4\, 2025 – theme TBD (2024 theme: Saddle Up)\n\nDel Ray Artisans is a member of Del Ray Business Association.
URL:https://delrayartisans.org/event/first-thursday-april-2025/
LOCATION:Del Ray Artisans Gallery\, 2704 Mount Vernon Avenue\, Alexandria\, VA\, 22301\, United States
CATEGORIES:Community Event,Program,Youth
ATTACH;FMTTYPE=image/jpeg:https://delrayartisans.org/wp-content/uploads/2023/05/DRBA-FirstThursday-2024.jpg
ORGANIZER;CN="Kelly MacConomy%2C Outreach Director":MAILTO:outreach@delrayartisans.org
END:VEVENT
BEGIN:VEVENT
DTSTART;TZID=America/New_York:20250405T100000
DTEND;TZID=America/New_York:20250405T150000
DTSTAMP:20260423T152508
CREATED:20250201T211808Z
LAST-MODIFIED:20250602T163153Z
UID:10001768-1743847200-1743865200@delrayartisans.org
SUMMARY:Girl Scout "Art and Design" Brownie Badge Workshop (Register by 4/1)
DESCRIPTION:Instructor: Sandra Alami\nDate/Time: Saturday\, April 5\, 10am-3pm\nCost: $15/child\nSpace is limited to 18 girls and 6 adults\n(Register by April 1) \nBrownies will complete all the steps needed to earn their Art and Design badge. All art supplies provided. (The actual badge is not included.) \nTroop leaders should register as a troop and must provide a 6:1 ratio of girls to adults. This is not a drop-off event. Adults must remain on site. Troop leaders are responsible for collecting all necessary paperwork (permission slips\, health forms\, etc). \nRegister Now \n\nDel Ray Artisans’ Youth Art Programs are made possible with support from the City of Alexandria through the FY2025 Annual Arts Program Grant and through a generous donation supporting youth art programs from Genesis Inspiration Foundation.
URL:https://delrayartisans.org/event/brownie-badge-april-2025/
LOCATION:Del Ray Artisans Gallery\, 2704 Mount Vernon Avenue\, Alexandria\, VA\, 22301\, United States
CATEGORIES:Program,Workshop,Youth
ATTACH;FMTTYPE=image/jpeg:https://delrayartisans.org/wp-content/uploads/2025/02/Brownie-Badge-square-April2025.jpg
ORGANIZER;CN="Sandra Alami%2C Director of Youth Programs":MAILTO:Youth@DelRayArtisans.org
END:VEVENT
BEGIN:VEVENT
DTSTART;TZID=America/New_York:20250425T170000
DTEND;TZID=America/New_York:20250425T200000
DTSTAMP:20260423T152508
CREATED:20250116T151039Z
LAST-MODIFIED:20250206T215934Z
UID:10001742-1745600400-1745611200@delrayartisans.org
SUMMARY:STEAM-tastic: Make art inspired by Alma Thomas at Dragon Fest\, George Mason Elementary
DESCRIPTION:Instructor: Morgan Parr\nDate/Time: Friday\, April 25\, 5-8pm\nCost: FREE\, donations appreciated\n(Drop-in\, this is a self-paced activity) \nMake your own 5×5-inch artwork inspired by Alma Thomas at Del Ray Artisans’ youth art activity booth at Dragon Fest at George Mason Elementary (2601 Cameron Mills Rd\, Alexandria VA). \nAlma Thomas’ art was kindled by what she saw around her and used circles\, stripes and dashes to create brilliantly colored works of art. New York City’s art museum\, The Whitney\, featured her Paintings of Earth and Space in the first solo show by a black woman\, and she spent most of her life working with and teaching youth about art.\n\n \n\nSTEAM-tastic @ DRA – Del Ray Artisans’ STEAM-tastic program is made possible with support from the City of Alexandria through the FY2025 Annual Arts Program Grant and through a generous donation supporting youth art programs from Genesis Inspiration Foundation.
URL:https://delrayartisans.org/event/dragonfest-2025/
LOCATION:George Mason Elementary School\, 2601 Cameron Mills Rd\, Alexandria\, VA\, 22302\, United States
CATEGORIES:Community Event,Program,Youth
ATTACH;FMTTYPE=image/jpeg:https://delrayartisans.org/wp-content/uploads/2025/01/STEAM-Alma-Thomas.jpg
ORGANIZER;CN="Morgan Parr%2C Director of Volunteers":MAILTO:volunteers@delrayartisans.org
END:VEVENT
END:VCALENDAR