BEGIN:VCALENDAR
VERSION:2.0
PRODID:-//Del Ray Artisans - ECPv6.15.20//NONSGML v1.0//EN
CALSCALE:GREGORIAN
METHOD:PUBLISH
X-WR-CALNAME:Del Ray Artisans
X-ORIGINAL-URL:https://delrayartisans.org
X-WR-CALDESC:Events for Del Ray Artisans
REFRESH-INTERVAL;VALUE=DURATION:PT1H
X-Robots-Tag:noindex
X-PUBLISHED-TTL:PT1H
BEGIN:VTIMEZONE
TZID:America/New_York
BEGIN:DAYLIGHT
TZOFFSETFROM:-0500
TZOFFSETTO:-0400
TZNAME:EDT
DTSTART:20240310T070000
END:DAYLIGHT
BEGIN:STANDARD
TZOFFSETFROM:-0400
TZOFFSETTO:-0500
TZNAME:EST
DTSTART:20241103T060000
END:STANDARD
BEGIN:DAYLIGHT
TZOFFSETFROM:-0500
TZOFFSETTO:-0400
TZNAME:EDT
DTSTART:20250309T070000
END:DAYLIGHT
BEGIN:STANDARD
TZOFFSETFROM:-0400
TZOFFSETTO:-0500
TZNAME:EST
DTSTART:20251102T060000
END:STANDARD
BEGIN:DAYLIGHT
TZOFFSETFROM:-0500
TZOFFSETTO:-0400
TZNAME:EDT
DTSTART:20260308T070000
END:DAYLIGHT
BEGIN:STANDARD
TZOFFSETFROM:-0400
TZOFFSETTO:-0500
TZNAME:EST
DTSTART:20261101T060000
END:STANDARD
END:VTIMEZONE
BEGIN:VEVENT
DTSTART;TZID=America/New_York:20250308T100000
DTEND;TZID=America/New_York:20250308T120000
DTSTAMP:20260423T185028
CREATED:20250114T193540Z
LAST-MODIFIED:20250304T211758Z
UID:10001737-1741428000-1741435200@delrayartisans.org
SUMMARY:STEAM-tastic: Fairy Home in the Forest Workshop (Ages 6-12; Register ASAP)
DESCRIPTION:Instructor Morgan Parr\nInstructor: Morgan Parr\nDate/Time: Saturday\, March 8\, 10am-12pm\nCost: $25/child\nClass size: 4-20 participants\n(Register in advance; walk-ins welcome only if space permits) \nDraw your own fairy home using markers and paint to capture even the tiniest of details. \nYoung artists will use picture books\, drawings\, and their creativity to create a 2D home for their imaginary fairies that includes variations on fairy homes\, mushrooms\, leaves\, flowers\, insects and more. All supplies included. \nThis workshop is for participants ages 6-12 years old. Family members are welcome to attend\, listen\, and learn. Please contact the Youth Programs Director at youth@delrayartisans.org with any questions. \nThis workshop is held in conjunction with the Fairy Tales Around the World art exhibit. \nRegister Now \n\nSTEAM-tastic @ DRA – Come join us at Del Ray Artisans for interactive classes about Science\, Technology\, Engineering\, Arts and Math (STEAM)\, taught by professionals from each field! Geared toward kids and teens\, each lesson has a short talk or demonstration and a hands-on craft project. Del Ray Artisans’ STEAM-tastic workshops are made possible with support from the City of Alexandria through the FY2025 Annual Arts Program Grant.\n \n\nView all upcoming workshops\, information about the facility\, and policies on the Upcoming Workshops page.
URL:https://delrayartisans.org/event/steam-fairy-home/
LOCATION:Del Ray Artisans Gallery\, 2704 Mount Vernon Avenue\, Alexandria\, VA\, 22301\, United States
CATEGORIES:Program,Workshop,Youth
ATTACH;FMTTYPE=image/jpeg:https://delrayartisans.org/wp-content/uploads/2025/01/STEAM-FairyHomes-Morgan-Parr.jpg
ORGANIZER;CN="Morgan Parr":MAILTO:rmorganparr@gmail.com
END:VEVENT
BEGIN:VEVENT
DTSTART;TZID=America/New_York:20250314T180000
DTEND;TZID=America/New_York:20250314T210000
DTSTAMP:20260423T185028
CREATED:20250114T221747Z
LAST-MODIFIED:20250312T203216Z
UID:10001740-1741975200-1741986000@delrayartisans.org
SUMMARY:CANCELED: 3-D Paper Mache Fairy Tale Character Workshop (teens 16+ and adults)
DESCRIPTION:This workshop has been cancelled. \nInstructor: Courtney Pippin-Mathur\nDate/Time: Fridays\, March 14 and March 21\, 6-9pm\nCost: $50 Del Ray Artisans member / $60 Non-member; Plus $7 Supply Fee\nClass size: 6-12 participants\n(Register by midnight on March 11) \nEver dreamed of being a witch\, wizard\, princess or ogre? Join this workshop to learn to create your own hand-held magical and fairy tale inspired characters. And to make it extra fun\, we are doing it with paper mache! Get connected with your inner child as you get messy. Bring any favorite fairy tale inspiration to jump right in. \nWe start with cardboard\, wire and tape to build the armature\, add layers with paper mache and come back a week later to paint and add your own special details! \nThis two-session class is for adults and older teens (16+ years old). Each session is three hours but some students might finish early. All supplies are provided but if you have any thin cardboard you’d like to upcycle\, bring it along! \nThis workshop is held in conjunction with the Fairy Tales Around the World art exhibit. \n \n\nView other upcoming workshops\, information about the facility\, and policies on the Upcoming Workshops page.
URL:https://delrayartisans.org/event/3d-paper-mache/
LOCATION:Del Ray Artisans Gallery\, 2704 Mount Vernon Avenue\, Alexandria\, VA\, 22301\, United States
CATEGORIES:Program,Workshop,Youth
ATTACH;FMTTYPE=image/jpeg:https://delrayartisans.org/wp-content/uploads/2025/01/3D-FairyTaleCharacter-Courtney-Pippin-Mathur.jpg
ORGANIZER;CN="Courtney Pippin-Mathur":MAILTO:courtney@pippinmathur.com
END:VEVENT
BEGIN:VEVENT
DTSTART;TZID=America/New_York:20250322T100000
DTEND;TZID=America/New_York:20250322T130000
DTSTAMP:20260423T185028
CREATED:20250114T220128Z
LAST-MODIFIED:20250318T195439Z
UID:10001738-1742637600-1742648400@delrayartisans.org
SUMMARY:STEAM-tastic: 2-D Paper Mache Room Decoration (Ages 9-15; Register ASAP)
DESCRIPTION:Instructor Courtney Pippin-Mathur\nInstructor: Courtney Pippin-Mathur\nDate/Time: Saturdays\, March 22 & March 29\, 10am-1pm\nCost: $25/child\nClass size: 4-12 participants\n(Register in advance; Walk-ins welcome if space permits) \nDo you love fairy tales? Create your own fairy-tale inspired character to hang up in your room. Let your imagination run wild\, from heroes who are scared\, to damsels who don’t care\, villains who love jelly beans\, monsters who want to help and everything in between! \nBring your favorite fairy tale character ideas to get started right away. We use cardboard\, paper mache and paint\, so come prepared to get messy. \nOn day 1\, you will design your fairy tale character and create your design into a paper mache wall piece. Paper mache takes a few days to dry so you will come back on the 2nd date to paint and finalize your wall piece. The sessions are three hours each\, but some students might finish early. Students must be accompanied by an adult who can assist with cutting cardboard. (Only the student needs to register; there is no fee for assisting adults.) \nThe hands-on activity is for participants’ ages 9-15 years old. Family members are welcome to attend\, listen\, and learn. Please contact the Youth Programs Director at youth@delrayartisans.org with any questions. \nThis workshop is held in conjunction with the Fairy Tales Around the World art exhibit. \nRegister Now \n\nSTEAM-tastic @ DRA – Come join us at Del Ray Artisans for interactive classes about Science\, Technology\, Engineering\, Arts and Math (STEAM)\, taught by professionals from each field! Geared toward kids and teens\, each lesson has a short talk or demonstration and a hands-on craft project. Del Ray Artisans’ STEAM-tastic workshops are made possible with support from the City of Alexandria through the FY2025 Annual Arts Program Grant.\n \n\nView all upcoming workshops\, information about the facility\, and policies on the Upcoming Workshops page.
URL:https://delrayartisans.org/event/steam-2d-paper-mache/
LOCATION:Del Ray Artisans Gallery\, 2704 Mount Vernon Avenue\, Alexandria\, VA\, 22301\, United States
CATEGORIES:Program,Workshop,Youth
ATTACH;FMTTYPE=image/jpeg:https://delrayartisans.org/wp-content/uploads/2025/01/STEAM-2D-PaperMache-Courtney-Pippin-Mathur.jpg
ORGANIZER;CN="Courtney Pippin-Mathur":MAILTO:courtney@pippinmathur.com
END:VEVENT
END:VCALENDAR