BEGIN:VCALENDAR
VERSION:2.0
PRODID:-//Del Ray Artisans - ECPv6.15.20//NONSGML v1.0//EN
CALSCALE:GREGORIAN
METHOD:PUBLISH
X-ORIGINAL-URL:https://delrayartisans.org
X-WR-CALDESC:Events for Del Ray Artisans
REFRESH-INTERVAL;VALUE=DURATION:PT1H
X-Robots-Tag:noindex
X-PUBLISHED-TTL:PT1H
BEGIN:VTIMEZONE
TZID:America/New_York
BEGIN:DAYLIGHT
TZOFFSETFROM:-0500
TZOFFSETTO:-0400
TZNAME:EDT
DTSTART:20250309T070000
END:DAYLIGHT
BEGIN:STANDARD
TZOFFSETFROM:-0400
TZOFFSETTO:-0500
TZNAME:EST
DTSTART:20251102T060000
END:STANDARD
BEGIN:DAYLIGHT
TZOFFSETFROM:-0500
TZOFFSETTO:-0400
TZNAME:EDT
DTSTART:20260308T070000
END:DAYLIGHT
BEGIN:STANDARD
TZOFFSETFROM:-0400
TZOFFSETTO:-0500
TZNAME:EST
DTSTART:20261101T060000
END:STANDARD
BEGIN:DAYLIGHT
TZOFFSETFROM:-0500
TZOFFSETTO:-0400
TZNAME:EDT
DTSTART:20270314T070000
END:DAYLIGHT
BEGIN:STANDARD
TZOFFSETFROM:-0400
TZOFFSETTO:-0500
TZNAME:EST
DTSTART:20271107T060000
END:STANDARD
END:VTIMEZONE
BEGIN:VEVENT
DTSTART;TZID=America/New_York:20260502T180000
DTEND;TZID=America/New_York:20260502T193000
DTSTAMP:20260422T203357
CREATED:20260327T183029Z
LAST-MODIFIED:20260401T184314Z
UID:10002220-1777744800-1777750200@delrayartisans.org
SUMMARY:Sewing Machine 101 (BYO Sewing Machine; Register by 4/28)
DESCRIPTION:Instructor: Syd Grossman\nDate/Time: Saturday\, May 2\, 6-7:30pm\nCost: $25 per DRA member/$35 per non-member\nClass size: 5-8 participants\n(Register by April 28) \nLearn the fundamentals of how to use your sewing machine\, whether you’ve just bought it or haven’t used it in 20 years. \nSewing machines open up a world of possibilities to make or mend your clothes or decor\, and create beautiful art with fabric. Starting up a sewing machine is a big\, wonderful first step that can come with a few hitches. Come learn about your sewing machine from making first stitches to troubleshooting when something goes wrong. \nWe will review: threading your machine\, winding the bobbin (if available on your machine)\, installing the bobbin\, starting your first stitches\, the differences between stitches (and which ones do you really need?)\, and troubleshooting errors. \nIf you have your manual please bring it\, otherwise please contact Syd after registration with your machine’s make and model (ex: Brother C6000i\, Kenmore 158.1595281\, Pfaff Hobby 301) or pictures of the machine if you’re not sure. \nStudents must bring their own sewing machine and manual\, or let Syd know what kind of machine they’re bringing. \nRegister Now \n\nImage credit: Syd Grossman \n\nSTEAM-tastic @ DRA – Come join us at Del Ray Artisans for interactive classes about Science\, Technology\, Engineering\, Arts and Math (STEAM)\, taught by professionals from each field! Geared toward youth\, each lesson has a short talk or demonstration and a hands-on craft project. Del Ray Artisans’ STEAM-tastic workshops are made possible with support from the City of Alexandria through the FY2026 Annual Arts Program Grant.\n \n\nView other upcoming workshops\, information about the facility\, and policies on the Upcoming Workshops page.
URL:https://delrayartisans.org/event/sewing-machine-101/
LOCATION:Del Ray Artisans Gallery\, 2704 Mount Vernon Avenue\, Alexandria\, VA\, 22301\, United States
CATEGORIES:Program,Workshop
ATTACH;FMTTYPE=image/jpeg:https://delrayartisans.org/wp-content/uploads/2026/03/Syd-Sewing-101.jpg
ORGANIZER;CN="Syd Grossman%2C Radical Sewing Club-ALX":MAILTO:radicalsewingclubalx@pm.me
END:VEVENT
BEGIN:VEVENT
DTSTART;TZID=America/New_York:20260503T100000
DTEND;TZID=America/New_York:20260503T120000
DTSTAMP:20260422T203357
CREATED:20260323T195633Z
LAST-MODIFIED:20260324T151616Z
UID:10002217-1777802400-1777809600@delrayartisans.org
SUMMARY:Mindful Acrylic Pour: A Creative Practice in Letting Go (Register by 4/29)
DESCRIPTION:Instructor: Yvette Trapani\nDate/Time: Sunday\, May 3\, 10am-Noon\nCost: $45 Del Ray Artisans member / $55 Non-member; plus $20 supply fee\nClass size: 8-12 participants\n(Register by April 29) \nIn this relaxing\, hands-on workshop\, participants will be introduced to mindfulness\, meditation\, & flow\, then invited to experience mindfulness through the flowing art of acrylic pour painting. As colors move and blend across the canvas\, the process invites you to slow down\, stay present with the flow\, and simply observe what unfolds. No artistic experience is needed. \nAll supplies will be provided. Participants will leave their paintings at the Del Ray Artisan gallery to allow time for the paintings to set. Art pieces can be picked during gallery hours. \nRegister Now \n\nArtwork credit: Yvette Trapani \n\nView other upcoming workshops\, information about the facility\, and policies on the Upcoming Workshops page.
URL:https://delrayartisans.org/event/mindful-acrylic-pour/
LOCATION:Del Ray Artisans Gallery\, 2704 Mount Vernon Avenue\, Alexandria\, VA\, 22301\, United States
CATEGORIES:Program,Workshop
ATTACH;FMTTYPE=image/jpeg:https://delrayartisans.org/wp-content/uploads/2026/03/Mindful-Pour-by-Yvette-Trapani.jpg
ORGANIZER;CN="Tracy Wilkerson%2C Programs Director":MAILTO:programs@delrayartisans.org
END:VEVENT
BEGIN:VEVENT
DTSTART;TZID=America/New_York:20260503T180000
DTEND;TZID=America/New_York:20260503T200000
DTSTAMP:20260422T203357
CREATED:20260119T000452Z
LAST-MODIFIED:20260310T181631Z
UID:10002150-1777831200-1777838400@delrayartisans.org
SUMMARY:DIY Ukulele Workshop (Register by 4/29)
DESCRIPTION:Instructor: Khushi Bhansali\nDate/Time: Sunday\, May 3\, 6-8pm\nCost: $20 Del Ray Artisans member / $30 Non-member; plus $30 supply fee\nClass size: 5-20 participants\n(Register by April 29) \nHand-paint and assemble your own ukulele to keep or give as a unique\, one-of-a-kind handmade gift. \nThe class begins with a quick overview of the ukulele’s parts and then participants will personalize their ukuleles with paint inspired by snowflakes\, spring\, or something of their choice. After the decorating is finished\, the instructor will guide participants on how to put the ukulele together and string the instruments. We’ll end with a beginner lesson on ukulele chords! \nAll materials are provided. \nRegister Now \n\nArtwork credit: Ukuleles by Khushi Bhansali \n\nView other upcoming workshops\, information about the facility\, and policies on the Upcoming Workshops page.
URL:https://delrayartisans.org/event/diy-ukulele/
LOCATION:Del Ray Artisans Gallery\, 2704 Mount Vernon Avenue\, Alexandria\, VA\, 22301\, United States
CATEGORIES:Program,Workshop
ATTACH;FMTTYPE=image/jpeg:https://delrayartisans.org/wp-content/uploads/2025/11/Ukeleles-by-Khushi-Bhansali.jpeg
ORGANIZER;CN="Tracy Wilkerson%2C Programs Director":MAILTO:programs@delrayartisans.org
END:VEVENT
BEGIN:VEVENT
DTSTART;TZID=America/New_York:20260504T180000
DTEND;TZID=America/New_York:20260504T210000
DTSTAMP:20260422T203357
CREATED:20260323T202043Z
LAST-MODIFIED:20260323T202143Z
UID:10002218-1777917600-1777928400@delrayartisans.org
SUMMARY:Playing with Resin Workshop
DESCRIPTION:Instructor: Tracy Wilkerson\, recycledworks@yahoo.com\nDate/Time: Monday\, May 4\, 6-9pm\nCost: $40 Del Ray Artisans member / $50 Non-member; plus a $10 Supply Fee\nClass size: 6-12 participants\n(Register in advance to guarantee a spot; walk-ins welcome\, space permitting.) \nLearn the ins and outs of prepping for and mixing resin\, and how to use it as an adhesive\, a covering\, or the main medium. There’s lots of creative time during this 3-hour workshop… No need to rush\, which is one of the first lessons in using resin! All supplies are provided\, but feel free to bring personal embellishments for your piece(s). \nThis workshop does not get into using dyes with resin or building big molds to create one-of-a-kind resined tables (as seen on YouTube)\, but this workshop will provide you with a good understanding of how resin works so you can be bold enough to take the next steps in your creative interests. \nAlthough the class is listed for 3 hours\, you can leave once you have finished your creations. Some students finish very quickly while others take the whole 3 hours to create – there is plenty of time for each person to enjoy the creative process while not feeling rushed. You’ll leave your finished masterpiece(s) to set at the gallery at the end of the workshop\, and pick them up during gallery hours later in the week. \nThe workshop is designed for adults. Children ages 16-17 may participate with parental permission. Children ages 12-15 may participate only with a co-participating adult guardian (guardian must contact instructor in advance). \nRegister Now  \n\nView other upcoming workshops\, information about the facility and policies on the Upcoming Workshops page.
URL:https://delrayartisans.org/event/playing-with-resin-2026-05/
LOCATION:Del Ray Artisans Gallery\, 2704 Mount Vernon Avenue\, Alexandria\, VA\, 22301\, United States
CATEGORIES:Program,Workshop
ATTACH;FMTTYPE=image/jpeg:https://delrayartisans.org/wp-content/uploads/1992/12/playing-with-resin-vMKzOK.tmp.jpg
ORGANIZER;CN="Tracy Wilkerson":MAILTO:recycledworks@yahoo.com
END:VEVENT
BEGIN:VEVENT
DTSTART;TZID=America/New_York:20260506T180000
DTEND;TZID=America/New_York:20260506T200000
DTSTAMP:20260422T203357
CREATED:20260323T204558Z
LAST-MODIFIED:20260329T142113Z
UID:10002219-1778090400-1778097600@delrayartisans.org
SUMMARY:STEAM-tastic: Shrinky Dink Charms (Ages 14-Adult; Register by 5/2)
DESCRIPTION:Instructor: Victoria Walchak\nDate/Time: Saturday\, May 6\, 6-8pm\nCost: $30 Teen / $45 Adult Del Ray Artisans member / $55 Adult Non-member\, plus a $10 supply fee\nClass size: 10-20 participants\n(Register by May 2) \nHoney\, I shrunk the art!! Join in for a teen focused\, family friendly hands on Shrinky Dinks Charms workshop. participants will create designs on shrinkable polystyrene\, heat them until they shrink to about a third of their original size\, and then glaze them with a UV resin. These can then be made into backpack charms\, keyrings\, earrings\, necklaces\, bracelets and more! Small works bring big fun! \nParticipants will create miniature works of art using shrinkable polystyrene and use jewelry findings and small hand tools to craft small personal art objects. All supplies and tools are provided. \nRegister Now \n\nSTEAM-tastic @ DRA – Come join us at Del Ray Artisans for interactive classes about Science\, Technology\, Engineering\, Arts and Math (STEAM)\, taught by professionals from each field. The discount ticket price per child is made possible with support from the City of Alexandria through the FY2026 Annual Arts Program Grant.\n \n\nView information about the facility and policies at the bottom of the Youth and Family-Friendly Programs page.
URL:https://delrayartisans.org/event/shrinky-dink-charms/
LOCATION:Del Ray Artisans Gallery\, 2704 Mount Vernon Avenue\, Alexandria\, VA\, 22301\, United States
CATEGORIES:Program,Workshop,Youth
ATTACH;FMTTYPE=image/jpeg:https://delrayartisans.org/wp-content/uploads/2026/03/Shrinky-Dinks-by-Viki-Walchak.jpg
ORGANIZER;CN="Tracy Wilkerson%2C Programs Director":MAILTO:programs@delrayartisans.org
END:VEVENT
BEGIN:VEVENT
DTSTART;TZID=America/New_York:20260510T100000
DTEND;TZID=America/New_York:20260510T130000
DTSTAMP:20260422T203357
CREATED:20260409T183244Z
LAST-MODIFIED:20260417T190437Z
UID:10002224-1778407200-1778418000@delrayartisans.org
SUMMARY:Junk Journaling Workshop (Register by 5/6)
DESCRIPTION:Instructor: Azita R. Houshiar\nDate/Time: Sunday\, May 10\, 10am-1pm\nCost: $40 Del Ray Artisans member / $50 Non-member; plus $10 supply fee\nClass size: 5-12 participants\n(Register by May 6) \nCollage by Azita Houshiar\nCome to play and experiment freely\, and leave with pages started and ideas you can continue exploring long after the class ends. Junk Journaling blends the art of collage with the practice of journaling\, offering a playful\, low-pressure way to explore creativity without worrying about perfection. The emphasis is on curiosity\, intuition\, experimentation\, and discovering your own expressive style. \nIn this workshop\, you’ll learn practical techniques for collage\, layering\, and composition\, and receive guidance on using found paper\, packaging\, tags\, embellishments\, and everyday “junk” to create layered\, expressive journal pages that reflect your personal perspective and storytelling style. \nPlease bring your own journal. If you don’t have one yet\, high-quality paper will be provided so you can experiment and create during class. All other supplies will be included\, such as paper\, ephemera\, stickers\, tape\, glue\, and basic tools. You’re also welcome to bring old photographs\, mementos\, or personal collage materials you enjoy using\, especially items that hold meaning for you. \nThis beginner-friendly class is open to teenagers and adults of all skill levels. \nRegister Now \n\nImage credit: Azita R. Houshiar \n\nView other upcoming workshops\, information about the facility\, and policies on the Upcoming Workshops page.
URL:https://delrayartisans.org/event/junk-journaling-2026-05/
LOCATION:Del Ray Artisans Gallery\, 2704 Mount Vernon Avenue\, Alexandria\, VA\, 22301\, United States
CATEGORIES:Program,Workshop
ATTACH;FMTTYPE=image/jpeg:https://delrayartisans.org/wp-content/uploads/2025/12/Azita-Houshiar-collage-square.jpg
ORGANIZER;CN="Tracy Wilkerson%2C Programs Director":MAILTO:programs@delrayartisans.org
END:VEVENT
BEGIN:VEVENT
DTSTART;TZID=America/New_York:20260517T100000
DTEND;TZID=America/New_York:20260517T120000
DTSTAMP:20260422T203357
CREATED:20260327T185142Z
LAST-MODIFIED:20260401T184512Z
UID:10002221-1779012000-1779019200@delrayartisans.org
SUMMARY:Applique for Mending and Decoration (Register by 5/13)
DESCRIPTION:Instructor: Syd Grossman\nDate/Time: Sunday\, May 17\, 10am to Noon\nCost: $25 per DRA member/$36 per non-member\nClass size: 5-15 participants\n(Register by May 13) \nApplique is the process of applying material to the surface of another material for decoration (or mending!). Learn how to hand-sew patches onto ripped or worn areas\, or to decorate clothes. \nApplique was originally used as a way to strengthen clothing and moved into artistic endeavors with quilting\, banners\, wall hangings and more! This practice transcends cultures and can be found in examples around the world throughout time. \nWe will go through the process of choosing the best fabrics for your item and hand-sew the patches on. The applique patches will be simple\, but examples will be available for how you can create art out of a variety of shapes. \nIdeas for clothing or items to bring are: Shirts with logos you’d like to cover\, pants with wear or rips in the knees\, a jacket you’d like to personalize. \nRegister Now \n\nImage credit: Syd Grossman \n\nSTEAM-tastic @ DRA – Come join us at Del Ray Artisans for interactive classes about Science\, Technology\, Engineering\, Arts and Math (STEAM)\, taught by professionals from each field! Geared toward youth\, each lesson has a short talk or demonstration and a hands-on craft project. Del Ray Artisans’ STEAM-tastic workshops are made possible with support from the City of Alexandria through the FY2026 Annual Arts Program Grant.\n \n\nView other upcoming workshops\, information about the facility\, and policies on the Upcoming Workshops page.
URL:https://delrayartisans.org/event/applique/
LOCATION:Del Ray Artisans Gallery\, 2704 Mount Vernon Avenue\, Alexandria\, VA\, 22301\, United States
CATEGORIES:Program,Workshop
ATTACH;FMTTYPE=image/jpeg:https://delrayartisans.org/wp-content/uploads/2026/03/Syd-Applique.jpg
ORGANIZER;CN="Syd Grossman%2C Radical Sewing Club-ALX":MAILTO:radicalsewingclubalx@pm.me
END:VEVENT
BEGIN:VEVENT
DTSTART;TZID=America/New_York:20260523T100000
DTEND;TZID=America/New_York:20260523T120000
DTSTAMP:20260422T203357
CREATED:20260211T221859Z
LAST-MODIFIED:20260403T203922Z
UID:10002199-1779530400-1779537600@delrayartisans.org
SUMMARY:Neurographic Art Workshop - Teen edition! (Register by 5/20)
DESCRIPTION:Instructor: Morgan Parr\nDate/Time: Saturday\, May 23\, 10am – noon\nCost: $15 per teen; plus $5 supply fee\nClass size: 4-24 participants\n(Register by May 20) \nYou don’t have to be an artist to make art with Neurographic Art. A neuron is a cell that carries messages between the brain and other parts of our body and that is the basic unit of our central nervous system. Graphic is the artistic use of pictures\, shapes and words. This activity helps you to connect with the art making process and allows your mind to relax. \nThis workshop is for participants aged 13-19 years old. All supplies are included in the supply fee. \nRegister Now \n\nImage credit: Neurographic art by Morgan Parr \n\nSTEAM-tastic @ DRA – Come join us at Del Ray Artisans for interactive classes about Science\, Technology\, Engineering\, Arts and Math (STEAM)\, taught by professionals from each field! Geared toward youth\, each lesson has a short talk or demonstration and a hands-on craft project. Del Ray Artisans’ STEAM-tastic workshops are made possible with support from the City of Alexandria through the FY2026 Annual Arts Program Grant.\n \n\nView other upcoming workshops\, information about the facility\, and policies on the Upcoming Workshops page.
URL:https://delrayartisans.org/event/neurographic-art-teen-edition/
LOCATION:Del Ray Artisans Gallery\, 2704 Mount Vernon Avenue\, Alexandria\, VA\, 22301\, United States
CATEGORIES:Program,Workshop,Youth
ATTACH;FMTTYPE=image/jpeg:https://delrayartisans.org/wp-content/uploads/2024/09/Neurographic-art-by-Morgan-Parr-square.jpg
ORGANIZER;CN="Morgan Parr":MAILTO:rmorganparr@gmail.com
END:VEVENT
BEGIN:VEVENT
DTSTART;TZID=America/New_York:20260606T100000
DTEND;TZID=America/New_York:20260606T130000
DTSTAMP:20260422T203357
CREATED:20260409T185626Z
LAST-MODIFIED:20260417T190519Z
UID:10002225-1780740000-1780750800@delrayartisans.org
SUMMARY:Junk Journaling Workshop (Register by 6/2)
DESCRIPTION:Instructor: Azita R. Houshiar\nDate/Time: Saturday\, June 6\, 10am-1pm\nCost: $40 Del Ray Artisans member / $50 Non-member; plus $10 supply fee\nClass size: 5-12 participants\n(Register by June 2) \nCollage by Azita Houshiar\nCome to play and experiment freely\, and leave with pages started and ideas you can continue exploring long after the class ends. Junk Journaling blends the art of collage with the practice of journaling\, offering a playful\, low-pressure way to explore creativity without worrying about perfection. The emphasis is on curiosity\, intuition\, experimentation\, and discovering your own expressive style. \nIn this workshop\, you’ll learn practical techniques for collage\, layering\, and composition\, and receive guidance on using found paper\, packaging\, tags\, embellishments\, and everyday “junk” to create layered\, expressive journal pages that reflect your personal perspective and storytelling style. \nPlease bring your own journal. If you don’t have one yet\, high-quality paper will be provided so you can experiment and create during class. All other supplies will be included\, such as paper\, ephemera\, stickers\, tape\, glue\, and basic tools. You’re also welcome to bring old photographs\, mementos\, or personal collage materials you enjoy using\, especially items that hold meaning for you. \nThis beginner-friendly class is open to teenagers and adults of all skill levels. \nRegister Now \n\nImage credit: Azita R. Houshiar \n\nView other upcoming workshops\, information about the facility\, and policies on the Upcoming Workshops page.
URL:https://delrayartisans.org/event/junk-journaling-2026-06/
LOCATION:Del Ray Artisans Gallery\, 2704 Mount Vernon Avenue\, Alexandria\, VA\, 22301\, United States
CATEGORIES:Program,Workshop
ATTACH;FMTTYPE=image/jpeg:https://delrayartisans.org/wp-content/uploads/2025/12/Azita-Houshiar-collage-square.jpg
ORGANIZER;CN="Tracy Wilkerson%2C Programs Director":MAILTO:programs@delrayartisans.org
END:VEVENT
BEGIN:VEVENT
DTSTART;TZID=America/New_York:20260613T100000
DTEND;TZID=America/New_York:20260613T120000
DTSTAMP:20260422T203357
CREATED:20260409T190950Z
LAST-MODIFIED:20260417T190954Z
UID:10002226-1781344800-1781352000@delrayartisans.org
SUMMARY:Persian Mulberry Sweets: A No-Bake Confectionery Class
DESCRIPTION:Instructor: Azita R. Houshiar\nDate/Time: Saturday\, June 13\, 10am-12pm\nCost: $40 Del Ray Artisans member / $50 Non-member; plus $10 supply fee\nClass size: 4-20 participants\n(Register by June 9.) \nMore information and registration coming soon!  \n\nView other upcoming workshops\, information about the facility\, and policies on the Upcoming Workshops page.
URL:https://delrayartisans.org/event/persian-mulberry-sweets/
LOCATION:Del Ray Artisans Gallery\, 2704 Mount Vernon Avenue\, Alexandria\, VA\, 22301\, United States
CATEGORIES:Program,Workshop
ATTACH;FMTTYPE=image/jpeg:https://delrayartisans.org/wp-content/uploads/2026/04/Persian-Mulberry-by-Azita-Houshiar.jpg
ORGANIZER;CN="Tracy Wilkerson%2C Programs Director":MAILTO:programs@delrayartisans.org
END:VEVENT
BEGIN:VEVENT
DTSTART;TZID=America/New_York:20260621T180000
DTEND;TZID=America/New_York:20260621T210000
DTSTAMP:20260422T203357
CREATED:20260327T185804Z
LAST-MODIFIED:20260327T185855Z
UID:10002222-1782064800-1782075600@delrayartisans.org
SUMMARY:Playing with Resin Workshop
DESCRIPTION:Instructor: Tracy Wilkerson\, recycledworks@yahoo.com\nDate/Time: Sunday\, June 21\, 6-9pm\nCost: $40 Del Ray Artisans member / $50 Non-member; plus a $10 Supply Fee\nClass size: 6-12 participants\n(Register in advance to guarantee a spot; walk-ins welcome\, space permitting.) \nLearn the ins and outs of prepping for and mixing resin\, and how to use it as an adhesive\, a covering\, or the main medium. There’s lots of creative time during this 3-hour workshop… No need to rush\, which is one of the first lessons in using resin! All supplies are provided\, but feel free to bring personal embellishments for your piece(s). \nThis workshop does not get into using dyes with resin or building big molds to create one-of-a-kind resined tables (as seen on YouTube)\, but this workshop will provide you with a good understanding of how resin works so you can be bold enough to take the next steps in your creative interests. \nAlthough the class is listed for 3 hours\, you can leave once you have finished your creations. Some students finish very quickly while others take the whole 3 hours to create – there is plenty of time for each person to enjoy the creative process while not feeling rushed. You’ll leave your finished masterpiece(s) to set at the gallery at the end of the workshop\, and pick them up during gallery hours later in the week. \nThe workshop is designed for adults. Children ages 16-17 may participate with parental permission. Children ages 12-15 may participate only with a co-participating adult guardian (guardian must contact instructor in advance). \nRegistration coming soon!  \n\nView other upcoming workshops\, information about the facility and policies on the Upcoming Workshops page.
URL:https://delrayartisans.org/event/playing-with-resin-2026-06/
LOCATION:Del Ray Artisans Gallery\, 2704 Mount Vernon Avenue\, Alexandria\, VA\, 22301\, United States
CATEGORIES:Program,Workshop
ATTACH;FMTTYPE=image/jpeg:https://delrayartisans.org/wp-content/uploads/1992/12/playing-with-resin-vMKzOK.tmp.jpg
ORGANIZER;CN="Tracy Wilkerson":MAILTO:recycledworks@yahoo.com
END:VEVENT
BEGIN:VEVENT
DTSTART;TZID=America/New_York:20260705T100000
DTEND;TZID=America/New_York:20260705T130000
DTSTAMP:20260422T203357
CREATED:20260409T191147Z
LAST-MODIFIED:20260417T190538Z
UID:10002227-1783245600-1783256400@delrayartisans.org
SUMMARY:Junk Journaling Workshop (Register by 7/1)
DESCRIPTION:Instructor: Azita R. Houshiar\nDate/Time: Sunday\, July 5\, 10am-1pm\nCost: $40 Del Ray Artisans member / $50 Non-member; plus $10 supply fee\nClass size: 5-12 participants\n(Register by July 1) \nCollage by Azita Houshiar\nCome to play and experiment freely\, and leave with pages started and ideas you can continue exploring long after the class ends. Junk Journaling blends the art of collage with the practice of journaling\, offering a playful\, low-pressure way to explore creativity without worrying about perfection. The emphasis is on curiosity\, intuition\, experimentation\, and discovering your own expressive style. \nIn this workshop\, you’ll learn practical techniques for collage\, layering\, and composition\, and receive guidance on using found paper\, packaging\, tags\, embellishments\, and everyday “junk” to create layered\, expressive journal pages that reflect your personal perspective and storytelling style. \nPlease bring your own journal. If you don’t have one yet\, high-quality paper will be provided so you can experiment and create during class. All other supplies will be included\, such as paper\, ephemera\, stickers\, tape\, glue\, and basic tools. You’re also welcome to bring old photographs\, mementos\, or personal collage materials you enjoy using\, especially items that hold meaning for you. \nThis beginner-friendly class is open to teenagers and adults of all skill levels. \nRegistration coming soon! \n\nView other upcoming workshops\, information about the facility\, and policies on the Upcoming Workshops page.
URL:https://delrayartisans.org/event/junk-journaling-2026-07/
LOCATION:Del Ray Artisans Gallery\, 2704 Mount Vernon Avenue\, Alexandria\, VA\, 22301\, United States
CATEGORIES:Program,Workshop
ATTACH;FMTTYPE=image/jpeg:https://delrayartisans.org/wp-content/uploads/2025/12/Azita-Houshiar-collage-square.jpg
ORGANIZER;CN="Tracy Wilkerson%2C Programs Director":MAILTO:programs@delrayartisans.org
END:VEVENT
BEGIN:VEVENT
DTSTART;VALUE=DATE:20260706
DTEND;VALUE=DATE:20260711
DTSTAMP:20260422T203357
CREATED:20260403T202244Z
LAST-MODIFIED:20260417T191105Z
UID:10002223-1783296000-1783727999@delrayartisans.org
SUMMARY:5-day Figure Drawing Bootcamp (9am–3pm/day)
DESCRIPTION:Monday\, July 6 – Friday\, July 10\n9am–3pm each day\nMore information and registration coming soon!
URL:https://delrayartisans.org/event/figure-drawing-boot-camp-2026/
LOCATION:Del Ray Artisans Gallery\, 2704 Mount Vernon Avenue\, Alexandria\, VA\, 22301\, United States
CATEGORIES:Life Drawing,Program,Workshop
ATTACH;FMTTYPE=image/jpeg:https://delrayartisans.org/wp-content/uploads/2025/06/figure-drawing-bootcamp-2025.jpg
END:VEVENT
BEGIN:VEVENT
DTSTART;VALUE=DATE:20260713
DTEND;VALUE=DATE:20260725
DTSTAMP:20260422T203357
CREATED:20251231T140847Z
LAST-MODIFIED:20260305T212055Z
UID:10002140-1783900800-1784937599@delrayartisans.org
SUMMARY:Art Camp 2026 (Choose July 13–17 or July 20–24)
DESCRIPTION:Register Now \nDel Ray Artisans invites young campers ages 8-12 years old to Art Camp to spend a week creating art with professional local artist instruction. Students will have an immersive creative journey\, including painting\, sculpting\, journaling\, and STEAM-tastic activities that celebrate science and art. During nice weather\, kids will have outdoor time to get fresh air\, unwind\, and replenish their creative energy. All artist supplies are provided. Students must bring their own lunches. Thank you to MCD Mateos McDonald’s for their generous donation of cookie treats on the last day of each camp. \nChoose Week One (July 13–17) or Week Two (July 20–24).\nCamp runs Monday through Friday from 9am-4pm.\nFor Ages: 8-12 (class size limited to 15 children per week)\nCost: $350 per child\nScholarship support is available; contact Gallery@DelRayArtisans.org for an application. \n \nArt Camp will be at the Del Ray Artisans gallery in the Colasanto Center\, 2704 Mount Vernon Avenue\, Alexandria\, VA 22301. The gallery is accessible. For more information\, contact the Art Camp Administrator at ArtCamp@DelRayArtisans.org\, Viki Walchak (Youth Programs Director) at Youth@DelRayArtisans.org and Anna Sherlock (Office Manager) at Gallery@DelRayArtisans.org. \nRegistration\nChoose one of the following schedule options: \n\n\n\nWEEK ONE: July 13–17\, 2026 from 9am-4pm daily\n\nWEEK TWO: July 20–24\, 2026 from 9am-4pm daily\n\n\n\nWalk-ins are NOT allowed. You must register in advance. Cost is $350/child. Your application is not complete until the registration form is filled out\, payment is received\, and your schedule choice is confirmed by the Youth Programs Director\, Art Camp Administrator\, or Office Manager. You may pay with cash\, check\, or credit card at the gallery or by credit card online (instructions in the application). \nRegister Now \n\nSponsor a Camper\nEvery year Del Ray Artisans offers scholarships to children who cannot otherwise afford to attend this magical camp. Interested in sponsoring a camper? Your donation will help send a youth to camp. Thank you for your support. \nDonate Now \n\nDel Ray Artisans’ Youth Art Programs are made possible with support from the City of Alexandria through the FY2026 Annual Arts Program Grant and through a generous donation from Genesis Inspiration Foundation.
URL:https://delrayartisans.org/event/art-camp-2026/
LOCATION:Del Ray Artisans Gallery\, 2704 Mount Vernon Avenue\, Alexandria\, VA\, 22301\, United States
CATEGORIES:Art Camp,Creative Summer Programs,Program,Workshop,Youth
ATTACH;FMTTYPE=image/jpeg:https://delrayartisans.org/wp-content/uploads/2025/01/youth-art-camp-square.jpg
ORGANIZER;CN="Office Manager":MAILTO:Gallery@DelRayArtisans.org
END:VEVENT
END:VCALENDAR