BEGIN:VCALENDAR
VERSION:2.0
PRODID:-//Del Ray Artisans - ECPv6.15.20//NONSGML v1.0//EN
CALSCALE:GREGORIAN
METHOD:PUBLISH
X-ORIGINAL-URL:https://delrayartisans.org
X-WR-CALDESC:Events for Del Ray Artisans
REFRESH-INTERVAL;VALUE=DURATION:PT1H
X-Robots-Tag:noindex
X-PUBLISHED-TTL:PT1H
BEGIN:VTIMEZONE
TZID:America/New_York
BEGIN:DAYLIGHT
TZOFFSETFROM:-0500
TZOFFSETTO:-0400
TZNAME:EDT
DTSTART:20250309T070000
END:DAYLIGHT
BEGIN:STANDARD
TZOFFSETFROM:-0400
TZOFFSETTO:-0500
TZNAME:EST
DTSTART:20251102T060000
END:STANDARD
BEGIN:DAYLIGHT
TZOFFSETFROM:-0500
TZOFFSETTO:-0400
TZNAME:EDT
DTSTART:20260308T070000
END:DAYLIGHT
BEGIN:STANDARD
TZOFFSETFROM:-0400
TZOFFSETTO:-0500
TZNAME:EST
DTSTART:20261101T060000
END:STANDARD
BEGIN:DAYLIGHT
TZOFFSETFROM:-0500
TZOFFSETTO:-0400
TZNAME:EDT
DTSTART:20270314T070000
END:DAYLIGHT
BEGIN:STANDARD
TZOFFSETFROM:-0400
TZOFFSETTO:-0500
TZNAME:EST
DTSTART:20271107T060000
END:STANDARD
END:VTIMEZONE
BEGIN:VEVENT
DTSTART;TZID=America/New_York:20260222T100000
DTEND;TZID=America/New_York:20260222T120000
DTSTAMP:20260422T233905
CREATED:20251114T220933Z
LAST-MODIFIED:20260214T025650Z
UID:10002042-1771754400-1771761600@delrayartisans.org
SUMMARY:Laurel Burch Inspired Horses Workshop (Family-friendly; Register ASAP)
DESCRIPTION:Instructor: Morgan Parr\nDate/Time: Sunday\, February 22\, 10am-12pm\nCost: $10 Child / $20 Del Ray Artisans member / $30 Non-member; plus $10 supply fee\nClass size: 1-20 participants\n(Register in advance; Walk-ins welcome only if space permits) \nExplore color\, pattern\, and expressive design in this hands-on workshop inspired by the joyful\, decorative style of artist Laurel Burch. Participants will create a stylized horse artwork using bold color\, repeated patterns\, strong outlines\, and metallic accents. \nStencils and pattern references are provided\, and no prior art experience is needed. \nThis hands-on workshop is open to adults\, teens\, and children ages 7-12 with an adult – families welcome! All materials included; participants leave with a finished artwork. The first 10 participants to register may take home a set of metallic markers at the end of the workshop. \nRegister Now  \n\nArtwork credit: Laurel Burch Inspired Horses by Morgan Parr \n\nSTEAM-tastic @ DRA – Come join us at Del Ray Artisans for interactive classes about Science\, Technology\, Engineering\, Arts and Math (STEAM)\, taught by professionals from each field. The discount ticket price per child is made possible with support from the City of Alexandria through the FY2026 Annual Arts Program Grant.\n \n\nView other upcoming workshops\, information about the facility\, and policies on the Upcoming Workshops page.
URL:https://delrayartisans.org/event/laurel-burch-inspired-horses/
LOCATION:Del Ray Artisans Gallery\, 2704 Mount Vernon Avenue\, Alexandria\, VA\, 22301\, United States
CATEGORIES:Program,Workshop,Youth
ATTACH;FMTTYPE=image/jpeg:https://delrayartisans.org/wp-content/uploads/2025/12/Laurel-Burch-Inspired-Horses-by-Morgan-Parr-square.jpg
ORGANIZER;CN="Morgan Parr":MAILTO:rmorganparr@gmail.com
END:VEVENT
END:VCALENDAR