BEGIN:VCALENDAR
VERSION:2.0
PRODID:-//Del Ray Artisans - ECPv6.15.20//NONSGML v1.0//EN
CALSCALE:GREGORIAN
METHOD:PUBLISH
X-WR-CALNAME:Del Ray Artisans
X-ORIGINAL-URL:https://delrayartisans.org
X-WR-CALDESC:Events for Del Ray Artisans
REFRESH-INTERVAL;VALUE=DURATION:PT1H
X-Robots-Tag:noindex
X-PUBLISHED-TTL:PT1H
BEGIN:VTIMEZONE
TZID:America/New_York
BEGIN:DAYLIGHT
TZOFFSETFROM:-0500
TZOFFSETTO:-0400
TZNAME:EDT
DTSTART:20250309T070000
END:DAYLIGHT
BEGIN:STANDARD
TZOFFSETFROM:-0400
TZOFFSETTO:-0500
TZNAME:EST
DTSTART:20251102T060000
END:STANDARD
BEGIN:DAYLIGHT
TZOFFSETFROM:-0500
TZOFFSETTO:-0400
TZNAME:EDT
DTSTART:20260308T070000
END:DAYLIGHT
BEGIN:STANDARD
TZOFFSETFROM:-0400
TZOFFSETTO:-0500
TZNAME:EST
DTSTART:20261101T060000
END:STANDARD
BEGIN:DAYLIGHT
TZOFFSETFROM:-0500
TZOFFSETTO:-0400
TZNAME:EDT
DTSTART:20270314T070000
END:DAYLIGHT
BEGIN:STANDARD
TZOFFSETFROM:-0400
TZOFFSETTO:-0500
TZNAME:EST
DTSTART:20271107T060000
END:STANDARD
END:VTIMEZONE
BEGIN:VEVENT
DTSTART;TZID=America/New_York:20260211T180000
DTEND;TZID=America/New_York:20260211T210000
DTSTAMP:20260422T233648
CREATED:20251114T220545Z
LAST-MODIFIED:20260101T220617Z
UID:10002040-1770832800-1770843600@delrayartisans.org
SUMMARY:Dime Store Alchemy: Make a Found Object Poetry Box (Register by 2/7)
DESCRIPTION:Instructor: Viki Walchak\, vwalchak@yahoo.com\nDate/Time: Wednesday\, February 11\, 6-9pm\nCost: $55 Del Ray Artisans member / $65 Non-member; plus a $10 Supply Fee\nClass size: 6-12 participants\n(Register by February 7) \nIn the spirit of Joseph Cornell\, a 20th century artist inspired by the poetry of found objects rearranged into evocative tableaus\, participants will craft small inventive shadow boxes. A variety of mixed media and assemblage techniques will be introduced. This will be an opportunity to creatively explore memories\, dreams and personal visions or give tribute to a friend or family member. It is a great way to practice intuitive art making skills and mine your personal and collective unconscious for insights and wisdom. \nParticipants will look at examples of Joseph Cornell’s assemblages and learn a bit about his motivations and techniques before crafting a shadowbox of their own design. Various mixed-media\, collage and assemblage techniques will be discussed and demonstrated. Materials\, wooden boxes and small hand tools will be provided\, but participants are invited to bring in small bits of ephemera from their personal spaces too. Old cards\, stamps\, small objects\, prints\, broken electronics and such can all be intriguingly arranged using this art-making approach. \nAll materials and tools will be provided\, but participants are encouraged to bring their own collection of small objects and ephemera too. \nRegister Now \n\nView other upcoming workshops\, information about the facility and policies on the Upcoming Workshops page.
URL:https://delrayartisans.org/event/dime-store-alchemy-2026-2/
LOCATION:Del Ray Artisans Gallery\, 2704 Mount Vernon Avenue\, Alexandria\, VA\, 22301\, United States
CATEGORIES:Program,Workshop
ATTACH;FMTTYPE=image/jpeg:https://delrayartisans.org/wp-content/uploads/2025/06/Poetry-box-by-Viki-Walchak.jpg
ORGANIZER;CN="Tracy Wilkerson%2C Programs Director":MAILTO:programs@delrayartisans.org
END:VEVENT
END:VCALENDAR