BEGIN:VCALENDAR
VERSION:2.0
PRODID:-//Del Ray Artisans - ECPv6.15.20//NONSGML v1.0//EN
CALSCALE:GREGORIAN
METHOD:PUBLISH
X-ORIGINAL-URL:https://delrayartisans.org
X-WR-CALDESC:Events for Del Ray Artisans
REFRESH-INTERVAL;VALUE=DURATION:PT1H
X-Robots-Tag:noindex
X-PUBLISHED-TTL:PT1H
BEGIN:VTIMEZONE
TZID:America/New_York
BEGIN:DAYLIGHT
TZOFFSETFROM:-0500
TZOFFSETTO:-0400
TZNAME:EDT
DTSTART:20250309T070000
END:DAYLIGHT
BEGIN:STANDARD
TZOFFSETFROM:-0400
TZOFFSETTO:-0500
TZNAME:EST
DTSTART:20251102T060000
END:STANDARD
BEGIN:DAYLIGHT
TZOFFSETFROM:-0500
TZOFFSETTO:-0400
TZNAME:EDT
DTSTART:20260308T070000
END:DAYLIGHT
BEGIN:STANDARD
TZOFFSETFROM:-0400
TZOFFSETTO:-0500
TZNAME:EST
DTSTART:20261101T060000
END:STANDARD
BEGIN:DAYLIGHT
TZOFFSETFROM:-0500
TZOFFSETTO:-0400
TZNAME:EDT
DTSTART:20270314T070000
END:DAYLIGHT
BEGIN:STANDARD
TZOFFSETFROM:-0400
TZOFFSETTO:-0500
TZNAME:EST
DTSTART:20271107T060000
END:STANDARD
END:VTIMEZONE
BEGIN:VEVENT
DTSTART;TZID=America/New_York:20260126T183000
DTEND;TZID=America/New_York:20260126T203000
DTSTAMP:20260423T024419
CREATED:20251114T215214Z
LAST-MODIFIED:20260121T001449Z
UID:10002038-1769452200-1769459400@delrayartisans.org
SUMMARY:POSTPONED: Advanced Resin Techniques Lecture
DESCRIPTION:This workshop will be offered again by the instructor at a later date. \nPresenter: Tracy Wilkerson\, recycledworks@yahoo.com\nDate/Time: Monday\, January 26\, 6:30-8:30pm\nCost: $20 Del Ray Artisans member / $30 Non-member\nClass size: 7-20 participants\n(Register by January 22) \nDo you like working with resin but want to get a little more creative? In this class\, we will discuss advanced resin techniques such as layering\, tilting\, building in three dimensions\, adding lights\, and more. The instructor will show physical examples of these techniques and discuss what to be aware of when using each technique. There will be time for questions and discussions during the class. This class will NOT cover resin dyes or pigment powder usage\, but will touch on other possible additions to resin (such as glitter and alcohol inks). \nYou must already know how to use resin before taking this class. This is a lecture rather than a hands-on workshop\, so registrants will not be creating anything during the class. \n \n\nView other upcoming workshops\, information about the facility and policies on the Upcoming Workshops page.
URL:https://delrayartisans.org/event/advanced-resin-techniques-2026-1/
LOCATION:Del Ray Artisans Gallery\, 2704 Mount Vernon Avenue\, Alexandria\, VA\, 22301\, United States
CATEGORIES:Program,Workshop
ATTACH;FMTTYPE=image/jpeg:https://delrayartisans.org/wp-content/uploads/2024/07/Tracy-Wilkerson-Advanced-Resin-Techniques.jpg
ORGANIZER;CN="Tracy Wilkerson":MAILTO:recycledworks@yahoo.com
END:VEVENT
END:VCALENDAR