BEGIN:VCALENDAR
VERSION:2.0
PRODID:-//Del Ray Artisans - ECPv6.15.20//NONSGML v1.0//EN
CALSCALE:GREGORIAN
METHOD:PUBLISH
X-WR-CALNAME:Del Ray Artisans
X-ORIGINAL-URL:https://delrayartisans.org
X-WR-CALDESC:Events for Del Ray Artisans
REFRESH-INTERVAL;VALUE=DURATION:PT1H
X-Robots-Tag:noindex
X-PUBLISHED-TTL:PT1H
BEGIN:VTIMEZONE
TZID:America/New_York
BEGIN:DAYLIGHT
TZOFFSETFROM:-0500
TZOFFSETTO:-0400
TZNAME:EDT
DTSTART:20240310T070000
END:DAYLIGHT
BEGIN:STANDARD
TZOFFSETFROM:-0400
TZOFFSETTO:-0500
TZNAME:EST
DTSTART:20241103T060000
END:STANDARD
BEGIN:DAYLIGHT
TZOFFSETFROM:-0500
TZOFFSETTO:-0400
TZNAME:EDT
DTSTART:20250309T070000
END:DAYLIGHT
BEGIN:STANDARD
TZOFFSETFROM:-0400
TZOFFSETTO:-0500
TZNAME:EST
DTSTART:20251102T060000
END:STANDARD
BEGIN:DAYLIGHT
TZOFFSETFROM:-0500
TZOFFSETTO:-0400
TZNAME:EDT
DTSTART:20260308T070000
END:DAYLIGHT
BEGIN:STANDARD
TZOFFSETFROM:-0400
TZOFFSETTO:-0500
TZNAME:EST
DTSTART:20261101T060000
END:STANDARD
END:VTIMEZONE
BEGIN:VEVENT
DTSTART;TZID=America/New_York:20251018T100000
DTEND;TZID=America/New_York:20251018T123000
DTSTAMP:20260423T084050
CREATED:20250611T194915Z
LAST-MODIFIED:20251015T165147Z
UID:10001889-1760781600-1760790600@delrayartisans.org
SUMMARY:CANCELLED: STEAM-tastic: Haunted Mansion
DESCRIPTION:This workshop has been cancelled. Join us for our other Youth Programs. Register in advance for workshops so instructors can plan. \nInstructor: Morgan Parr\nDate/Time: Saturday\, October 18\, 10am-12:30pm\nCost: $25 child / $40 adult; plus a $10 Supply Fee\nClass size: 3-15 participants\n(Register by October 14) \nGet into the spirit of the season with a STEAM-powered haunted house build! Design and construct your own cardboard mansion\, then transform it into a spooky architectural scene with a moon-lit sky\, creepy cobwebs\, flapping bats\, and eerie textures. \nThis fall-themed\, hands-on project blends art\, engineering\, and storytelling\, encouraging participants to explore 3D construction\, light and shadow\, and thematic scene creation. Learn about structural design\, textural contrast\, and how to bring a haunted world to life using mixed media and recycled materials. \nThis family-friendly workshop is suitable for all ages—including children under 12. All materials are provided\, but you’re welcome to bring your own spooky stickers\, textured papers\, or embellishments! \nRegister Now \n  \n\nSTEAM-tastic @ DRA – Come join us at Del Ray Artisans for interactive classes about Science\, Technology\, Engineering\, Arts and Math (STEAM)\, taught by professionals from each field! Geared toward youth\, each lesson has a short talk or demonstration and a hands-on craft project. Del Ray Artisans’ STEAM-tastic workshops are made possible with support from the City of Alexandria through the FY2026 Annual Arts Program Grant.\n \n\nView other upcoming workshops\, information about the facility\, and policies on the Upcoming Workshops page.
URL:https://delrayartisans.org/event/steam-haunted-mansion/
LOCATION:Del Ray Artisans Gallery\, 2704 Mount Vernon Avenue\, Alexandria\, VA\, 22301\, United States
CATEGORIES:Program,Workshop,Youth
ATTACH;FMTTYPE=image/jpeg:https://delrayartisans.org/wp-content/uploads/2025/06/STEAM-Haunted-House-Morgan-Parr.jpg
ORGANIZER;CN="Morgan Parr":MAILTO:rmorganparr@gmail.com
END:VEVENT
END:VCALENDAR