BEGIN:VCALENDAR
VERSION:2.0
PRODID:-//Del Ray Artisans - ECPv6.15.20//NONSGML v1.0//EN
CALSCALE:GREGORIAN
METHOD:PUBLISH
X-WR-CALNAME:Del Ray Artisans
X-ORIGINAL-URL:https://delrayartisans.org
X-WR-CALDESC:Events for Del Ray Artisans
REFRESH-INTERVAL;VALUE=DURATION:PT1H
X-Robots-Tag:noindex
X-PUBLISHED-TTL:PT1H
BEGIN:VTIMEZONE
TZID:America/New_York
BEGIN:DAYLIGHT
TZOFFSETFROM:-0500
TZOFFSETTO:-0400
TZNAME:EDT
DTSTART:20240310T070000
END:DAYLIGHT
BEGIN:STANDARD
TZOFFSETFROM:-0400
TZOFFSETTO:-0500
TZNAME:EST
DTSTART:20241103T060000
END:STANDARD
BEGIN:DAYLIGHT
TZOFFSETFROM:-0500
TZOFFSETTO:-0400
TZNAME:EDT
DTSTART:20250309T070000
END:DAYLIGHT
BEGIN:STANDARD
TZOFFSETFROM:-0400
TZOFFSETTO:-0500
TZNAME:EST
DTSTART:20251102T060000
END:STANDARD
BEGIN:DAYLIGHT
TZOFFSETFROM:-0500
TZOFFSETTO:-0400
TZNAME:EDT
DTSTART:20260308T070000
END:DAYLIGHT
BEGIN:STANDARD
TZOFFSETFROM:-0400
TZOFFSETTO:-0500
TZNAME:EST
DTSTART:20261101T060000
END:STANDARD
END:VTIMEZONE
BEGIN:VEVENT
DTSTART;TZID=America/New_York:20250622T180000
DTEND;TZID=America/New_York:20250622T210000
DTSTAMP:20260423T191814
CREATED:20250406T222032Z
LAST-MODIFIED:20250623T160016Z
UID:10001809-1750615200-1750626000@delrayartisans.org
SUMMARY:CANCELED: Make a Maritime Mobile Workshop
DESCRIPTION:This workshop has been canceled. \nInstructor: Susan Fitter Harris\nDate/Time: Sunday\, June 22\, 6-9pm\nCost: $35 Del Ray Artisans member / $45 Non-member; Plus $10 Supply Fee\nClass size: 5-10 participants\n(Register by June 19) \nIn this three-hour workshop\, we will take to the seas with a variety of ocean creatures that you can turn into a kinetic sculpture all on your own. You will be able to select and decorate pre-cut wooden shapes and then learn the basics of how to construct a mobile with their artwork. We will explain how to start building your mobile from the bottom up and find the right balance as you add each new piece. \nAll supplies are included in the supply fee\, but you may bring your own wire bending pliers\, if you have them. \n \n\nView other upcoming workshops\, information about the facility\, and policies on the Upcoming Workshops page.
URL:https://delrayartisans.org/event/maritime-mobile/
LOCATION:Del Ray Artisans Gallery\, 2704 Mount Vernon Avenue\, Alexandria\, VA\, 22301\, United States
CATEGORIES:Creative Summer Programs,Program,Workshop
ATTACH;FMTTYPE=image/jpeg:https://delrayartisans.org/wp-content/uploads/2025/04/Mobile-by-SusanFitterHarris.jpg
ORGANIZER;CN="Susan Fitter Harris":MAILTO:susanfitterharris@gmail.com
END:VEVENT
END:VCALENDAR